{"text_format":"1","workbook":"xlsx","n_sheets":7,"sheets":["Introduction","E","A","B","C","D","Summary"],"not_rendered":{"charts":3,"images":1,"macros":1,"external_links":1,"defined_names":143,"comments":6,"pivot_tables":0},"unopened":[],"bounds":{"document_bytes":16777216,"sheet_cells":100000,"rows_first":2000,"rows_last":500,"rows_between":2000,"halvings":0,"cell_chars":16384,"cell_head_chars":4096},"cells_cut":0,"cells_raw":0,"read":"whole","date_system":"1900"}

{"sheet":"Introduction","index":0,"n_rows":60,"n_cols":15,"rows_kept":60,"cut":false,"hidden":false,"merged":[[0,8,1,20],[0,0,1,7]]}
["Crop Nutrient Response Tool (CNRT)"]
[]
[null,"This evaluation tool was designed to assist in interpretation and record-keeping for on-farm field crop trials involving multiple rates of any added nutrient."]
[null,"Its main goal is to provide the best possible estimate of \"optimum rate\" for a single-year response - the maximum rate at which it is profitable to apply a purchased nutrient - from limited data."]
[null,"The optimum rate is calculated without regard to residual effects on subsequent crops.  The analysis is therefore more useful for mobile nutrients like nitrogen and less applicable to soil-retained nutrients like phosphate and potash."]
[null,"It can also function as a record-keeping tool.  The summary worksheet provides a single-row storage for a thousand or more site-years."]
[null,"For best results, trials should have at least four rates, and one of them should be zero or less than 25% of the highest rate applied."]
[null,"MERNs are calculated from fitted curves without assessment of statistical significance.  The probability that they do not differ from zero is not calculated."]
[null,"Interpretation should NOT be based on calculated MERN alone.  It SHOULD include visual inspection of the relation of the fitted curve to the original data, and knowledge of data reliability."]
[null,"For computers without the Solver add-in, or if the \"Fit\" macro will not run, the response curves can be fit manually by tweaking the ABC coefficients for a good visual fit and maximum R-square."]
[null,"Note that cells with formulas are locked for protection.  Password to unprotect is \"ipni\"."]
[null,"Version 4.5 - May 2013 - assigns a weight of zero to the curve of lowest R-square, 1 to the curve with the highest, and intermediate weights to those in between"]
[]
[null,"Equation Form:",null,"R = price ratio (bushels of grain per pound of fertilizer nutrient); Y = Yield (bu/A); X = Rate of nutrient applied (lb/A)"]
[null,null,"Quadratic (Q):","Y = A + BX + CXX",null,null,null,null,null,null,"MERN = (R-B)/(2C) ",null,null,null,"A = intercept; B = initial slope; C = curvature"]
[null,null,"Quadratic Plateau (QP):","Y = A + BX + CXX when X<B/-2C; otherwise Y=A + BB/-2C + BB/4C",null,null,null,null,null,null,"MERN = (R-B)/(2C) ",null,null,null,"A = intercept; B = initial slope; C = curvature"]
[null,null,"Mitscherlich (M):","Y = A + Bexp(CX)",null,null,null,null,null,null,"MERN = (1/C)*ln(R/(B*C)) ",null,null,null,"A = maximum yield; B = intercept minus maximum; C = curvature"]
[null,null,"Linear-Plateau (LP):","Y = A + BX when X < (C - A)/B; otherwise Y = C ",null,null,null,null,null,null,"MERN = (C-A)/B if B>R; else MERN = 0",null,null,null,"A = intercept; B = slope; C = maximum yield"]
[null,null,"Spherical-plateau (S):","Y = A + B(3X/(2C) - 0.5(X/C)^3) where X < C; otherwise Y = A + B",null,null,null,null,null,null,"MERN = SQRT(C^2 - 2*BR*C^3/(3*B))",null,null,null,"A = intercept; B = maximum minus intercept; C = minimum rate for maximum yield"]
[null,null,"When responses are near linear, the quadratic and linear-plateau models will become close to linear models."]
[]
[null,"Moisture and Quality of Harvested Crop:"]
[null,null,"To account for the value of differences in moisture or quality that result among applied rate treatments, convert their cash cost or value into units of yield and make appropriate adjustments to the yield data entered."]
[]
[null,"Credits:","This spreadsheet was developed by Dr. TW Bruulsema, in consultation with Dr. TS Murrell,  IPNI Northcentral Director."]
[]
[null,"Contact:","Tom Bruulsema, PhD, CCA"]
[null,null,"Director, Northeast Region, North America Program "]
[null,null,"International Plant Nutrition Institute"]
[null,null,"18 Maplewood Drive"]
[null,null,"Guelph, Ontario, Canada  N1G 1L8"]
[null,null,"cell: (519) 835-2499"]
[null,null,"email: Tom.Bruulsema@ipni.net"]
[null,null,"http://www.ipni.net/cnrt"]
[]
[]
[]
[null,"Lists: these are used for drop-down menus in some of the site information fields."]
[]
[null,"Previous Crop",null,null,null,"Soil Texture",null,null,"Tillage",null,null,"Application Timing"]
[]
[null,"Barley",null,null,null,"Clay",null,null,"no-till",null,null,"preplant surface"]
[null,"Edible Beans",null,null,null,"Clay loam",null,null,"conservation-till",null,null,"preplant incorporated"]
[null,"Forage <33% legume",null,null,null,"Heavy Clay",null,null,"spring chisel",null,null,"broadcast preemerge"]
[null,"Forage 30-50% leg",null,null,null,"Loam",null,null,"spring moldboard",null,null,"sidedress surface"]
[null,"Forage >50% legume",null,null,null,"Loamy Sand",null,null,"fall chisel",null,null,"sidedress injected"]
[null,"Grain Corn",null,null,null,"Sand",null,null,"fall moldboard",null,null,"NA"]
[null,"Oats",null,null,null,"Sandy Clay",null,null,"conventional"]
[null,"Silage Corn",null,null,null,"Sandy Clay loam",null,null,"NA"]
[null,"Soybeans",null,null,null,"Sandy loam"]
[null,"Wheat",null,null,null,"Silt loam"]
[null,"Wheat-clover",null,null,null,"Silty Clay"]
[null,"Cereal-clover",null,null,null,"Silty Clay loam"]
[null,"NA",null,null,null,"NA"]
[]
[]
[]
[null,"References:"]
[null,"Bruulsema, TW, PE Fixen, and CS Snyder. 2004. Fertilizer Nutrient Recovery in Sustainable Cropping Systems. "]
[null,"Snyder, CS, and TW Bruulsema. 2007. Nutrient Use Efficiency and Effectiveness in North America: Indices of Agronomic and Environmental Benefit"]

{"sheet":"E","index":1,"n_rows":31,"n_cols":9,"rows_kept":31,"cut":false,"hidden":false,"merged":[[4,0,4,1],[5,0,5,1],[1,3,3,3],[1,4,3,4],[0,7,0,8],[1,7,3,7],[1,8,3,8],[0,1,0,6],[1,0,1,1],[1,2,3,2],[1,5,3,5],[2,0,2,1],[3,0,3,1]]}
[null,"Crop Nutrient Response Tool (CNRT) v4.6 comparison mode",null,null,null,null,null,"R2-weighted Mean"]
["Step 1: Enter rate and yield data.",null,"Fertilizer rate, lb/A","Crop  Yield, bu/A","Fertilizer rate, lb/A","Crop  Yield, bu/A",null,"A","B"]
["Step 2: Click the Fit button."]
["Step 3: Adjust crop and fertilizer prices."]
["Step 4: Click to append information to summary.",null,0,40,0,75,"R2:",{"$f":"AVERAGE(A!G5:K5)","v":0.99621753678060654},{"$f":"AVERAGE(B!G5:K5)","v":0.99734085763688751}]
["Site Details",null,30,70,30,105,"MERN (lb/A):",{"$f":"A!F6","v":188.66010026437084},{"$f":"B!F6","v":165.75182996574563}]
["Site",null,90,120,90,155,"Yield @ MERN (bu/A)",{"$f":"A!F7","v":168.88919588507363},{"$f":"B!F7","v":188.30968546780824}]
["Year",null,120,140,120,175,"Partial Factor Productivity (PFP), bu/lb",{"$f":"A!F8","v":0.89520357324313893},{"$f":"B!F8","v":1.1360941565877398}]
["Town",null,150,160,150,185,"Agronomic Efficiency (AE), bu/lb",{"$f":"A!F9","v":0.68302641889471705},{"$f":"B!F9","v":0.68374193754407886}]
["County",null,180,170,180,{"$f":"D10+20","v":190},"Estimated Partial N Balance (PNB), %",{"$f":"A!F10","v":0.58188232260804029},{"$f":"B!F10","v":0.7384612017820309}]
["State or province",null,210,171,210,191,"Estimated Recovery Efficiency (RE), %",{"$f":"A!F11","v":0.66661737579814717},{"$f":"B!F11","v":0.66731570481028712}]
[null,null,240,169,240,189,"Delta Yield (bu/A)",{"$f":"A!F12","v":128.85983267189147},{"$f":"B!F12","v":113.33147737225562}]
["A",null,null,null,null,null,"Relative Yield (%)",{"$f":"A!F13","v":0.23701553556108765},{"$f":"B!F13","v":0.39816437433522361}]
["B",null,null,null,null,null,null,null,{"$f":"B!F14","v":0}]
[]
[]
[]
[]
[]
[]
[]
[]
[]
[]
[]
["ESSENTIAL INFORMATION"]
["Crop ($/bu)",4]
["Fertilizer ($/lb)",0.5]
["Price ratio (f/c)",{"$f":"B28/B27","v":0.125}]
["Crop nutrient content (lb/bu)",0.65]
["Nutrient harvest index",0.66600000000000004]

{"sheet":"A","index":2,"n_rows":44,"n_cols":11,"rows_kept":44,"cut":false,"hidden":false,"merged":[[5,0,5,1],[4,0,4,1],[0,1,0,4],[1,2,3,2],[1,3,3,3],[1,0,1,1],[3,0,3,1],[2,0,2,1]]}
[null,"Crop Nutrient Response Tool (CNRT) v4.5",null,null,null,"R2-weighted Mean","Quadratic (Q)","Quadratic- Plateau (QP)","Mitscherlich (M)","Linear-Plateau (LP)","Spherical (SP)"]
["Step 1: Enter rate and yield data.",null,"Fertilizer rate, lb/A","Crop  Yield, bu/A","A:",null,37.963117579006209,38.095868700180077,188.89754385871265,43.720956789283242,40.28930003735644]
["Step 2: Click the Fit button.",null,null,null,"B:",null,1.1840651338980446,1.1790377369235758,-151,0.79844829470802292,130.46065898838071]
["Step 3: Adjust crop and fertilizer prices.",null,null,null,"C:",null,-2.6191386982355948E-3,-2.5990970731378429E-3,-9.6666071438448672E-3,169.99984713439568,204.14134109102901]
["Step 4: Click to append information to summary.",null,{"$f":"IF(ISNUMBER(E!C5),E!C5,\"\")","v":0},{"$f":"IF(ISNUMBER(E!D5),E!D5,\"\")","v":40},"R2:",null,{"$f":"IF(ISERROR(1-((SUM('C'!G5:G44)/COUNT('C'!G5:G44))/VAR($D5:$D44))),\"no data\",1-((SUM('C'!G5:G44)/COUNT('C'!G5:G44))/VAR($D5:$D44)))","v":0.99739005912836309},{"$f":"IF(ISERROR(1-((SUM('C'!H5:H44)/COUNT('C'!H5:H44))/VAR($D5:$D44))),\"no data\",1-((SUM('C'!H5:H44)/COUNT('C'!H5:H44))/VAR($D5:$D44)))","v":0.99726803353471094},{"$f":"IF(ISERROR(1-((SUM('C'!I5:I44)/COUNT('C'!I5:I44))/VAR($D5:$D44))),\"no data\",1-((SUM('C'!I5:I44)/COUNT('C'!I5:I44))/VAR($D5:$D44)))","v":0.98989550984780417},{"$f":"IF(ISERROR(1-((SUM('C'!J5:J44)/COUNT('C'!J5:J44))/VAR($D5:$D44))),\"no data\",1-((SUM('C'!J5:J44)/COUNT('C'!J5:J44))/VAR($D5:$D44)))","v":0.99735726383531742},{"$f":"IF(ISERROR(1-((SUM('C'!K5:K44)/COUNT('C'!K5:K44))/VAR($D5:$D44))),\"no data\",1-((SUM('C'!K5:K44)/COUNT('C'!K5:K44))/VAR($D5:$D44)))","v":0.99917681755683629}]
["Site Details",null,{"$f":"IF(ISNUMBER(E!C6),E!C6,\"\")","v":30},{"$f":"IF(ISNUMBER(E!D6),E!D6,\"\")","v":70},"MERN (lb/A):",{"$f":"IF(AND(ISNUMBER(G5),ISNUMBER(B29),'C'!M53),(G6*'C'!B45+H6*'C'!C45+I6*'C'!D45+J6*'C'!E45+K6*'C'!F45)/SUM('C'!B45:'C'!F45),\"NA\")","v":188.66010026437084},{"$f":"IF(AND(ISNUMBER(G5),ISNUMBER(B29),'C'!M53),MIN((1+0.1*G5)*MAX($C5:$C44),IF(G4<0,MAX((G3-B29)/(-2*G4),0),IF(G3>B29,MAX($C5:$C44),0))),\"NA$\")","v":202.17813104198964},{"$f":"IF(AND(ISNUMBER(H5),ISNUMBER(B29),'C'!M53),MIN((1+0.1*H5)*MAX($C5:$C44),IF(H4<0,MAX((H3-B29)/(-2*H4),0),IF(H3>B29,MAX($C5:$C44),0))),\"NA$\")","v":202.76998266383623},{"$f":"IF(AND(ISNUMBER(I5),ISNUMBER(B29),'C'!M53),MIN((1+0.1*I5)*MAX($C5:$C44),MAX((1/I4)*LN(B29/(I3*I4)),0)),\"NA$\")","v":254.24054652346399},{"$f":"IF(AND(ISNUMBER(J5),ISNUMBER(B29),'C'!M53),MIN((1+0.1*J5)*MAX($C5:$C44),IF(J3>B29,(J4-J2)/J3,0)),\"NA$\")","v":158.15537609894977},{"$f":"IF(AND(ISNUMBER(K5),ISNUMBER(B29),'C'!M53),IF(ISNUMBER(SQRT(K4^2-2*B29*K4^3/(3*K3))),MIN((1+0.1*K5)*MAX($C5:$C44),SQRT(K4^2-2*B29*K4^3/(3*K3))),0),\"NA$\")","v":190.36683392031171}]
["Site",null,{"$f":"IF(ISNUMBER(E!C7),E!C7,\"\")","v":90},{"$f":"IF(ISNUMBER(E!D7),E!D7,\"\")","v":120},"Yield @ MERN (bu/A)",{"$f":"IF(ISNUMBER(F6),VLOOKUP(F6,'C'!B48:H298,7),\"NA\")","v":168.88919588507363},{"$f":"IF(ISNUMBER(G6),G2+G3*G6+G4*G6^2,\"NA\")","v":170.29528867087546},{"$f":"IF(ISNUMBER(H6),H2+H3*H6+H4*H6^2,\"NA\")","v":170.30572335467093},{"$f":"IF(ISNUMBER(I6),I2+I3*EXP(I6*I4),\"NA\")","v":175.96642975218845},{"$f":"IF(ISNUMBER(J6),IF(J3>'C'!O22,MIN(J4,J2+J3*J6),J2),\"NA\")","v":169.99984713439568},{"$f":"IF(AND(ISNUMBER(K6),K6>0),IF(K6<A!K$4,A!K$2+A!K$3*(3*K6/(2*A!K$4)-0.5*(K6/A!K$4)^3),A!K$3+A!K$2),\"NA\")","v":169.87903262350846}]
["Year",null,{"$f":"IF(ISNUMBER(E!C8),E!C8,\"\")","v":120},{"$f":"IF(ISNUMBER(E!D8),E!D8,\"\")","v":140},"Partial Factor Productivity (PFP), bu/lb",{"$f":"IF(ISNUMBER(F7/F6),F7/F6,\"NA\")","v":0.89520357324313893},0.84230320951729176,0.83989612820065962,0.69212575318291492,1.0748913589129934,0.89237725461474282]
["Town",null,{"$f":"IF(ISNUMBER(E!C9),E!C9,\"\")","v":150},{"$f":"IF(ISNUMBER(E!D9),E!D9,\"\")","v":160},"Agronomic Efficiency (AE), bu/lb",{"$f":"IF(ISNUMBER(F12/F6),F12/F6,\"NA\")","v":0.68302641889471705},{"$f":"IF(ISNUMBER((G7-G2)/G6),(G7-G2)/G6,\"NA\")","v":0.65453256694902218},{"$f":"IF(ISNUMBER((H7-H2)/H6),(H7-H2)/H6,\"NA\")","v":0.65201886846178803},{"$f":"IF(ISNUMBER((I7-(I2+I3))/I6),(I7-(I2+I3))/I6,\"NA\")","v":0.54306399109605963},{"$f":"IF(ISNUMBER((J7-J2)/J6),(J7-J2)/J6,\"NA\")","v":0.79844829470802281},{"$f":"IF(ISNUMBER((K7-K2)/K6),(K7-K2)/K6,\"NA\")","v":0.68073692206489489}]
["County",null,{"$f":"IF(ISNUMBER(E!C10),E!C10,\"\")","v":180},{"$f":"IF(ISNUMBER(E!D10),E!D10,\"\")","v":170},"Estimated Partial N Balance (PNB), %",{"$f":"IF(AND(F6>0,ISNUMBER(F6)),F7*B30/(F6+B25),\"NA\")","v":0.58188232260804029},{"$f":"IF(AND(G6>0,ISNUMBER(G6)),G7*$B30/(G6+$B24),\"NA\")","v":0.5474970861862396},{"$f":"IF(AND(H6>0,ISNUMBER(H6)),H7*$B30/(H6+$B24),\"NA\")","v":0.54593248333042876},{"$f":"IF(AND(I6>0,ISNUMBER(I6)),I7*$B30/(I6+$B25),\"NA\")","v":0.44988173956889471},{"$f":"IF(AND(J6>0,ISNUMBER(J6)),J7*B30/(J6+B25),\"NA\")","v":0.69867938329344581},{"$f":"IF(AND(K6>0,ISNUMBER(K6)),K7*$B30/(K6+$B24),\"NA\")","v":0.58004521549958288}]
["State or province",null,{"$f":"IF(ISNUMBER(E!C11),E!C11,\"\")","v":210},{"$f":"IF(ISNUMBER(E!D11),E!D11,\"\")","v":171},"Estimated Recovery Efficiency (RE), %",{"$f":"IF(AND(F6>0,ISNUMBER(F6)),(F12/F6)*B30*(1/B31),\"NA\")","v":0.66661737579814717},{"$f":"IF(AND(G6>0,ISNUMBER(G6)),((G7-G2)*$B30*(1/$B31))/G6,\"NA\")","v":0.63880806083613273},{"$f":"IF(AND(H6>0,ISNUMBER(H6)),((H7-H2)*$B30*(1/$B31))/H6,\"NA\")","v":0.63635475150174503},{"$f":"IF(AND(I6>0,ISNUMBER(I6)),((I7-(I2+I3))*B30*(1/B31))/I6,\"NA\")","v":0.53001740872738556},{"$f":"IF(AND(J6>0,ISNUMBER(J6)),J3*B30*(1/B31),\"NA\")","v":0.77926635369401631},{"$f":"IF(AND(K6>0,ISNUMBER(K6)),((K7-K2)*$B30*(1/$B31))/K6,\"NA\")","v":0.6643828818951677}]
["Latitude",null,{"$f":"IF(ISNUMBER(E!C12),E!C12,\"\")","v":240},{"$f":"IF(ISNUMBER(E!D12),E!D12,\"\")","v":169},"Delta Yield (bu/A)",{"$f":"IF(ISNUMBER(F7),F7-VLOOKUP(0,'C'!B48:H298,7),\"NA\")","v":128.85983267189147},{"$f":"IF(ISNUMBER(G7),G7-G2,\"NA\")","v":132.33217109186927},{"$f":"IF(ISNUMBER(H7),H7-H2,\"NA\")","v":132.20985465449087},{"$f":"IF(ISNUMBER(I7),I7-(I2+I3),\"NA\")","v":138.06888589347579},{"$f":"IF(ISNUMBER(J7),J7-J2,\"NA\")","v":126.27889034511244},{"$f":"IF(ISNUMBER(K7),K7-K2,\"NA\")","v":129.58973258615202}]
["Longitude",null,{"$f":"IF(ISNUMBER(E!C13),E!C13,\"\")","v":""},{"$f":"IF(ISNUMBER(E!D13),E!D13,\"\")","v":""},"Relative Yield (%)",{"$f":"IF(ISNUMBER(F7),(F7-F12)/F7,\"NA\")","v":0.23701553556108765},{"$f":"IF(ISNUMBER(G7),G2/G7,\"NA\")","v":0.22292523695342137},{"$f":"IF(ISNUMBER(H7),H2/H7,\"NA\")","v":0.22369106539563183},{"$f":"IF(ISNUMBER(I7),(I2+I3)/I7,\"NA\")","v":0.21536803305086849},{"$f":"IF(ISNUMBER(J7),J2/J7,\"NA\")","v":0.25718233002126789},{"$f":"IF(ISNUMBER(K7),K2/K7,\"NA\")","v":0.23716464248208266}]
["Altitude",null,{"$f":"IF(ISNUMBER(E!C14),E!C14,\"\")","v":""},{"$f":"IF(ISNUMBER(E!D14),E!D14,\"\")","v":""}]
["Soil texture class",null,{"$f":"IF(ISNUMBER(E!C15),E!C15,\"\")","v":""},{"$f":"IF(ISNUMBER(E!D15),E!D15,\"\")","v":""}]
["Preceding crop",null,{"$f":"IF(ISNUMBER(E!C16),E!C16,\"\")","v":""},{"$f":"IF(ISNUMBER(E!D16),E!D16,\"\")","v":""}]
["Expected Yield (bu/A)",null,{"$f":"IF(ISNUMBER(E!C17),E!C17,\"\")","v":""},{"$f":"IF(ISNUMBER(E!D17),E!D17,\"\")","v":""}]
["Tillage",null,{"$f":"IF(ISNUMBER(E!C18),E!C18,\"\")","v":""},{"$f":"IF(ISNUMBER(E!D18),E!D18,\"\")","v":""}]
["Nutrient Source",null,{"$f":"IF(ISNUMBER(E!C19),E!C19,\"\")","v":""},{"$f":"IF(ISNUMBER(E!D19),E!D19,\"\")","v":""}]
["Nutrient Timing",null,{"$f":"IF(ISNUMBER(E!C20),E!C20,\"\")","v":""},{"$f":"IF(ISNUMBER(E!D20),E!D20,\"\")","v":""}]
["Nutrient Placement",null,{"$f":"IF(ISNUMBER(E!C21),E!C21,\"\")","v":""},{"$f":"IF(ISNUMBER(E!D21),E!D21,\"\")","v":""}]
["Planting date",null,{"$f":"IF(ISNUMBER(E!C22),E!C22,\"\")","v":""},{"$f":"IF(ISNUMBER(E!D22),E!D22,\"\")","v":""}]
["PSNT (ppm)",null,{"$f":"IF(ISNUMBER(E!C23),E!C23,\"\")","v":""},{"$f":"IF(ISNUMBER(E!D23),E!D23,\"\")","v":""}]
["Manure N (lb/A)",null,{"$f":"IF(ISNUMBER(E!C24),E!C24,\"\")","v":""},{"$f":"IF(ISNUMBER(E!D24),E!D24,\"\")","v":""}]
["Harvest date ",null,{"$f":"IF(ISNUMBER(E!C25),E!C25,\"\")","v":""},{"$f":"IF(ISNUMBER(E!D25),E!D25,\"\")","v":""}]
["ESSENTIAL INFORMATION",null,{"$f":"IF(ISNUMBER(E!C26),E!C26,\"\")","v":""},{"$f":"IF(ISNUMBER(E!D26),E!D26,\"\")","v":""}]
["Crop ($/bu)",{"$f":"E!B27","v":4},{"$f":"IF(ISNUMBER(E!C27),E!C27,\"\")","v":""},{"$f":"IF(ISNUMBER(E!D27),E!D27,\"\")","v":""}]
["Fertilizer ($/lb)",{"$f":"E!B28","v":0.5},{"$f":"IF(ISNUMBER(E!C28),E!C28,\"\")","v":""},{"$f":"IF(ISNUMBER(E!D28),E!D28,\"\")","v":""}]
["Price ratio (f/c)",{"$f":"E!B29","v":0.125},{"$f":"IF(ISNUMBER(E!C29),E!C29,\"\")","v":""},{"$f":"IF(ISNUMBER(E!D29),E!D29,\"\")","v":""}]
["Crop nutrient content (lb/bu)",{"$f":"E!B30","v":0.65},{"$f":"IF(ISNUMBER(E!C30),E!C30,\"\")","v":""},{"$f":"IF(ISNUMBER(E!D30),E!D30,\"\")","v":""}]
["Nutrient harvest index",{"$f":"E!B31","v":0.66600000000000004},{"$f":"IF(ISNUMBER(E!C31),E!C31,\"\")","v":""},{"$f":"IF(ISNUMBER(E!D31),E!D31,\"\")","v":""}]
[null,null,{"$f":"IF(ISNUMBER(E!C32),E!C32,\"\")","v":""},{"$f":"IF(ISNUMBER(E!D32),E!D32,\"\")","v":""}]
[null,null,{"$f":"IF(ISNUMBER(E!C33),E!C33,\"\")","v":""},{"$f":"IF(ISNUMBER(E!D33),E!D33,\"\")","v":""}]
[null,null,{"$f":"IF(ISNUMBER(E!C34),E!C34,\"\")","v":""},{"$f":"IF(ISNUMBER(E!D34),E!D34,\"\")","v":""}]
[null,null,{"$f":"IF(ISNUMBER(E!C35),E!C35,\"\")","v":""},{"$f":"IF(ISNUMBER(E!D35),E!D35,\"\")","v":""}]
[null,null,{"$f":"IF(ISNUMBER(E!C36),E!C36,\"\")","v":""},{"$f":"IF(ISNUMBER(E!D36),E!D36,\"\")","v":""}]
[null,null,{"$f":"IF(ISNUMBER(E!C37),E!C37,\"\")","v":""},{"$f":"IF(ISNUMBER(E!D37),E!D37,\"\")","v":""}]
[null,null,{"$f":"IF(ISNUMBER(E!C38),E!C38,\"\")","v":""},{"$f":"IF(ISNUMBER(E!D38),E!D38,\"\")","v":""}]
[null,null,{"$f":"IF(ISNUMBER(E!C39),E!C39,\"\")","v":""},{"$f":"IF(ISNUMBER(E!D39),E!D39,\"\")","v":""}]
[null,null,{"$f":"IF(ISNUMBER(E!C40),E!C40,\"\")","v":""},{"$f":"IF(ISNUMBER(E!D40),E!D40,\"\")","v":""}]
[null,null,{"$f":"IF(ISNUMBER(E!C41),E!C41,\"\")","v":""},{"$f":"IF(ISNUMBER(E!D41),E!D41,\"\")","v":""}]
[null,null,{"$f":"IF(ISNUMBER(E!C42),E!C42,\"\")","v":""},{"$f":"IF(ISNUMBER(E!D42),E!D42,\"\")","v":""}]
[null,null,{"$f":"IF(ISNUMBER(E!C43),E!C43,\"\")","v":""},{"$f":"IF(ISNUMBER(E!D43),E!D43,\"\")","v":""}]
[null,null,{"$f":"IF(ISNUMBER(E!C44),E!C44,\"\")","v":""},{"$f":"IF(ISNUMBER(E!D44),E!D44,\"\")","v":""}]

{"sheet":"B","index":3,"n_rows":44,"n_cols":11,"rows_kept":44,"cut":false,"hidden":false,"merged":[[4,0,4,1],[5,0,5,1],[0,1,0,4],[1,0,1,1],[1,2,3,2],[1,3,3,3],[2,0,2,1],[3,0,3,1]]}
[null,"Crop Nutrient Response Tool (CNRT) v4.5",null,null,null,"R2-weighted Mean","Quadratic (Q)","Quadratic- Plateau (QP)","Mitscherlich (M)","Linear-Plateau (LP)","Spherical (SP)"]
["Step 1: Enter rate and yield data.",null,"Fertilizer rate, lb/A","Crop  Yield, bu/A","A:",null,74.022463707304553,73.622648669414204,202.34342715548865,77.499943281723219,75.45471336981025]
["Step 2: Click the Fit button.",null,null,null,"B:",null,1.1704209529938847,1.1966104521114695,-130.65966426721383,0.83333355392007147,114.37870049789947]
["Step 3: Adjust crop and fertilizer prices.",null,null,null,"C:",null,-2.8944423906807652E-3,-3.0627098941284859E-3,-1.1898200737032589E-2,188.75000559732251,176.44204512166323]
["Step 4: Click to append information to summary.",null,{"$f":"IF(ISNUMBER(E!E5),E!E5,\"\")","v":0},{"$f":"IF(ISNUMBER(E!F5),E!F5,\"\")","v":75},"R2:",null,{"$f":"IF(ISERROR(1-((SUM(D!G5:G44)/COUNT(D!G5:G44))/VAR($D5:$D44))),\"no data\",1-((SUM(D!G5:G44)/COUNT(D!G5:G44))/VAR($D5:$D44)))","v":0.99923061351656572},{"$f":"IF(ISERROR(1-((SUM(D!H5:H44)/COUNT(D!H5:H44))/VAR($D5:$D44))),\"no data\",1-((SUM(D!H5:H44)/COUNT(D!H5:H44))/VAR($D5:$D44)))","v":0.99910978447342957},{"$f":"IF(ISERROR(1-((SUM(D!I5:I44)/COUNT(D!I5:I44))/VAR($D5:$D44))),\"no data\",1-((SUM(D!I5:I44)/COUNT(D!I5:I44))/VAR($D5:$D44)))","v":0.99157958874947971},{"$f":"IF(ISERROR(1-((SUM(D!J5:J44)/COUNT(D!J5:J44))/VAR($D5:$D44))),\"no data\",1-((SUM(D!J5:J44)/COUNT(D!J5:J44))/VAR($D5:$D44)))","v":0.99709894828331214},{"$f":"IF(ISERROR(1-((SUM(D!K5:K44)/COUNT(D!K5:K44))/VAR($D5:$D44))),\"no data\",1-((SUM(D!K5:K44)/COUNT(D!K5:K44))/VAR($D5:$D44)))","v":0.99968535316165019}]
["Site Details",null,{"$f":"IF(ISNUMBER(E!E6),E!E6,\"\")","v":30},{"$f":"IF(ISNUMBER(E!F6),E!F6,\"\")","v":105},"MERN (lb/A):",{"$f":"IF(AND(ISNUMBER(G5),ISNUMBER(B29),D!M53),(G6*D!B45+H6*D!C45+I6*D!D45+J6*D!E45+K6*D!F45)/SUM(D!B45:'D'!F45),\"NA\")","v":165.75182996574563},{"$f":"IF(AND(ISNUMBER(G5),ISNUMBER(B29),D!M53),MIN((1+0.1*G5)*MAX($C5:$C44),IF(G4<0,MAX((G3-B29)/(-2*G4),0),IF(G3>B29,MAX($C5:$C44),0))),\"NA$\")","v":180.5910797119034},{"$f":"IF(AND(ISNUMBER(H5),ISNUMBER(B29),D!M53),MIN((1+0.1*H5)*MAX($C5:$C44),IF(H4<0,MAX((H3-B29)/(-2*H4),0),IF(H3>B29,MAX($C5:$C44),0))),\"NA$\")","v":174.94481833977346},{"$f":"IF(AND(ISNUMBER(I5),ISNUMBER(B29),D!M53),MIN((1+0.1*I5)*MAX($C5:$C44),MAX((1/I4)*LN(B29/(I3*I4)),0)),\"NA$\")","v":211.85299092021617},{"$f":"IF(AND(ISNUMBER(J5),ISNUMBER(B29),D!M53),MIN((1+0.1*J5)*MAX($C5:$C44),IF(J3>B29,(J4-J2)/J3,0)),\"NA$\")","v":133.50003944071327},{"$f":"IF(AND(ISNUMBER(K5),ISNUMBER(B29),D!M53),IF(ISNUMBER(SQRT(K4^2-2*B29*K4^3/(3*K3))),MIN((1+0.1*K5)*MAX($C5:$C44),SQRT(K4^2-2*B29*K4^3/(3*K3))),0),\"NA$\")","v":164.71117098679085}]
["Site",null,{"$f":"IF(ISNUMBER(E!E7),E!E7,\"\")","v":90},{"$f":"IF(ISNUMBER(E!F7),E!F7,\"\")","v":155},"Yield @ MERN (bu/A)",{"$f":"IF(ISNUMBER(F6),VLOOKUP(F6,D!B48:H298,7),\"NA\")","v":188.30968546780824},{"$f":"IF(ISNUMBER(G6),G2+G3*G6+G4*G6^2,\"NA\")","v":190.99319799859882},{"$f":"IF(ISNUMBER(H6),H2+H3*H6+H4*H6^2,\"NA\")","v":189.22709889970764},{"$f":"IF(ISNUMBER(I6),I2+I3*EXP(I6*I4),\"NA\")","v":191.83763701438409},{"$f":"IF(ISNUMBER(J6),IF(J3>D!O22,MIN(J4,J2+J3*J6),J2),\"NA\")","v":188.75000559732251},{"$f":"IF(AND(ISNUMBER(K6),K6>0),IF(K6<B!K$4,B!K$2+B!K$3*(3*K6/(2*B!K$4)-0.5*(K6/B!K$4)^3),B!K$3+B!K$2),\"NA\")","v":189.09183054390306}]
["Year",null,{"$f":"IF(ISNUMBER(E!E8),E!E8,\"\")","v":120},{"$f":"IF(ISNUMBER(E!F8),E!F8,\"\")","v":175},"Partial Factor Productivity (PFP), bu/lb",{"$f":"IF(ISNUMBER(F7/F6),F7/F6,\"NA\")","v":1.1360941565877398},1.0576003992184437,1.0816387744174023,0.90552243884359473,1.4138573021257084,1.1480206801460202]
["Town",null,{"$f":"IF(ISNUMBER(E!E9),E!E9,\"\")","v":150},{"$f":"IF(ISNUMBER(E!F9),E!F9,\"\")","v":185},"Agronomic Efficiency (AE), bu/lb",{"$f":"IF(ISNUMBER(F12/F6),F12/F6,\"NA\")","v":0.68374193754407886},{"$f":"IF(ISNUMBER((G7-G2)/G6),(G7-G2)/G6,\"NA\")","v":0.64771047649694247},{"$f":"IF(ISNUMBER((H7-H2)/H6),(H7-H2)/H6,\"NA\")","v":0.66080522605573466},{"$f":"IF(ISNUMBER((I7-(I2+I3))/I6),(I7-(I2+I3))/I6,\"NA\")","v":0.56715684590622184},{"$f":"IF(ISNUMBER((J7-J2)/J6),(J7-J2)/J6,\"NA\")","v":0.83333355392007147},{"$f":"IF(ISNUMBER((K7-K2)/K6),(K7-K2)/K6,\"NA\")","v":0.68991748703678413}]
["County",null,{"$f":"IF(ISNUMBER(E!E10),E!E10,\"\")","v":180},{"$f":"IF(ISNUMBER(E!F10),E!F10,\"\")","v":190},"Estimated Partial N Balance (PNB), %",{"$f":"IF(AND(F6>0,ISNUMBER(F6)),F7*B30/(F6+B25),\"NA\")","v":0.7384612017820309},{"$f":"IF(AND(G6>0,ISNUMBER(G6)),G7*$B30/(G6+$B24),\"NA\")","v":0.68744025949198839},{"$f":"IF(AND(H6>0,ISNUMBER(H6)),H7*$B30/(H6+$B24),\"NA\")","v":0.70306520337131151},{"$f":"IF(AND(I6>0,ISNUMBER(I6)),I7*$B30/(I6+$B25),\"NA\")","v":0.5885895852483366},{"$f":"IF(AND(J6>0,ISNUMBER(J6)),J7*B30/(J6+B25),\"NA\")","v":0.9190072463817105},{"$f":"IF(AND(K6>0,ISNUMBER(K6)),K7*$B30/(K6+$B24),\"NA\")","v":0.74621344209491314}]
["State or province",null,{"$f":"IF(ISNUMBER(E!E11),E!E11,\"\")","v":210},{"$f":"IF(ISNUMBER(E!F11),E!F11,\"\")","v":191},"Estimated Recovery Efficiency (RE), %",{"$f":"IF(AND(F6>0,ISNUMBER(F6)),(F12/F6)*B30*(1/B31),\"NA\")","v":0.66731570481028712},{"$f":"IF(AND(G6>0,ISNUMBER(G6)),((G7-G2)*$B30*(1/$B31))/G6,\"NA\")","v":0.63214986444896781},{"$f":"IF(AND(H6>0,ISNUMBER(H6)),((H7-H2)*$B30*(1/$B31))/H6,\"NA\")","v":0.64493002542977107},{"$f":"IF(AND(I6>0,ISNUMBER(I6)),((I7-(I2+I3))*B30*(1/B31))/I6,\"NA\")","v":0.55353145621478106},{"$f":"IF(AND(J6>0,ISNUMBER(J6)),J3*B30*(1/B31),\"NA\")","v":0.81331352860067041},{"$f":"IF(AND(K6>0,ISNUMBER(K6)),((K7-K2)*$B30*(1/$B31))/K6,\"NA\")","v":0.67334289275361803}]
["Latitude",null,{"$f":"IF(ISNUMBER(E!E12),E!E12,\"\")","v":240},{"$f":"IF(ISNUMBER(E!F12),E!F12,\"\")","v":189},"Delta Yield (bu/A)",{"$f":"IF(ISNUMBER(F7),F7-VLOOKUP(0,D!B48:H298,7),\"NA\")","v":113.33147737225562},{"$f":"IF(ISNUMBER(G7),G7-G2,\"NA\")","v":116.97073429129426},{"$f":"IF(ISNUMBER(H7),H7-H2,\"NA\")","v":115.60445023029344},{"$f":"IF(ISNUMBER(I7),I7-(I2+I3),\"NA\")","v":120.15387412610926},{"$f":"IF(ISNUMBER(J7),J7-J2,\"NA\")","v":111.25006231559929},{"$f":"IF(ISNUMBER(K7),K7-K2,\"NA\")","v":113.63711717409281}]
["Longitude",null,{"$f":"IF(ISNUMBER(E!E13),E!E13,\"\")","v":""},{"$f":"IF(ISNUMBER(E!F13),E!F13,\"\")","v":""},"Relative Yield (%)",{"$f":"IF(ISNUMBER(F7),(F7-F12)/F7,\"NA\")","v":0.39816437433522361},{"$f":"IF(ISNUMBER(G7),G2/G7,\"NA\")","v":0.38756596822808109},{"$f":"IF(ISNUMBER(H7),H2/H7,\"NA\")","v":0.38907032395204127},{"$f":"IF(ISNUMBER(I7),(I2+I3)/I7,\"NA\")","v":0.37366892130192336},{"$f":"IF(ISNUMBER(J7),J2/J7,\"NA\")","v":0.41059571381979648},{"$f":"IF(ISNUMBER(K7),K2/K7,\"NA\")","v":0.39903740501518542}]
["Altitude",null,{"$f":"IF(ISNUMBER(E!E14),E!E14,\"\")","v":""},{"$f":"IF(ISNUMBER(E!F14),E!F14,\"\")","v":""}]
["Soil texture class",null,{"$f":"IF(ISNUMBER(E!E15),E!E15,\"\")","v":""},{"$f":"IF(ISNUMBER(E!F15),E!F15,\"\")","v":""}]
["Preceding crop",null,{"$f":"IF(ISNUMBER(E!E16),E!E16,\"\")","v":""},{"$f":"IF(ISNUMBER(E!F16),E!F16,\"\")","v":""}]
["Expected Yield (bu/A)",null,{"$f":"IF(ISNUMBER(E!E17),E!E17,\"\")","v":""},{"$f":"IF(ISNUMBER(E!F17),E!F17,\"\")","v":""}]
["Tillage",null,{"$f":"IF(ISNUMBER(E!E18),E!E18,\"\")","v":""},{"$f":"IF(ISNUMBER(E!F18),E!F18,\"\")","v":""}]
["Nutrient Source",null,{"$f":"IF(ISNUMBER(E!E19),E!E19,\"\")","v":""},{"$f":"IF(ISNUMBER(E!F19),E!F19,\"\")","v":""}]
["Nutrient Timing",null,{"$f":"IF(ISNUMBER(E!E20),E!E20,\"\")","v":""},{"$f":"IF(ISNUMBER(E!F20),E!F20,\"\")","v":""}]
["Nutrient Placement",null,{"$f":"IF(ISNUMBER(E!E21),E!E21,\"\")","v":""},{"$f":"IF(ISNUMBER(E!F21),E!F21,\"\")","v":""}]
["Planting date",null,{"$f":"IF(ISNUMBER(E!E22),E!E22,\"\")","v":""},{"$f":"IF(ISNUMBER(E!F22),E!F22,\"\")","v":""}]
["PSNT (ppm)",null,{"$f":"IF(ISNUMBER(E!E23),E!E23,\"\")","v":""},{"$f":"IF(ISNUMBER(E!F23),E!F23,\"\")","v":""}]
["Manure N (lb/A)",null,{"$f":"IF(ISNUMBER(E!E24),E!E24,\"\")","v":""},{"$f":"IF(ISNUMBER(E!F24),E!F24,\"\")","v":""}]
["Harvest date ",null,{"$f":"IF(ISNUMBER(E!E25),E!E25,\"\")","v":""},{"$f":"IF(ISNUMBER(E!F25),E!F25,\"\")","v":""}]
["ESSENTIAL INFORMATION",null,{"$f":"IF(ISNUMBER(E!E26),E!E26,\"\")","v":""},{"$f":"IF(ISNUMBER(E!F26),E!F26,\"\")","v":""}]
["Crop ($/bu)",{"$f":"E!B27","v":4},{"$f":"IF(ISNUMBER(E!E27),E!E27,\"\")","v":""},{"$f":"IF(ISNUMBER(E!F27),E!F27,\"\")","v":""}]
["Fertilizer ($/lb)",{"$f":"E!B28","v":0.5},{"$f":"IF(ISNUMBER(E!E28),E!E28,\"\")","v":""},{"$f":"IF(ISNUMBER(E!F28),E!F28,\"\")","v":""}]
["Price ratio (f/c)",{"$f":"E!B29","v":0.125},{"$f":"IF(ISNUMBER(E!E29),E!E29,\"\")","v":""},{"$f":"IF(ISNUMBER(E!F29),E!F29,\"\")","v":""}]
["Crop nutrient content (lb/bu)",{"$f":"E!B30","v":0.65},{"$f":"IF(ISNUMBER(E!E30),E!E30,\"\")","v":""},{"$f":"IF(ISNUMBER(E!F30),E!F30,\"\")","v":""}]
["Nutrient harvest index",{"$f":"E!B31","v":0.66600000000000004},{"$f":"IF(ISNUMBER(E!E31),E!E31,\"\")","v":""},{"$f":"IF(ISNUMBER(E!F31),E!F31,\"\")","v":""}]
[null,null,{"$f":"IF(ISNUMBER(E!E32),E!E32,\"\")","v":""},{"$f":"IF(ISNUMBER(E!F32),E!F32,\"\")","v":""}]
[null,null,{"$f":"IF(ISNUMBER(E!E33),E!E33,\"\")","v":""},{"$f":"IF(ISNUMBER(E!F33),E!F33,\"\")","v":""}]
[null,null,{"$f":"IF(ISNUMBER(E!E34),E!E34,\"\")","v":""},{"$f":"IF(ISNUMBER(E!F34),E!F34,\"\")","v":""}]
[null,null,{"$f":"IF(ISNUMBER(E!E35),E!E35,\"\")","v":""},{"$f":"IF(ISNUMBER(E!F35),E!F35,\"\")","v":""}]
[null,null,{"$f":"IF(ISNUMBER(E!E36),E!E36,\"\")","v":""},{"$f":"IF(ISNUMBER(E!F36),E!F36,\"\")","v":""}]
[null,null,{"$f":"IF(ISNUMBER(E!E37),E!E37,\"\")","v":""},{"$f":"IF(ISNUMBER(E!F37),E!F37,\"\")","v":""}]
[null,null,{"$f":"IF(ISNUMBER(E!E38),E!E38,\"\")","v":""},{"$f":"IF(ISNUMBER(E!F38),E!F38,\"\")","v":""}]
[null,null,{"$f":"IF(ISNUMBER(E!E39),E!E39,\"\")","v":""},{"$f":"IF(ISNUMBER(E!F39),E!F39,\"\")","v":""}]
[null,null,{"$f":"IF(ISNUMBER(E!E40),E!E40,\"\")","v":""},{"$f":"IF(ISNUMBER(E!F40),E!F40,\"\")","v":""}]
[null,null,{"$f":"IF(ISNUMBER(E!E41),E!E41,\"\")","v":""},{"$f":"IF(ISNUMBER(E!F41),E!F41,\"\")","v":""}]
[null,null,{"$f":"IF(ISNUMBER(E!E42),E!E42,\"\")","v":""},{"$f":"IF(ISNUMBER(E!F42),E!F42,\"\")","v":""}]
[null,null,{"$f":"IF(ISNUMBER(E!E43),E!E43,\"\")","v":""},{"$f":"IF(ISNUMBER(E!F43),E!F43,\"\")","v":""}]
[null,null,{"$f":"IF(ISNUMBER(E!E44),E!E44,\"\")","v":""},{"$f":"IF(ISNUMBER(E!F44),E!F44,\"\")","v":""}]

{"sheet":"C","index":4,"n_rows":298,"n_cols":25,"rows_kept":298,"cut":false,"hidden":false,"merged":[[2,1,2,5],[2,6,2,10],[13,18,13,22],[5,13,5,17],[5,18,5,22],[0,11,2,23]]}
["Calculations worksheet - do not enter data here"]
[]
[null,"Predicted Curve Values",null,null,null,null,"Squared differences predicted less observed"]
["Obs","Q","QP","M","LP","S ","Q","QP","M","LP","S ",null,"Technical"]
[1,{"$f":"IF(ISNUMBER(A!C5),A!G$2+A!G$3*A!C5+A!G$4*A!C5^2,\"\")","v":37.963117579006209},{"$f":"IF(ISNUMBER(A!C5),IF(A!C5<(A!H$3/(-2*A!H$4)),A!H$2+A!H$3*A!C5+A!H$4*A!C5^2,A!H$2+A!H$3*(A!H$3/(-2*A!H$4))+A!H$4*(A!H$3/(-2*A!H$4))^2),\"\")","v":38.095868700180077},{"$f":"IF(ISNUMBER(A!C5),A!I$2+A!I$3*EXP(A!I$4*A!C5),\"\")","v":37.897543858712652},{"$f":"IF(ISNUMBER(A!C5),IF((A!J$2+A!J$3*A!C5)<A!J$4,A!J$2+A!J$3*A!C5,A!J$4),\"\")","v":43.720956789283242},{"$f":"IF(ISNUMBER(A!C5),IF(A!C5<A!K$4,A!K$2+A!K$3*(3*A!C5/(2*A!K$4)-0.5*(A!C5/A!K$4)^3),A!K$3+A!K$2),\"\")","v":40.28930003735644},{"$f":"IF(ISNUMBER(A!$C5),(B5-A!$D5)^2,\"\")","v":4.1488899969535282},{"$f":"IF(ISNUMBER(A!$C5),(C5-A!$D5)^2,\"\")","v":3.6257160069539101},{"$f":"IF(ISNUMBER(A!$C5),(D5-A!$D5)^2,\"\")","v":4.4203218260368855},{"$f":"IF(ISNUMBER(A!$C5),(E5-A!$D5)^2,\"\")","v":13.845519427713057},{"$f":"IF(ISNUMBER(A!$C5),(F5-A!$D5)^2,\"\")","v":8.3694511614437861E-2},null,null,"Constraints:"]
[{"$f":"A5+1","v":2},{"$f":"IF(ISNUMBER(A!C6),A!G$2+A!G$3*A!C6+A!G$4*A!C6^2,\"\")","v":71.127846767535516},{"$f":"IF(ISNUMBER(A!C6),IF(A!C6<(A!H$3/(-2*A!H$4)),A!H$2+A!H$3*A!C6+A!H$4*A!C6^2,A!H$2+A!H$3*(A!H$3/(-2*A!H$4))+A!H$4*(A!H$3/(-2*A!H$4))^2),\"\")","v":71.127813442063299},{"$f":"IF(ISNUMBER(A!C6),A!I$2+A!I$3*EXP(A!I$4*A!C6),\"\")","v":75.909543393590923},{"$f":"IF(ISNUMBER(A!C6),IF((A!J$2+A!J$3*A!C6)<A!J$4,A!J$2+A!J$3*A!C6,A!J$4),\"\")","v":67.674405630523921},{"$f":"IF(ISNUMBER(A!C6),IF(A!C6<A!K$4,A!K$2+A!K$3*(3*A!C6/(2*A!K$4)-0.5*(A!C6/A!K$4)^3),A!K$3+A!K$2),\"\")","v":68.840437649275088},{"$f":"IF(ISNUMBER(A!$C6),(B6-A!$D6)^2,\"\")","v":1.2720383310403121},{"$f":"IF(ISNUMBER(A!$C6),(C6-A!$D6)^2,\"\")","v":1.2719631600986674},{"$f":"IF(ISNUMBER(A!$C6),(D6-A!$D6)^2,\"\")","v":34.92270312073412},{"$f":"IF(ISNUMBER(A!$C6),(E6-A!$D6)^2,\"\")","v":5.4083891713388406},{"$f":"IF(ISNUMBER(A!$C6),(F6-A!$D6)^2,\"\")","v":1.3445848452186828},null,null,"Maximum",null,null,null,null,"Minimum",null,null,null,null,"Fitting"]
[{"$f":"A6+1","v":3},{"$f":"IF(ISNUMBER(A!C7),A!G$2+A!G$3*A!C7+A!G$4*A!C7^2,\"\")","v":123.3139561741219},{"$f":"IF(ISNUMBER(A!C7),IF(A!C7<(A!H$3/(-2*A!H$4)),A!H$2+A!H$3*A!C7+A!H$4*A!C7^2,A!H$2+A!H$3*(A!H$3/(-2*A!H$4))+A!H$4*(A!H$3/(-2*A!H$4))^2),\"\")","v":123.15657873088537},{"$f":"IF(ISNUMBER(A!C7),A!I$2+A!I$3*EXP(A!I$4*A!C7),\"\")","v":125.63552102515685},{"$f":"IF(ISNUMBER(A!C7),IF((A!J$2+A!J$3*A!C7)<A!J$4,A!J$2+A!J$3*A!C7,A!J$4),\"\")","v":115.58130331300529},{"$f":"IF(ISNUMBER(A!C7),IF(A!C7<A!K$4,A!K$2+A!K$3*(3*A!C7/(2*A!K$4)-0.5*(A!C7/A!K$4)^3),A!K$3+A!K$2),\"\")","v":120.97413972907347},{"$f":"IF(ISNUMBER(A!$C7),(B7-A!$D7)^2,\"\")","v":10.982305524000649},{"$f":"IF(ISNUMBER(A!$C7),(C7-A!$D7)^2,\"\")","v":9.9639892842779023},{"$f":"IF(ISNUMBER(A!$C7),(D7-A!$D7)^2,\"\")","v":31.759097224984892},{"$f":"IF(ISNUMBER(A!$C7),(E7-A!$D7)^2,\"\")","v":19.524880411658},{"$f":"IF(ISNUMBER(A!$C7),(F7-A!$D7)^2,\"\")","v":0.94894821175933552},null,null,"Q","QP","M","LP","S ","Q","QP","M","LP","S ","Tolerance"]
[4,{"$f":"IF(ISNUMBER(A!C8),A!G$2+A!G$3*A!C8+A!G$4*A!C8^2,\"\")","v":142.33533639217899},{"$f":"IF(ISNUMBER(A!C8),IF(A!C8<(A!H$3/(-2*A!H$4)),A!H$2+A!H$3*A!C8+A!H$4*A!C8^2,A!H$2+A!H$3*(A!H$3/(-2*A!H$4))+A!H$4*(A!H$3/(-2*A!H$4))^2),\"\")","v":142.15339927782426},{"$f":"IF(ISNUMBER(A!C8),A!I$2+A!I$3*EXP(A!I$4*A!C8),\"\")","v":141.56079243260442},{"$f":"IF(ISNUMBER(A!C8),IF((A!J$2+A!J$3*A!C8)<A!J$4,A!J$2+A!J$3*A!C8,A!J$4),\"\")","v":139.53475215424598},{"$f":"IF(ISNUMBER(A!C8),IF(A!C8<A!K$4,A!K$2+A!K$3*(3*A!C8/(2*A!K$4)-0.5*(A!C8/A!K$4)^3),A!K$3+A!K$2),\"\")","v":142.07241762493376},{"$f":"IF(ISNUMBER(A!$C8),(B8-A!$D8)^2,\"\")","v":5.4537960646355712},{"$f":"IF(ISNUMBER(A!$C8),(C8-A!$D8)^2,\"\")","v":4.6371284497340595},{"$f":"IF(ISNUMBER(A!$C8),(D8-A!$D8)^2,\"\")","v":2.4360730176752092},{"$f":"IF(ISNUMBER(A!$C8),(E8-A!$D8)^2,\"\")","v":0.21645555797875754},{"$f":"IF(ISNUMBER(A!$C8),(F8-A!$D8)^2,\"\")","v":4.2949148121361},null,"A",{"$f":"(1+X8)*MIN(A!D5:D44)","v":60},{"$f":"N8","v":60},{"$f":"(1+X8)*MAX(A!D5:D44)","v":256.5},{"$f":"N8","v":60},{"$f":"N8","v":60},{"$f":"MAX((1-X8)*MIN(A!D5:D44)-(1+X8)*MIN(A!C5:C44)*(1/O20),0.5*MIN(A!D5:D44))","v":20},{"$f":"S8","v":20},{"$f":"(1-X8)*MAX(A!D5:D44)","v":85.5},{"$f":"S8","v":20},{"$f":"S8","v":20},0.5]
[5,{"$f":"IF(ISNUMBER(A!C9),A!G$2+A!G$3*A!C9+A!G$4*A!C9^2,\"\")","v":156.64226695341199},{"$f":"IF(ISNUMBER(A!C9),IF(A!C9<(A!H$3/(-2*A!H$4)),A!H$2+A!H$3*A!C9+A!H$4*A!C9^2,A!H$2+A!H$3*(A!H$3/(-2*A!H$4))+A!H$4*(A!H$3/(-2*A!H$4))^2),\"\")","v":156.47184509311495},{"$f":"IF(ISNUMBER(A!C9),A!I$2+A!I$3*EXP(A!I$4*A!C9),\"\")","v":153.4771141093718},{"$f":"IF(ISNUMBER(A!C9),IF((A!J$2+A!J$3*A!C9)<A!J$4,A!J$2+A!J$3*A!C9,A!J$4),\"\")","v":163.48820099548669},{"$f":"IF(ISNUMBER(A!C9),IF(A!C9<A!K$4,A!K$2+A!K$3*(3*A!C9/(2*A!K$4)-0.5*(A!C9/A!K$4)^3),A!K$3+A!K$2),\"\")","v":158.20212237675514},{"$f":"IF(ISNUMBER(A!$C9),(B9-A!$D9)^2,\"\")","v":11.274371212149196},{"$f":"IF(ISNUMBER(A!$C9),(C9-A!$D9)^2,\"\")","v":12.447877046977052},{"$f":"IF(ISNUMBER(A!$C9),(D9-A!$D9)^2,\"\")","v":42.548040342156483},{"$f":"IF(ISNUMBER(A!$C9),(E9-A!$D9)^2,\"\")","v":12.167546184914356},{"$f":"IF(ISNUMBER(A!$C9),(F9-A!$D9)^2,\"\")","v":3.2323639481645801},null,"B",{"$f":"O21*(1+X9)/O20","v":1.5369230769230771},{"$f":"N9","v":1.5369230769230771},{"$f":"MIN(-0.0000001,N8-U8)","v":-25.5},{"$f":"O21*(1+0.5*X9)/O20","v":1.2807692307692307},{"$f":"-1*U9","v":151},0,0,{"$f":"S8-Q10","v":-151},{"$f":"S9","v":0},{"$f":"-1*P9","v":25.5},0.5]
[6,{"$f":"IF(ISNUMBER(A!C10),A!G$2+A!G$3*A!C10+A!G$4*A!C10^2,\"\")","v":166.23474785782093},{"$f":"IF(ISNUMBER(A!C10),IF(A!C10<(A!H$3/(-2*A!H$4)),A!H$2+A!H$3*A!C10+A!H$4*A!C10^2,A!H$2+A!H$3*(A!H$3/(-2*A!H$4))+A!H$4*(A!H$3/(-2*A!H$4))^2),\"\")","v":166.11191617675763},{"$f":"IF(ISNUMBER(A!C10),A!I$2+A!I$3*EXP(A!I$4*A!C10),\"\")","v":162.39367940180313},{"$f":"IF(ISNUMBER(A!C10),IF((A!J$2+A!J$3*A!C10)<A!J$4,A!J$2+A!J$3*A!C10,A!J$4),\"\")","v":169.99984713439568},{"$f":"IF(ISNUMBER(A!C10),IF(A!C10<A!K$4,A!K$2+A!K$3*(3*A!C10/(2*A!K$4)-0.5*(A!C10/A!K$4)^3),A!K$3+A!K$2),\"\")","v":168.1211106985279},{"$f":"IF(ISNUMBER(A!$C10),(B10-A!$D10)^2,\"\")","v":14.17712369418404},{"$f":"IF(ISNUMBER(A!$C10),(C10-A!$D10)^2,\"\")","v":15.117195816558993},{"$f":"IF(ISNUMBER(A!$C10),(D10-A!$D10)^2,\"\")","v":57.856113042554043},{"$f":"IF(ISNUMBER(A!$C10),(E10-A!$D10)^2,\"\")","v":2.3367892984300893E-8},{"$f":"IF(ISNUMBER(A!$C10),(F10-A!$D10)^2,\"\")","v":3.5302250071863148},null,"C",-9.9999999999999995E-8,-9.9999999999999995E-8,-9.9999999999999995E-8,{"$f":"MAX(A!D5:D44)","v":171},{"$f":"M51","v":2060},-1,-1,{"$f":"(O21*(1+X10)/O20)/AVERAGE(P9,U9)","v":-1.5093484419263456E-2},{"$f":"(1-X8)*MAX(A!D5:D44)","v":85.5},0,0.3]
[7,{"$f":"IF(ISNUMBER(A!C11),A!G$2+A!G$3*A!C11+A!G$4*A!C11^2,\"\")","v":171.11277910540588},{"$f":"IF(ISNUMBER(A!C11),IF(A!C11<(A!H$3/(-2*A!H$4)),A!H$2+A!H$3*A!C11+A!H$4*A!C11^2,A!H$2+A!H$3*(A!H$3/(-2*A!H$4))+A!H$4*(A!H$3/(-2*A!H$4))^2),\"\")","v":171.07361252875216},{"$f":"IF(ISNUMBER(A!C11),A!I$2+A!I$3*EXP(A!I$4*A!C11),\"\")","v":169.06563227205825},{"$f":"IF(ISNUMBER(A!C11),IF((A!J$2+A!J$3*A!C11)<A!J$4,A!J$2+A!J$3*A!C11,A!J$4),\"\")","v":169.99984713439568},{"$f":"IF(ISNUMBER(A!C11),IF(A!C11<A!K$4,A!K$2+A!K$3*(3*A!C11/(2*A!K$4)-0.5*(A!C11/A!K$4)^3),A!K$3+A!K$2),\"\")","v":170.74995902573716},{"$f":"IF(ISNUMBER(A!$C11),(B11-A!$D11)^2,\"\")","v":1.2719126616150038E-2},{"$f":"IF(ISNUMBER(A!$C11),(C11-A!$D11)^2,\"\")","v":5.4188043892882468E-3},{"$f":"IF(ISNUMBER(A!$C11),(D11-A!$D11)^2,\"\")","v":3.7417785069025191},{"$f":"IF(ISNUMBER(A!$C11),(E11-A!$D11)^2,\"\")","v":1.0003057545765341},{"$f":"IF(ISNUMBER(A!$C11),(F11-A!$D11)^2,\"\")","v":6.2520488810312663E-2}]
[8,{"$f":"IF(ISNUMBER(A!C12),A!G$2+A!G$3*A!C12+A!G$4*A!C12^2,\"\")","v":171.27636069616665},{"$f":"IF(ISNUMBER(A!C12),IF(A!C12<(A!H$3/(-2*A!H$4)),A!H$2+A!H$3*A!C12+A!H$4*A!C12^2,A!H$2+A!H$3*(A!H$3/(-2*A!H$4))+A!H$4*(A!H$3/(-2*A!H$4))^2),\"\")","v":171.80864913623245},{"$f":"IF(ISNUMBER(A!C12),A!I$2+A!I$3*EXP(A!I$4*A!C12),\"\")","v":174.05802044429436},{"$f":"IF(ISNUMBER(A!C12),IF((A!J$2+A!J$3*A!C12)<A!J$4,A!J$2+A!J$3*A!C12,A!J$4),\"\")","v":169.99984713439568},{"$f":"IF(ISNUMBER(A!C12),IF(A!C12<A!K$4,A!K$2+A!K$3*(3*A!C12/(2*A!K$4)-0.5*(A!C12/A!K$4)^3),A!K$3+A!K$2),\"\")","v":170.74995902573716},{"$f":"IF(ISNUMBER(A!$C12),(B12-A!$D12)^2,\"\")","v":5.181818019052308},{"$f":"IF(ISNUMBER(A!$C12),(C12-A!$D12)^2,\"\")","v":7.8885099704592685},{"$f":"IF(ISNUMBER(A!$C12),(D12-A!$D12)^2,\"\")","v":25.583570814899684},{"$f":"IF(ISNUMBER(A!$C12),(E12-A!$D12)^2,\"\")","v":0.99969429215925176},{"$f":"IF(ISNUMBER(A!$C12),(F12-A!$D12)^2,\"\")","v":3.0623565917589333}]
[9,{"$f":"IF(ISNUMBER(A!C13),A!G$2+A!G$3*A!C13+A!G$4*A!C13^2,\"\")","v":""},{"$f":"IF(ISNUMBER(A!C13),IF(A!C13<(A!H$3/(-2*A!H$4)),A!H$2+A!H$3*A!C13+A!H$4*A!C13^2,A!H$2+A!H$3*(A!H$3/(-2*A!H$4))+A!H$4*(A!H$3/(-2*A!H$4))^2),\"\")","v":""},{"$f":"IF(ISNUMBER(A!C13),A!I$2+A!I$3*EXP(A!I$4*A!C13),\"\")","v":""},{"$f":"IF(ISNUMBER(A!C13),IF((A!J$2+A!J$3*A!C13)<A!J$4,A!J$2+A!J$3*A!C13,A!J$4),\"\")","v":""},{"$f":"IF(ISNUMBER(A!C13),IF(A!C13<A!K$4,A!K$2+A!K$3*(3*A!C13/(2*A!K$4)-0.5*(A!C13/A!K$4)^3),A!K$3+A!K$2),\"\")","v":""},{"$f":"IF(ISNUMBER(A!$C13),(B13-A!$D13)^2,\"\")","v":""},{"$f":"IF(ISNUMBER(A!$C13),(C13-A!$D13)^2,\"\")","v":""},{"$f":"IF(ISNUMBER(A!$C13),(D13-A!$D13)^2,\"\")","v":""},{"$f":"IF(ISNUMBER(A!$C13),(E13-A!$D13)^2,\"\")","v":""},{"$f":"IF(ISNUMBER(A!$C13),(F13-A!$D13)^2,\"\")","v":""},null,null,"Data for Graph:"]
[10,{"$f":"IF(ISNUMBER(A!C14),A!G$2+A!G$3*A!C14+A!G$4*A!C14^2,\"\")","v":""},{"$f":"IF(ISNUMBER(A!C14),IF(A!C14<(A!H$3/(-2*A!H$4)),A!H$2+A!H$3*A!C14+A!H$4*A!C14^2,A!H$2+A!H$3*(A!H$3/(-2*A!H$4))+A!H$4*(A!H$3/(-2*A!H$4))^2),\"\")","v":""},{"$f":"IF(ISNUMBER(A!C14),A!I$2+A!I$3*EXP(A!I$4*A!C14),\"\")","v":""},{"$f":"IF(ISNUMBER(A!C14),IF((A!J$2+A!J$3*A!C14)<A!J$4,A!J$2+A!J$3*A!C14,A!J$4),\"\")","v":""},{"$f":"IF(ISNUMBER(A!C14),IF(A!C14<A!K$4,A!K$2+A!K$3*(3*A!C14/(2*A!K$4)-0.5*(A!C14/A!K$4)^3),A!K$3+A!K$2),\"\")","v":""},{"$f":"IF(ISNUMBER(A!$C14),(B14-A!$D14)^2,\"\")","v":""},{"$f":"IF(ISNUMBER(A!$C14),(C14-A!$D14)^2,\"\")","v":""},{"$f":"IF(ISNUMBER(A!$C14),(D14-A!$D14)^2,\"\")","v":""},{"$f":"IF(ISNUMBER(A!$C14),(E14-A!$D14)^2,\"\")","v":""},{"$f":"IF(ISNUMBER(A!$C14),(F14-A!$D14)^2,\"\")","v":""},null,null,"Most Economic Rate",null,null,null,null,"Yield at Most Economic Rate",null,null,null,null,"Mean","Mean"]
[11,{"$f":"IF(ISNUMBER(A!C15),A!G$2+A!G$3*A!C15+A!G$4*A!C15^2,\"\")","v":""},{"$f":"IF(ISNUMBER(A!C15),IF(A!C15<(A!H$3/(-2*A!H$4)),A!H$2+A!H$3*A!C15+A!H$4*A!C15^2,A!H$2+A!H$3*(A!H$3/(-2*A!H$4))+A!H$4*(A!H$3/(-2*A!H$4))^2),\"\")","v":""},{"$f":"IF(ISNUMBER(A!C15),A!I$2+A!I$3*EXP(A!I$4*A!C15),\"\")","v":""},{"$f":"IF(ISNUMBER(A!C15),IF((A!J$2+A!J$3*A!C15)<A!J$4,A!J$2+A!J$3*A!C15,A!J$4),\"\")","v":""},{"$f":"IF(ISNUMBER(A!C15),IF(A!C15<A!K$4,A!K$2+A!K$3*(3*A!C15/(2*A!K$4)-0.5*(A!C15/A!K$4)^3),A!K$3+A!K$2),\"\")","v":""},{"$f":"IF(ISNUMBER(A!$C15),(B15-A!$D15)^2,\"\")","v":""},{"$f":"IF(ISNUMBER(A!$C15),(C15-A!$D15)^2,\"\")","v":""},{"$f":"IF(ISNUMBER(A!$C15),(D15-A!$D15)^2,\"\")","v":""},{"$f":"IF(ISNUMBER(A!$C15),(E15-A!$D15)^2,\"\")","v":""},{"$f":"IF(ISNUMBER(A!$C15),(F15-A!$D15)^2,\"\")","v":""},null,null,"Q","QP","M","LP","S ","Q","QP","M","LP","S ","MERN","Y@mern"]
[12,{"$f":"IF(ISNUMBER(A!C16),A!G$2+A!G$3*A!C16+A!G$4*A!C16^2,\"\")","v":""},{"$f":"IF(ISNUMBER(A!C16),IF(A!C16<(A!H$3/(-2*A!H$4)),A!H$2+A!H$3*A!C16+A!H$4*A!C16^2,A!H$2+A!H$3*(A!H$3/(-2*A!H$4))+A!H$4*(A!H$3/(-2*A!H$4))^2),\"\")","v":""},{"$f":"IF(ISNUMBER(A!C16),A!I$2+A!I$3*EXP(A!I$4*A!C16),\"\")","v":""},{"$f":"IF(ISNUMBER(A!C16),IF((A!J$2+A!J$3*A!C16)<A!J$4,A!J$2+A!J$3*A!C16,A!J$4),\"\")","v":""},{"$f":"IF(ISNUMBER(A!C16),IF(A!C16<A!K$4,A!K$2+A!K$3*(3*A!C16/(2*A!K$4)-0.5*(A!C16/A!K$4)^3),A!K$3+A!K$2),\"\")","v":""},{"$f":"IF(ISNUMBER(A!$C16),(B16-A!$D16)^2,\"\")","v":""},{"$f":"IF(ISNUMBER(A!$C16),(C16-A!$D16)^2,\"\")","v":""},{"$f":"IF(ISNUMBER(A!$C16),(D16-A!$D16)^2,\"\")","v":""},{"$f":"IF(ISNUMBER(A!$C16),(E16-A!$D16)^2,\"\")","v":""},{"$f":"IF(ISNUMBER(A!$C16),(F16-A!$D16)^2,\"\")","v":""},null,null,{"$f":"A!G6","v":202.17813104198964},{"$f":"A!H6","v":202.76998266383623},{"$f":"A!I6","v":254.24054652346399},{"$f":"A!J6","v":158.15537609894977},{"$f":"A!K6","v":190.36683392031171},0,0,0,0,0,{"$f":"A!$F$6","v":188.66010026437084},0]
[13,{"$f":"IF(ISNUMBER(A!C17),A!G$2+A!G$3*A!C17+A!G$4*A!C17^2,\"\")","v":""},{"$f":"IF(ISNUMBER(A!C17),IF(A!C17<(A!H$3/(-2*A!H$4)),A!H$2+A!H$3*A!C17+A!H$4*A!C17^2,A!H$2+A!H$3*(A!H$3/(-2*A!H$4))+A!H$4*(A!H$3/(-2*A!H$4))^2),\"\")","v":""},{"$f":"IF(ISNUMBER(A!C17),A!I$2+A!I$3*EXP(A!I$4*A!C17),\"\")","v":""},{"$f":"IF(ISNUMBER(A!C17),IF((A!J$2+A!J$3*A!C17)<A!J$4,A!J$2+A!J$3*A!C17,A!J$4),\"\")","v":""},{"$f":"IF(ISNUMBER(A!C17),IF(A!C17<A!K$4,A!K$2+A!K$3*(3*A!C17/(2*A!K$4)-0.5*(A!C17/A!K$4)^3),A!K$3+A!K$2),\"\")","v":""},{"$f":"IF(ISNUMBER(A!$C17),(B17-A!$D17)^2,\"\")","v":""},{"$f":"IF(ISNUMBER(A!$C17),(C17-A!$D17)^2,\"\")","v":""},{"$f":"IF(ISNUMBER(A!$C17),(D17-A!$D17)^2,\"\")","v":""},{"$f":"IF(ISNUMBER(A!$C17),(E17-A!$D17)^2,\"\")","v":""},{"$f":"IF(ISNUMBER(A!$C17),(F17-A!$D17)^2,\"\")","v":""},null,null,{"$f":"N16","v":202.17813104198964},{"$f":"A!H6","v":202.76998266383623},{"$f":"A!I6","v":254.24054652346399},{"$f":"A!J6","v":158.15537609894977},{"$f":"A!K6","v":190.36683392031171},{"$f":"A!G7","v":170.29528867087546},{"$f":"A!H7","v":170.30572335467093},{"$f":"A!I7","v":175.96642975218845},{"$f":"A!J7","v":169.99984713439568},{"$f":"A!K7","v":169.87903262350846},{"$f":"X16","v":188.66010026437084},{"$f":"A!$F$7","v":168.88919588507363}]
[14,{"$f":"IF(ISNUMBER(A!C18),A!G$2+A!G$3*A!C18+A!G$4*A!C18^2,\"\")","v":""},{"$f":"IF(ISNUMBER(A!C18),IF(A!C18<(A!H$3/(-2*A!H$4)),A!H$2+A!H$3*A!C18+A!H$4*A!C18^2,A!H$2+A!H$3*(A!H$3/(-2*A!H$4))+A!H$4*(A!H$3/(-2*A!H$4))^2),\"\")","v":""},{"$f":"IF(ISNUMBER(A!C18),A!I$2+A!I$3*EXP(A!I$4*A!C18),\"\")","v":""},{"$f":"IF(ISNUMBER(A!C18),IF((A!J$2+A!J$3*A!C18)<A!J$4,A!J$2+A!J$3*A!C18,A!J$4),\"\")","v":""},{"$f":"IF(ISNUMBER(A!C18),IF(A!C18<A!K$4,A!K$2+A!K$3*(3*A!C18/(2*A!K$4)-0.5*(A!C18/A!K$4)^3),A!K$3+A!K$2),\"\")","v":""},{"$f":"IF(ISNUMBER(A!$C18),(B18-A!$D18)^2,\"\")","v":""},{"$f":"IF(ISNUMBER(A!$C18),(C18-A!$D18)^2,\"\")","v":""},{"$f":"IF(ISNUMBER(A!$C18),(D18-A!$D18)^2,\"\")","v":""},{"$f":"IF(ISNUMBER(A!$C18),(E18-A!$D18)^2,\"\")","v":""},{"$f":"IF(ISNUMBER(A!$C18),(F18-A!$D18)^2,\"\")","v":""}]
[15,{"$f":"IF(ISNUMBER(A!C19),A!G$2+A!G$3*A!C19+A!G$4*A!C19^2,\"\")","v":""},{"$f":"IF(ISNUMBER(A!C19),IF(A!C19<(A!H$3/(-2*A!H$4)),A!H$2+A!H$3*A!C19+A!H$4*A!C19^2,A!H$2+A!H$3*(A!H$3/(-2*A!H$4))+A!H$4*(A!H$3/(-2*A!H$4))^2),\"\")","v":""},{"$f":"IF(ISNUMBER(A!C19),A!I$2+A!I$3*EXP(A!I$4*A!C19),\"\")","v":""},{"$f":"IF(ISNUMBER(A!C19),IF((A!J$2+A!J$3*A!C19)<A!J$4,A!J$2+A!J$3*A!C19,A!J$4),\"\")","v":""},{"$f":"IF(ISNUMBER(A!C19),IF(A!C19<A!K$4,A!K$2+A!K$3*(3*A!C19/(2*A!K$4)-0.5*(A!C19/A!K$4)^3),A!K$3+A!K$2),\"\")","v":""},{"$f":"IF(ISNUMBER(A!$C19),(B19-A!$D19)^2,\"\")","v":""},{"$f":"IF(ISNUMBER(A!$C19),(C19-A!$D19)^2,\"\")","v":""},{"$f":"IF(ISNUMBER(A!$C19),(D19-A!$D19)^2,\"\")","v":""},{"$f":"IF(ISNUMBER(A!$C19),(E19-A!$D19)^2,\"\")","v":""},{"$f":"IF(ISNUMBER(A!$C19),(F19-A!$D19)^2,\"\")","v":""}]
[16,{"$f":"IF(ISNUMBER(A!C20),A!G$2+A!G$3*A!C20+A!G$4*A!C20^2,\"\")","v":""},{"$f":"IF(ISNUMBER(A!C20),IF(A!C20<(A!H$3/(-2*A!H$4)),A!H$2+A!H$3*A!C20+A!H$4*A!C20^2,A!H$2+A!H$3*(A!H$3/(-2*A!H$4))+A!H$4*(A!H$3/(-2*A!H$4))^2),\"\")","v":""},{"$f":"IF(ISNUMBER(A!C20),A!I$2+A!I$3*EXP(A!I$4*A!C20),\"\")","v":""},{"$f":"IF(ISNUMBER(A!C20),IF((A!J$2+A!J$3*A!C20)<A!J$4,A!J$2+A!J$3*A!C20,A!J$4),\"\")","v":""},{"$f":"IF(ISNUMBER(A!C20),IF(A!C20<A!K$4,A!K$2+A!K$3*(3*A!C20/(2*A!K$4)-0.5*(A!C20/A!K$4)^3),A!K$3+A!K$2),\"\")","v":""},{"$f":"IF(ISNUMBER(A!$C20),(B20-A!$D20)^2,\"\")","v":""},{"$f":"IF(ISNUMBER(A!$C20),(C20-A!$D20)^2,\"\")","v":""},{"$f":"IF(ISNUMBER(A!$C20),(D20-A!$D20)^2,\"\")","v":""},{"$f":"IF(ISNUMBER(A!$C20),(E20-A!$D20)^2,\"\")","v":""},{"$f":"IF(ISNUMBER(A!$C20),(F20-A!$D20)^2,\"\")","v":""},null,null,"Nutrient content (lb/bu):",{"$f":"A!B30","v":0.65},"These two cells, carried from page A, set constraints on initial slope "]
[17,{"$f":"IF(ISNUMBER(A!C21),A!G$2+A!G$3*A!C21+A!G$4*A!C21^2,\"\")","v":""},{"$f":"IF(ISNUMBER(A!C21),IF(A!C21<(A!H$3/(-2*A!H$4)),A!H$2+A!H$3*A!C21+A!H$4*A!C21^2,A!H$2+A!H$3*(A!H$3/(-2*A!H$4))+A!H$4*(A!H$3/(-2*A!H$4))^2),\"\")","v":""},{"$f":"IF(ISNUMBER(A!C21),A!I$2+A!I$3*EXP(A!I$4*A!C21),\"\")","v":""},{"$f":"IF(ISNUMBER(A!C21),IF((A!J$2+A!J$3*A!C21)<A!J$4,A!J$2+A!J$3*A!C21,A!J$4),\"\")","v":""},{"$f":"IF(ISNUMBER(A!C21),IF(A!C21<A!K$4,A!K$2+A!K$3*(3*A!C21/(2*A!K$4)-0.5*(A!C21/A!K$4)^3),A!K$3+A!K$2),\"\")","v":""},{"$f":"IF(ISNUMBER(A!$C21),(B21-A!$D21)^2,\"\")","v":""},{"$f":"IF(ISNUMBER(A!$C21),(C21-A!$D21)^2,\"\")","v":""},{"$f":"IF(ISNUMBER(A!$C21),(D21-A!$D21)^2,\"\")","v":""},{"$f":"IF(ISNUMBER(A!$C21),(E21-A!$D21)^2,\"\")","v":""},{"$f":"IF(ISNUMBER(A!$C21),(F21-A!$D21)^2,\"\")","v":""},null,null,"NHI:",{"$f":"A!B31","v":0.66600000000000004},"assuming maximum efficiency (REN) is 100% + fitting tolerance."]
[18,{"$f":"IF(ISNUMBER(A!C22),A!G$2+A!G$3*A!C22+A!G$4*A!C22^2,\"\")","v":""},{"$f":"IF(ISNUMBER(A!C22),IF(A!C22<(A!H$3/(-2*A!H$4)),A!H$2+A!H$3*A!C22+A!H$4*A!C22^2,A!H$2+A!H$3*(A!H$3/(-2*A!H$4))+A!H$4*(A!H$3/(-2*A!H$4))^2),\"\")","v":""},{"$f":"IF(ISNUMBER(A!C22),A!I$2+A!I$3*EXP(A!I$4*A!C22),\"\")","v":""},{"$f":"IF(ISNUMBER(A!C22),IF((A!J$2+A!J$3*A!C22)<A!J$4,A!J$2+A!J$3*A!C22,A!J$4),\"\")","v":""},{"$f":"IF(ISNUMBER(A!C22),IF(A!C22<A!K$4,A!K$2+A!K$3*(3*A!C22/(2*A!K$4)-0.5*(A!C22/A!K$4)^3),A!K$3+A!K$2),\"\")","v":""},{"$f":"IF(ISNUMBER(A!$C22),(B22-A!$D22)^2,\"\")","v":""},{"$f":"IF(ISNUMBER(A!$C22),(C22-A!$D22)^2,\"\")","v":""},{"$f":"IF(ISNUMBER(A!$C22),(D22-A!$D22)^2,\"\")","v":""},{"$f":"IF(ISNUMBER(A!$C22),(E22-A!$D22)^2,\"\")","v":""},{"$f":"IF(ISNUMBER(A!$C22),(F22-A!$D22)^2,\"\")","v":""}]
[19,{"$f":"IF(ISNUMBER(A!C23),A!G$2+A!G$3*A!C23+A!G$4*A!C23^2,\"\")","v":""},{"$f":"IF(ISNUMBER(A!C23),IF(A!C23<(A!H$3/(-2*A!H$4)),A!H$2+A!H$3*A!C23+A!H$4*A!C23^2,A!H$2+A!H$3*(A!H$3/(-2*A!H$4))+A!H$4*(A!H$3/(-2*A!H$4))^2),\"\")","v":""},{"$f":"IF(ISNUMBER(A!C23),A!I$2+A!I$3*EXP(A!I$4*A!C23),\"\")","v":""},{"$f":"IF(ISNUMBER(A!C23),IF((A!J$2+A!J$3*A!C23)<A!J$4,A!J$2+A!J$3*A!C23,A!J$4),\"\")","v":""},{"$f":"IF(ISNUMBER(A!C23),IF(A!C23<A!K$4,A!K$2+A!K$3*(3*A!C23/(2*A!K$4)-0.5*(A!C23/A!K$4)^3),A!K$3+A!K$2),\"\")","v":""},{"$f":"IF(ISNUMBER(A!$C23),(B23-A!$D23)^2,\"\")","v":""},{"$f":"IF(ISNUMBER(A!$C23),(C23-A!$D23)^2,\"\")","v":""},{"$f":"IF(ISNUMBER(A!$C23),(D23-A!$D23)^2,\"\")","v":""},{"$f":"IF(ISNUMBER(A!$C23),(E23-A!$D23)^2,\"\")","v":""},{"$f":"IF(ISNUMBER(A!$C23),(F23-A!$D23)^2,\"\")","v":""}]
[20,{"$f":"IF(ISNUMBER(A!C24),A!G$2+A!G$3*A!C24+A!G$4*A!C24^2,\"\")","v":""},{"$f":"IF(ISNUMBER(A!C24),IF(A!C24<(A!H$3/(-2*A!H$4)),A!H$2+A!H$3*A!C24+A!H$4*A!C24^2,A!H$2+A!H$3*(A!H$3/(-2*A!H$4))+A!H$4*(A!H$3/(-2*A!H$4))^2),\"\")","v":""},{"$f":"IF(ISNUMBER(A!C24),A!I$2+A!I$3*EXP(A!I$4*A!C24),\"\")","v":""},{"$f":"IF(ISNUMBER(A!C24),IF((A!J$2+A!J$3*A!C24)<A!J$4,A!J$2+A!J$3*A!C24,A!J$4),\"\")","v":""},{"$f":"IF(ISNUMBER(A!C24),IF(A!C24<A!K$4,A!K$2+A!K$3*(3*A!C24/(2*A!K$4)-0.5*(A!C24/A!K$4)^3),A!K$3+A!K$2),\"\")","v":""},{"$f":"IF(ISNUMBER(A!$C24),(B24-A!$D24)^2,\"\")","v":""},{"$f":"IF(ISNUMBER(A!$C24),(C24-A!$D24)^2,\"\")","v":""},{"$f":"IF(ISNUMBER(A!$C24),(D24-A!$D24)^2,\"\")","v":""},{"$f":"IF(ISNUMBER(A!$C24),(E24-A!$D24)^2,\"\")","v":""},{"$f":"IF(ISNUMBER(A!$C24),(F24-A!$D24)^2,\"\")","v":""}]
[21,{"$f":"IF(ISNUMBER(A!C25),A!G$2+A!G$3*A!C25+A!G$4*A!C25^2,\"\")","v":""},{"$f":"IF(ISNUMBER(A!C25),IF(A!C25<(A!H$3/(-2*A!H$4)),A!H$2+A!H$3*A!C25+A!H$4*A!C25^2,A!H$2+A!H$3*(A!H$3/(-2*A!H$4))+A!H$4*(A!H$3/(-2*A!H$4))^2),\"\")","v":""},{"$f":"IF(ISNUMBER(A!C25),A!I$2+A!I$3*EXP(A!I$4*A!C25),\"\")","v":""},{"$f":"IF(ISNUMBER(A!C25),IF((A!J$2+A!J$3*A!C25)<A!J$4,A!J$2+A!J$3*A!C25,A!J$4),\"\")","v":""},{"$f":"IF(ISNUMBER(A!C25),IF(A!C25<A!K$4,A!K$2+A!K$3*(3*A!C25/(2*A!K$4)-0.5*(A!C25/A!K$4)^3),A!K$3+A!K$2),\"\")","v":""},{"$f":"IF(ISNUMBER(A!$C25),(B25-A!$D25)^2,\"\")","v":""},{"$f":"IF(ISNUMBER(A!$C25),(C25-A!$D25)^2,\"\")","v":""},{"$f":"IF(ISNUMBER(A!$C25),(D25-A!$D25)^2,\"\")","v":""},{"$f":"IF(ISNUMBER(A!$C25),(E25-A!$D25)^2,\"\")","v":""},{"$f":"IF(ISNUMBER(A!$C25),(F25-A!$D25)^2,\"\")","v":""},null,null,"Initialization"]
[22,{"$f":"IF(ISNUMBER(A!C26),A!G$2+A!G$3*A!C26+A!G$4*A!C26^2,\"\")","v":""},{"$f":"IF(ISNUMBER(A!C26),IF(A!C26<(A!H$3/(-2*A!H$4)),A!H$2+A!H$3*A!C26+A!H$4*A!C26^2,A!H$2+A!H$3*(A!H$3/(-2*A!H$4))+A!H$4*(A!H$3/(-2*A!H$4))^2),\"\")","v":""},{"$f":"IF(ISNUMBER(A!C26),A!I$2+A!I$3*EXP(A!I$4*A!C26),\"\")","v":""},{"$f":"IF(ISNUMBER(A!C26),IF((A!J$2+A!J$3*A!C26)<A!J$4,A!J$2+A!J$3*A!C26,A!J$4),\"\")","v":""},{"$f":"IF(ISNUMBER(A!C26),IF(A!C26<A!K$4,A!K$2+A!K$3*(3*A!C26/(2*A!K$4)-0.5*(A!C26/A!K$4)^3),A!K$3+A!K$2),\"\")","v":""},{"$f":"IF(ISNUMBER(A!$C26),(B26-A!$D26)^2,\"\")","v":""},{"$f":"IF(ISNUMBER(A!$C26),(C26-A!$D26)^2,\"\")","v":""},{"$f":"IF(ISNUMBER(A!$C26),(D26-A!$D26)^2,\"\")","v":""},{"$f":"IF(ISNUMBER(A!$C26),(E26-A!$D26)^2,\"\")","v":""},{"$f":"IF(ISNUMBER(A!$C26),(F26-A!$D26)^2,\"\")","v":""},null,null,"Mean"]
[23,{"$f":"IF(ISNUMBER(A!C27),A!G$2+A!G$3*A!C27+A!G$4*A!C27^2,\"\")","v":""},{"$f":"IF(ISNUMBER(A!C27),IF(A!C27<(A!H$3/(-2*A!H$4)),A!H$2+A!H$3*A!C27+A!H$4*A!C27^2,A!H$2+A!H$3*(A!H$3/(-2*A!H$4))+A!H$4*(A!H$3/(-2*A!H$4))^2),\"\")","v":""},{"$f":"IF(ISNUMBER(A!C27),A!I$2+A!I$3*EXP(A!I$4*A!C27),\"\")","v":""},{"$f":"IF(ISNUMBER(A!C27),IF((A!J$2+A!J$3*A!C27)<A!J$4,A!J$2+A!J$3*A!C27,A!J$4),\"\")","v":""},{"$f":"IF(ISNUMBER(A!C27),IF(A!C27<A!K$4,A!K$2+A!K$3*(3*A!C27/(2*A!K$4)-0.5*(A!C27/A!K$4)^3),A!K$3+A!K$2),\"\")","v":""},{"$f":"IF(ISNUMBER(A!$C27),(B27-A!$D27)^2,\"\")","v":""},{"$f":"IF(ISNUMBER(A!$C27),(C27-A!$D27)^2,\"\")","v":""},{"$f":"IF(ISNUMBER(A!$C27),(D27-A!$D27)^2,\"\")","v":""},{"$f":"IF(ISNUMBER(A!$C27),(E27-A!$D27)^2,\"\")","v":""},{"$f":"IF(ISNUMBER(A!$C27),(F27-A!$D27)^2,\"\")","v":""},null,null,"Q","QP","M","LP","S "]
[24,{"$f":"IF(ISNUMBER(A!C28),A!G$2+A!G$3*A!C28+A!G$4*A!C28^2,\"\")","v":""},{"$f":"IF(ISNUMBER(A!C28),IF(A!C28<(A!H$3/(-2*A!H$4)),A!H$2+A!H$3*A!C28+A!H$4*A!C28^2,A!H$2+A!H$3*(A!H$3/(-2*A!H$4))+A!H$4*(A!H$3/(-2*A!H$4))^2),\"\")","v":""},{"$f":"IF(ISNUMBER(A!C28),A!I$2+A!I$3*EXP(A!I$4*A!C28),\"\")","v":""},{"$f":"IF(ISNUMBER(A!C28),IF((A!J$2+A!J$3*A!C28)<A!J$4,A!J$2+A!J$3*A!C28,A!J$4),\"\")","v":""},{"$f":"IF(ISNUMBER(A!C28),IF(A!C28<A!K$4,A!K$2+A!K$3*(3*A!C28/(2*A!K$4)-0.5*(A!C28/A!K$4)^3),A!K$3+A!K$2),\"\")","v":""},{"$f":"IF(ISNUMBER(A!$C28),(B28-A!$D28)^2,\"\")","v":""},{"$f":"IF(ISNUMBER(A!$C28),(C28-A!$D28)^2,\"\")","v":""},{"$f":"IF(ISNUMBER(A!$C28),(D28-A!$D28)^2,\"\")","v":""},{"$f":"IF(ISNUMBER(A!$C28),(E28-A!$D28)^2,\"\")","v":""},{"$f":"IF(ISNUMBER(A!$C28),(F28-A!$D28)^2,\"\")","v":""},null,"A",{"$f":"AVERAGE(N8,S8)","v":40},{"$f":"N28","v":40},{"$f":"AVERAGE(P8,U8)","v":171},40,40]
[25,{"$f":"IF(ISNUMBER(A!C29),A!G$2+A!G$3*A!C29+A!G$4*A!C29^2,\"\")","v":""},{"$f":"IF(ISNUMBER(A!C29),IF(A!C29<(A!H$3/(-2*A!H$4)),A!H$2+A!H$3*A!C29+A!H$4*A!C29^2,A!H$2+A!H$3*(A!H$3/(-2*A!H$4))+A!H$4*(A!H$3/(-2*A!H$4))^2),\"\")","v":""},{"$f":"IF(ISNUMBER(A!C29),A!I$2+A!I$3*EXP(A!I$4*A!C29),\"\")","v":""},{"$f":"IF(ISNUMBER(A!C29),IF((A!J$2+A!J$3*A!C29)<A!J$4,A!J$2+A!J$3*A!C29,A!J$4),\"\")","v":""},{"$f":"IF(ISNUMBER(A!C29),IF(A!C29<A!K$4,A!K$2+A!K$3*(3*A!C29/(2*A!K$4)-0.5*(A!C29/A!K$4)^3),A!K$3+A!K$2),\"\")","v":""},{"$f":"IF(ISNUMBER(A!$C29),(B29-A!$D29)^2,\"\")","v":""},{"$f":"IF(ISNUMBER(A!$C29),(C29-A!$D29)^2,\"\")","v":""},{"$f":"IF(ISNUMBER(A!$C29),(D29-A!$D29)^2,\"\")","v":""},{"$f":"IF(ISNUMBER(A!$C29),(E29-A!$D29)^2,\"\")","v":""},{"$f":"IF(ISNUMBER(A!$C29),(F29-A!$D29)^2,\"\")","v":""},null,"B",{"$f":"AVERAGE(N9,S9)","v":0.76846153846153853},{"$f":"N29","v":0.76846153846153853},-88.25,0.64038461538461533,88.25]
[26,{"$f":"IF(ISNUMBER(A!C30),A!G$2+A!G$3*A!C30+A!G$4*A!C30^2,\"\")","v":""},{"$f":"IF(ISNUMBER(A!C30),IF(A!C30<(A!H$3/(-2*A!H$4)),A!H$2+A!H$3*A!C30+A!H$4*A!C30^2,A!H$2+A!H$3*(A!H$3/(-2*A!H$4))+A!H$4*(A!H$3/(-2*A!H$4))^2),\"\")","v":""},{"$f":"IF(ISNUMBER(A!C30),A!I$2+A!I$3*EXP(A!I$4*A!C30),\"\")","v":""},{"$f":"IF(ISNUMBER(A!C30),IF((A!J$2+A!J$3*A!C30)<A!J$4,A!J$2+A!J$3*A!C30,A!J$4),\"\")","v":""},{"$f":"IF(ISNUMBER(A!C30),IF(A!C30<A!K$4,A!K$2+A!K$3*(3*A!C30/(2*A!K$4)-0.5*(A!C30/A!K$4)^3),A!K$3+A!K$2),\"\")","v":""},{"$f":"IF(ISNUMBER(A!$C30),(B30-A!$D30)^2,\"\")","v":""},{"$f":"IF(ISNUMBER(A!$C30),(C30-A!$D30)^2,\"\")","v":""},{"$f":"IF(ISNUMBER(A!$C30),(D30-A!$D30)^2,\"\")","v":""},{"$f":"IF(ISNUMBER(A!$C30),(E30-A!$D30)^2,\"\")","v":""},{"$f":"IF(ISNUMBER(A!$C30),(F30-A!$D30)^2,\"\")","v":""},null,"C",{"$f":"AVERAGE(N10,S10)/10","v":-5.0000005E-2},{"$f":"N30","v":-5.0000005E-2},{"$f":"AVERAGE(P10,U10)","v":-7.5467922096317279E-3},{"$f":"AVERAGE(Q10,V10)","v":128.25},{"$f":"M48","v":254.24054652346399}]
[27,{"$f":"IF(ISNUMBER(A!C31),A!G$2+A!G$3*A!C31+A!G$4*A!C31^2,\"\")","v":""},{"$f":"IF(ISNUMBER(A!C31),IF(A!C31<(A!H$3/(-2*A!H$4)),A!H$2+A!H$3*A!C31+A!H$4*A!C31^2,A!H$2+A!H$3*(A!H$3/(-2*A!H$4))+A!H$4*(A!H$3/(-2*A!H$4))^2),\"\")","v":""},{"$f":"IF(ISNUMBER(A!C31),A!I$2+A!I$3*EXP(A!I$4*A!C31),\"\")","v":""},{"$f":"IF(ISNUMBER(A!C31),IF((A!J$2+A!J$3*A!C31)<A!J$4,A!J$2+A!J$3*A!C31,A!J$4),\"\")","v":""},{"$f":"IF(ISNUMBER(A!C31),IF(A!C31<A!K$4,A!K$2+A!K$3*(3*A!C31/(2*A!K$4)-0.5*(A!C31/A!K$4)^3),A!K$3+A!K$2),\"\")","v":""},{"$f":"IF(ISNUMBER(A!$C31),(B31-A!$D31)^2,\"\")","v":""},{"$f":"IF(ISNUMBER(A!$C31),(C31-A!$D31)^2,\"\")","v":""},{"$f":"IF(ISNUMBER(A!$C31),(D31-A!$D31)^2,\"\")","v":""},{"$f":"IF(ISNUMBER(A!$C31),(E31-A!$D31)^2,\"\")","v":""},{"$f":"IF(ISNUMBER(A!$C31),(F31-A!$D31)^2,\"\")","v":""}]
[28,{"$f":"IF(ISNUMBER(A!C32),A!G$2+A!G$3*A!C32+A!G$4*A!C32^2,\"\")","v":""},{"$f":"IF(ISNUMBER(A!C32),IF(A!C32<(A!H$3/(-2*A!H$4)),A!H$2+A!H$3*A!C32+A!H$4*A!C32^2,A!H$2+A!H$3*(A!H$3/(-2*A!H$4))+A!H$4*(A!H$3/(-2*A!H$4))^2),\"\")","v":""},{"$f":"IF(ISNUMBER(A!C32),A!I$2+A!I$3*EXP(A!I$4*A!C32),\"\")","v":""},{"$f":"IF(ISNUMBER(A!C32),IF((A!J$2+A!J$3*A!C32)<A!J$4,A!J$2+A!J$3*A!C32,A!J$4),\"\")","v":""},{"$f":"IF(ISNUMBER(A!C32),IF(A!C32<A!K$4,A!K$2+A!K$3*(3*A!C32/(2*A!K$4)-0.5*(A!C32/A!K$4)^3),A!K$3+A!K$2),\"\")","v":""},{"$f":"IF(ISNUMBER(A!$C32),(B32-A!$D32)^2,\"\")","v":""},{"$f":"IF(ISNUMBER(A!$C32),(C32-A!$D32)^2,\"\")","v":""},{"$f":"IF(ISNUMBER(A!$C32),(D32-A!$D32)^2,\"\")","v":""},{"$f":"IF(ISNUMBER(A!$C32),(E32-A!$D32)^2,\"\")","v":""},{"$f":"IF(ISNUMBER(A!$C32),(F32-A!$D32)^2,\"\")","v":""}]
[29,{"$f":"IF(ISNUMBER(A!C33),A!G$2+A!G$3*A!C33+A!G$4*A!C33^2,\"\")","v":""},{"$f":"IF(ISNUMBER(A!C33),IF(A!C33<(A!H$3/(-2*A!H$4)),A!H$2+A!H$3*A!C33+A!H$4*A!C33^2,A!H$2+A!H$3*(A!H$3/(-2*A!H$4))+A!H$4*(A!H$3/(-2*A!H$4))^2),\"\")","v":""},{"$f":"IF(ISNUMBER(A!C33),A!I$2+A!I$3*EXP(A!I$4*A!C33),\"\")","v":""},{"$f":"IF(ISNUMBER(A!C33),IF((A!J$2+A!J$3*A!C33)<A!J$4,A!J$2+A!J$3*A!C33,A!J$4),\"\")","v":""},{"$f":"IF(ISNUMBER(A!C33),IF(A!C33<A!K$4,A!K$2+A!K$3*(3*A!C33/(2*A!K$4)-0.5*(A!C33/A!K$4)^3),A!K$3+A!K$2),\"\")","v":""},{"$f":"IF(ISNUMBER(A!$C33),(B33-A!$D33)^2,\"\")","v":""},{"$f":"IF(ISNUMBER(A!$C33),(C33-A!$D33)^2,\"\")","v":""},{"$f":"IF(ISNUMBER(A!$C33),(D33-A!$D33)^2,\"\")","v":""},{"$f":"IF(ISNUMBER(A!$C33),(E33-A!$D33)^2,\"\")","v":""},{"$f":"IF(ISNUMBER(A!$C33),(F33-A!$D33)^2,\"\")","v":""}]
[30,{"$f":"IF(ISNUMBER(A!C34),A!G$2+A!G$3*A!C34+A!G$4*A!C34^2,\"\")","v":""},{"$f":"IF(ISNUMBER(A!C34),IF(A!C34<(A!H$3/(-2*A!H$4)),A!H$2+A!H$3*A!C34+A!H$4*A!C34^2,A!H$2+A!H$3*(A!H$3/(-2*A!H$4))+A!H$4*(A!H$3/(-2*A!H$4))^2),\"\")","v":""},{"$f":"IF(ISNUMBER(A!C34),A!I$2+A!I$3*EXP(A!I$4*A!C34),\"\")","v":""},{"$f":"IF(ISNUMBER(A!C34),IF((A!J$2+A!J$3*A!C34)<A!J$4,A!J$2+A!J$3*A!C34,A!J$4),\"\")","v":""},{"$f":"IF(ISNUMBER(A!C34),IF(A!C34<A!K$4,A!K$2+A!K$3*(3*A!C34/(2*A!K$4)-0.5*(A!C34/A!K$4)^3),A!K$3+A!K$2),\"\")","v":""},{"$f":"IF(ISNUMBER(A!$C34),(B34-A!$D34)^2,\"\")","v":""},{"$f":"IF(ISNUMBER(A!$C34),(C34-A!$D34)^2,\"\")","v":""},{"$f":"IF(ISNUMBER(A!$C34),(D34-A!$D34)^2,\"\")","v":""},{"$f":"IF(ISNUMBER(A!$C34),(E34-A!$D34)^2,\"\")","v":""},{"$f":"IF(ISNUMBER(A!$C34),(F34-A!$D34)^2,\"\")","v":""}]
[31,{"$f":"IF(ISNUMBER(A!C35),A!G$2+A!G$3*A!C35+A!G$4*A!C35^2,\"\")","v":""},{"$f":"IF(ISNUMBER(A!C35),IF(A!C35<(A!H$3/(-2*A!H$4)),A!H$2+A!H$3*A!C35+A!H$4*A!C35^2,A!H$2+A!H$3*(A!H$3/(-2*A!H$4))+A!H$4*(A!H$3/(-2*A!H$4))^2),\"\")","v":""},{"$f":"IF(ISNUMBER(A!C35),A!I$2+A!I$3*EXP(A!I$4*A!C35),\"\")","v":""},{"$f":"IF(ISNUMBER(A!C35),IF((A!J$2+A!J$3*A!C35)<A!J$4,A!J$2+A!J$3*A!C35,A!J$4),\"\")","v":""},{"$f":"IF(ISNUMBER(A!C35),IF(A!C35<A!K$4,A!K$2+A!K$3*(3*A!C35/(2*A!K$4)-0.5*(A!C35/A!K$4)^3),A!K$3+A!K$2),\"\")","v":""},{"$f":"IF(ISNUMBER(A!$C35),(B35-A!$D35)^2,\"\")","v":""},{"$f":"IF(ISNUMBER(A!$C35),(C35-A!$D35)^2,\"\")","v":""},{"$f":"IF(ISNUMBER(A!$C35),(D35-A!$D35)^2,\"\")","v":""},{"$f":"IF(ISNUMBER(A!$C35),(E35-A!$D35)^2,\"\")","v":""},{"$f":"IF(ISNUMBER(A!$C35),(F35-A!$D35)^2,\"\")","v":""}]
[32,{"$f":"IF(ISNUMBER(A!C36),A!G$2+A!G$3*A!C36+A!G$4*A!C36^2,\"\")","v":""},{"$f":"IF(ISNUMBER(A!C36),IF(A!C36<(A!H$3/(-2*A!H$4)),A!H$2+A!H$3*A!C36+A!H$4*A!C36^2,A!H$2+A!H$3*(A!H$3/(-2*A!H$4))+A!H$4*(A!H$3/(-2*A!H$4))^2),\"\")","v":""},{"$f":"IF(ISNUMBER(A!C36),A!I$2+A!I$3*EXP(A!I$4*A!C36),\"\")","v":""},{"$f":"IF(ISNUMBER(A!C36),IF((A!J$2+A!J$3*A!C36)<A!J$4,A!J$2+A!J$3*A!C36,A!J$4),\"\")","v":""},{"$f":"IF(ISNUMBER(A!C36),IF(A!C36<A!K$4,A!K$2+A!K$3*(3*A!C36/(2*A!K$4)-0.5*(A!C36/A!K$4)^3),A!K$3+A!K$2),\"\")","v":""},{"$f":"IF(ISNUMBER(A!$C36),(B36-A!$D36)^2,\"\")","v":""},{"$f":"IF(ISNUMBER(A!$C36),(C36-A!$D36)^2,\"\")","v":""},{"$f":"IF(ISNUMBER(A!$C36),(D36-A!$D36)^2,\"\")","v":""},{"$f":"IF(ISNUMBER(A!$C36),(E36-A!$D36)^2,\"\")","v":""},{"$f":"IF(ISNUMBER(A!$C36),(F36-A!$D36)^2,\"\")","v":""}]
[33,{"$f":"IF(ISNUMBER(A!C37),A!G$2+A!G$3*A!C37+A!G$4*A!C37^2,\"\")","v":""},{"$f":"IF(ISNUMBER(A!C37),IF(A!C37<(A!H$3/(-2*A!H$4)),A!H$2+A!H$3*A!C37+A!H$4*A!C37^2,A!H$2+A!H$3*(A!H$3/(-2*A!H$4))+A!H$4*(A!H$3/(-2*A!H$4))^2),\"\")","v":""},{"$f":"IF(ISNUMBER(A!C37),A!I$2+A!I$3*EXP(A!I$4*A!C37),\"\")","v":""},{"$f":"IF(ISNUMBER(A!C37),IF((A!J$2+A!J$3*A!C37)<A!J$4,A!J$2+A!J$3*A!C37,A!J$4),\"\")","v":""},{"$f":"IF(ISNUMBER(A!C37),IF(A!C37<A!K$4,A!K$2+A!K$3*(3*A!C37/(2*A!K$4)-0.5*(A!C37/A!K$4)^3),A!K$3+A!K$2),\"\")","v":""},{"$f":"IF(ISNUMBER(A!$C37),(B37-A!$D37)^2,\"\")","v":""},{"$f":"IF(ISNUMBER(A!$C37),(C37-A!$D37)^2,\"\")","v":""},{"$f":"IF(ISNUMBER(A!$C37),(D37-A!$D37)^2,\"\")","v":""},{"$f":"IF(ISNUMBER(A!$C37),(E37-A!$D37)^2,\"\")","v":""},{"$f":"IF(ISNUMBER(A!$C37),(F37-A!$D37)^2,\"\")","v":""}]
[34,{"$f":"IF(ISNUMBER(A!C38),A!G$2+A!G$3*A!C38+A!G$4*A!C38^2,\"\")","v":""},{"$f":"IF(ISNUMBER(A!C38),IF(A!C38<(A!H$3/(-2*A!H$4)),A!H$2+A!H$3*A!C38+A!H$4*A!C38^2,A!H$2+A!H$3*(A!H$3/(-2*A!H$4))+A!H$4*(A!H$3/(-2*A!H$4))^2),\"\")","v":""},{"$f":"IF(ISNUMBER(A!C38),A!I$2+A!I$3*EXP(A!I$4*A!C38),\"\")","v":""},{"$f":"IF(ISNUMBER(A!C38),IF((A!J$2+A!J$3*A!C38)<A!J$4,A!J$2+A!J$3*A!C38,A!J$4),\"\")","v":""},{"$f":"IF(ISNUMBER(A!C38),IF(A!C38<A!K$4,A!K$2+A!K$3*(3*A!C38/(2*A!K$4)-0.5*(A!C38/A!K$4)^3),A!K$3+A!K$2),\"\")","v":""},{"$f":"IF(ISNUMBER(A!$C38),(B38-A!$D38)^2,\"\")","v":""},{"$f":"IF(ISNUMBER(A!$C38),(C38-A!$D38)^2,\"\")","v":""},{"$f":"IF(ISNUMBER(A!$C38),(D38-A!$D38)^2,\"\")","v":""},{"$f":"IF(ISNUMBER(A!$C38),(E38-A!$D38)^2,\"\")","v":""},{"$f":"IF(ISNUMBER(A!$C38),(F38-A!$D38)^2,\"\")","v":""}]
[35,{"$f":"IF(ISNUMBER(A!C39),A!G$2+A!G$3*A!C39+A!G$4*A!C39^2,\"\")","v":""},{"$f":"IF(ISNUMBER(A!C39),IF(A!C39<(A!H$3/(-2*A!H$4)),A!H$2+A!H$3*A!C39+A!H$4*A!C39^2,A!H$2+A!H$3*(A!H$3/(-2*A!H$4))+A!H$4*(A!H$3/(-2*A!H$4))^2),\"\")","v":""},{"$f":"IF(ISNUMBER(A!C39),A!I$2+A!I$3*EXP(A!I$4*A!C39),\"\")","v":""},{"$f":"IF(ISNUMBER(A!C39),IF((A!J$2+A!J$3*A!C39)<A!J$4,A!J$2+A!J$3*A!C39,A!J$4),\"\")","v":""},{"$f":"IF(ISNUMBER(A!C39),IF(A!C39<A!K$4,A!K$2+A!K$3*(3*A!C39/(2*A!K$4)-0.5*(A!C39/A!K$4)^3),A!K$3+A!K$2),\"\")","v":""},{"$f":"IF(ISNUMBER(A!$C39),(B39-A!$D39)^2,\"\")","v":""},{"$f":"IF(ISNUMBER(A!$C39),(C39-A!$D39)^2,\"\")","v":""},{"$f":"IF(ISNUMBER(A!$C39),(D39-A!$D39)^2,\"\")","v":""},{"$f":"IF(ISNUMBER(A!$C39),(E39-A!$D39)^2,\"\")","v":""},{"$f":"IF(ISNUMBER(A!$C39),(F39-A!$D39)^2,\"\")","v":""}]
[36,{"$f":"IF(ISNUMBER(A!C40),A!G$2+A!G$3*A!C40+A!G$4*A!C40^2,\"\")","v":""},{"$f":"IF(ISNUMBER(A!C40),IF(A!C40<(A!H$3/(-2*A!H$4)),A!H$2+A!H$3*A!C40+A!H$4*A!C40^2,A!H$2+A!H$3*(A!H$3/(-2*A!H$4))+A!H$4*(A!H$3/(-2*A!H$4))^2),\"\")","v":""},{"$f":"IF(ISNUMBER(A!C40),A!I$2+A!I$3*EXP(A!I$4*A!C40),\"\")","v":""},{"$f":"IF(ISNUMBER(A!C40),IF((A!J$2+A!J$3*A!C40)<A!J$4,A!J$2+A!J$3*A!C40,A!J$4),\"\")","v":""},{"$f":"IF(ISNUMBER(A!C40),IF(A!C40<A!K$4,A!K$2+A!K$3*(3*A!C40/(2*A!K$4)-0.5*(A!C40/A!K$4)^3),A!K$3+A!K$2),\"\")","v":""},{"$f":"IF(ISNUMBER(A!$C40),(B40-A!$D40)^2,\"\")","v":""},{"$f":"IF(ISNUMBER(A!$C40),(C40-A!$D40)^2,\"\")","v":""},{"$f":"IF(ISNUMBER(A!$C40),(D40-A!$D40)^2,\"\")","v":""},{"$f":"IF(ISNUMBER(A!$C40),(E40-A!$D40)^2,\"\")","v":""},{"$f":"IF(ISNUMBER(A!$C40),(F40-A!$D40)^2,\"\")","v":""}]
[37,{"$f":"IF(ISNUMBER(A!C41),A!G$2+A!G$3*A!C41+A!G$4*A!C41^2,\"\")","v":""},{"$f":"IF(ISNUMBER(A!C41),IF(A!C41<(A!H$3/(-2*A!H$4)),A!H$2+A!H$3*A!C41+A!H$4*A!C41^2,A!H$2+A!H$3*(A!H$3/(-2*A!H$4))+A!H$4*(A!H$3/(-2*A!H$4))^2),\"\")","v":""},{"$f":"IF(ISNUMBER(A!C41),A!I$2+A!I$3*EXP(A!I$4*A!C41),\"\")","v":""},{"$f":"IF(ISNUMBER(A!C41),IF((A!J$2+A!J$3*A!C41)<A!J$4,A!J$2+A!J$3*A!C41,A!J$4),\"\")","v":""},{"$f":"IF(ISNUMBER(A!C41),IF(A!C41<A!K$4,A!K$2+A!K$3*(3*A!C41/(2*A!K$4)-0.5*(A!C41/A!K$4)^3),A!K$3+A!K$2),\"\")","v":""},{"$f":"IF(ISNUMBER(A!$C41),(B41-A!$D41)^2,\"\")","v":""},{"$f":"IF(ISNUMBER(A!$C41),(C41-A!$D41)^2,\"\")","v":""},{"$f":"IF(ISNUMBER(A!$C41),(D41-A!$D41)^2,\"\")","v":""},{"$f":"IF(ISNUMBER(A!$C41),(E41-A!$D41)^2,\"\")","v":""},{"$f":"IF(ISNUMBER(A!$C41),(F41-A!$D41)^2,\"\")","v":""}]
[38,{"$f":"IF(ISNUMBER(A!C42),A!G$2+A!G$3*A!C42+A!G$4*A!C42^2,\"\")","v":""},{"$f":"IF(ISNUMBER(A!C42),IF(A!C42<(A!H$3/(-2*A!H$4)),A!H$2+A!H$3*A!C42+A!H$4*A!C42^2,A!H$2+A!H$3*(A!H$3/(-2*A!H$4))+A!H$4*(A!H$3/(-2*A!H$4))^2),\"\")","v":""},{"$f":"IF(ISNUMBER(A!C42),A!I$2+A!I$3*EXP(A!I$4*A!C42),\"\")","v":""},{"$f":"IF(ISNUMBER(A!C42),IF((A!J$2+A!J$3*A!C42)<A!J$4,A!J$2+A!J$3*A!C42,A!J$4),\"\")","v":""},{"$f":"IF(ISNUMBER(A!C42),IF(A!C42<A!K$4,A!K$2+A!K$3*(3*A!C42/(2*A!K$4)-0.5*(A!C42/A!K$4)^3),A!K$3+A!K$2),\"\")","v":""},{"$f":"IF(ISNUMBER(A!$C42),(B42-A!$D42)^2,\"\")","v":""},{"$f":"IF(ISNUMBER(A!$C42),(C42-A!$D42)^2,\"\")","v":""},{"$f":"IF(ISNUMBER(A!$C42),(D42-A!$D42)^2,\"\")","v":""},{"$f":"IF(ISNUMBER(A!$C42),(E42-A!$D42)^2,\"\")","v":""},{"$f":"IF(ISNUMBER(A!$C42),(F42-A!$D42)^2,\"\")","v":""}]
[39,{"$f":"IF(ISNUMBER(A!C43),A!G$2+A!G$3*A!C43+A!G$4*A!C43^2,\"\")","v":""},{"$f":"IF(ISNUMBER(A!C43),IF(A!C43<(A!H$3/(-2*A!H$4)),A!H$2+A!H$3*A!C43+A!H$4*A!C43^2,A!H$2+A!H$3*(A!H$3/(-2*A!H$4))+A!H$4*(A!H$3/(-2*A!H$4))^2),\"\")","v":""},{"$f":"IF(ISNUMBER(A!C43),A!I$2+A!I$3*EXP(A!I$4*A!C43),\"\")","v":""},{"$f":"IF(ISNUMBER(A!C43),IF((A!J$2+A!J$3*A!C43)<A!J$4,A!J$2+A!J$3*A!C43,A!J$4),\"\")","v":""},{"$f":"IF(ISNUMBER(A!C43),IF(A!C43<A!K$4,A!K$2+A!K$3*(3*A!C43/(2*A!K$4)-0.5*(A!C43/A!K$4)^3),A!K$3+A!K$2),\"\")","v":""},{"$f":"IF(ISNUMBER(A!$C43),(B43-A!$D43)^2,\"\")","v":""},{"$f":"IF(ISNUMBER(A!$C43),(C43-A!$D43)^2,\"\")","v":""},{"$f":"IF(ISNUMBER(A!$C43),(D43-A!$D43)^2,\"\")","v":""},{"$f":"IF(ISNUMBER(A!$C43),(E43-A!$D43)^2,\"\")","v":""},{"$f":"IF(ISNUMBER(A!$C43),(F43-A!$D43)^2,\"\")","v":""}]
[40,{"$f":"IF(ISNUMBER(A!C44),A!G$2+A!G$3*A!C44+A!G$4*A!C44^2,\"\")","v":""},{"$f":"IF(ISNUMBER(A!C44),IF(A!C44<(A!H$3/(-2*A!H$4)),A!H$2+A!H$3*A!C44+A!H$4*A!C44^2,A!H$2+A!H$3*(A!H$3/(-2*A!H$4))+A!H$4*(A!H$3/(-2*A!H$4))^2),\"\")","v":""},{"$f":"IF(ISNUMBER(A!C44),A!I$2+A!I$3*EXP(A!I$4*A!C44),\"\")","v":""},{"$f":"IF(ISNUMBER(A!C44),IF((A!J$2+A!J$3*A!C44)<A!J$4,A!J$2+A!J$3*A!C44,A!J$4),\"\")","v":""},{"$f":"IF(ISNUMBER(A!C44),IF(A!C44<A!K$4,A!K$2+A!K$3*(3*A!C44/(2*A!K$4)-0.5*(A!C44/A!K$4)^3),A!K$3+A!K$2),\"\")","v":""},{"$f":"IF(ISNUMBER(A!$C44),(B44-A!$D44)^2,\"\")","v":""},{"$f":"IF(ISNUMBER(A!$C44),(C44-A!$D44)^2,\"\")","v":""},{"$f":"IF(ISNUMBER(A!$C44),(D44-A!$D44)^2,\"\")","v":""},{"$f":"IF(ISNUMBER(A!$C44),(E44-A!$D44)^2,\"\")","v":""},{"$f":"IF(ISNUMBER(A!$C44),(F44-A!$D44)^2,\"\")","v":""}]
["WEIGHTS",{"$f":"(0.0001+(A!G5-MIN(A!$G5:$K5)))/(0.0001+(MAX(A!$G5:$K5)-MIN(A!$G5:$K5)))","v":0.8095405796408377},{"$f":"(0.0001+(A!H5-MIN(A!$G5:$K5)))/(0.0001+(MAX(A!$G5:$K5)-MIN(A!$G5:$K5)))","v":0.79653326792728318},{"$f":"(0.0001+(A!I5-MIN(A!$G5:$K5)))/(0.0001+(MAX(A!$G5:$K5)-MIN(A!$G5:$K5)))","v":1.0659494720946218E-2},{"$f":"(0.0001+(A!J5-MIN(A!$G5:$K5)))/(0.0001+(MAX(A!$G5:$K5)-MIN(A!$G5:$K5)))","v":0.80604476710991535},{"$f":"(0.0001+(A!K5-MIN(A!$G5:$K5)))/(0.0001+(MAX(A!$G5:$K5)-MIN(A!$G5:$K5)))","v":1}]
[]
[null,"Nrate","Q yield","QP yield","M yield","LP yield","S yield","mean yield",null,null,null,null,"Maximum rate for curves"]
[0,{"$f":"IF(A48<MAX($M$48),A48,MAX($M$48))","v":0},{"$f":"A!G$2+A!G$3*B48+A!G$4*B48^2","v":37.963117579006209},{"$f":"IF(B48<(A!H$3/(-2*A!H$4)),A!H$2+A!H$3*B48+A!H$4*B48^2,A!H$2+A!H$3*(A!H$3/(-2*A!H$4))+A!H$3*A!H$3/(4*A!H$4))","v":38.095868700180077},{"$f":"A!I$2+A!I$3*EXP(A!I$4*B48)","v":37.897543858712652},{"$f":"IF((A!J$2+A!J$3*B48)<A!J$4,A!J$2+A!J$3*B48,A!J$4)","v":43.720956789283242},{"$f":"IF(B48<A!K$4,A!K$2+A!K$3*(3*B48/(2*A!K$4)-0.5*(B48/A!K$4)^3),A!K$3+A!K$2)","v":40.28930003735644},{"$f":"(C48*B$45+'C'!D48*C$45+'C'!E48*D$45+'C'!F48*E$45+'C'!G48*F$45)/SUM(B$45:F$45)","v":40.029363213182151},null,null,null,null,{"$f":"MAX(A!C5:C44,A!G6:K6)","v":254.24054652346399}]
[2,{"$f":"IF(A49<MAX($M$48),A49,MAX($M$48))","v":2},{"$f":"A!G$2+A!G$3*B49+A!G$4*B49^2","v":40.320771292009354},{"$f":"IF(B49<(A!H$3/(-2*A!H$4)),A!H$2+A!H$3*B49+A!H$4*B49^2,A!H$2+A!H$3*(A!H$3/(-2*A!H$4))+A!H$3*A!H$3/(4*A!H$4))","v":40.44354778573468},{"$f":"A!I$2+A!I$3*EXP(A!I$4*B49)","v":40.788820326161073},{"$f":"IF((A!J$2+A!J$3*B49)<A!J$4,A!J$2+A!J$3*B49,A!J$4)","v":45.31785337869929},{"$f":"IF(B49<A!K$4,A!K$2+A!K$3*(3*B49/(2*A!K$4)-0.5*(B49/A!K$4)^3),A!K$3+A!K$2)","v":42.206449463141936},{"$f":"(C49*B$45+'C'!D49*C$45+'C'!E49*D$45+'C'!F49*E$45+'C'!G49*F$45)/SUM(B$45:F$45)","v":42.078505674319196}]
[4,4,{"$f":"A!G$2+A!G$3*B50+A!G$4*B50^2","v":42.657471895426617},{"$f":"IF(B50<(A!H$3/(-2*A!H$4)),A!H$2+A!H$3*B50+A!H$4*B50^2,A!H$2+A!H$3*(A!H$3/(-2*A!H$4))+A!H$3*A!H$3/(4*A!H$4))","v":42.770434094704171},{"$f":"A!I$2+A!I$3*EXP(A!I$4*B50)","v":43.624736001482177},{"$f":"IF((A!J$2+A!J$3*B50)<A!J$4,A!J$2+A!J$3*B50,A!J$4)","v":46.914749968115331},{"$f":"IF(B50<A!K$4,A!K$2+A!K$3*(3*B50/(2*A!K$4)-0.5*(B50/A!K$4)^3),A!K$3+A!K$2)","v":44.123230846472325},{"$f":"(C50*B$45+'C'!D50*C$45+'C'!E50*D$45+'C'!F50*E$45+'C'!G50*F$45)/SUM(B$45:F$45)","v":44.117573660808318}]
[6,6,{"$f":"A!G$2+A!G$3*B51+A!G$4*B51^2","v":44.973219389257999},{"$f":"IF(B51<(A!H$3/(-2*A!H$4)),A!H$2+A!H$3*B51+A!H$4*B51^2,A!H$2+A!H$3*(A!H$3/(-2*A!H$4))+A!H$3*A!H$3/(4*A!H$4))","v":45.076527627088566},{"$f":"A!I$2+A!I$3*EXP(A!I$4*B51)","v":46.406350906897842},{"$f":"IF((A!J$2+A!J$3*B51)<A!J$4,A!J$2+A!J$3*B51,A!J$4)","v":48.511646557531378},{"$f":"IF(B51<A!K$4,A!K$2+A!K$3*(3*B51/(2*A!K$4)-0.5*(B51/A!K$4)^3),A!K$3+A!K$2)","v":46.039276144892483},{"$f":"(C51*B$45+'C'!D51*C$45+'C'!E51*D$45+'C'!F51*E$45+'C'!G51*F$45)/SUM(B$45:F$45)","v":46.146462946450086},null,null,null,null,{"$f":"ROUND(SUM(A!C5:D44),0)","v":2060},"sum of yields and rates entered (to detect new data entry)"]
[8,8,{"$f":"A!G$2+A!G$3*B52+A!G$4*B52^2","v":47.26801377350349},{"$f":"IF(B52<(A!H$3/(-2*A!H$4)),A!H$2+A!H$3*B52+A!H$4*B52^2,A!H$2+A!H$3*(A!H$3/(-2*A!H$4))+A!H$3*A!H$3/(4*A!H$4))","v":47.361828382887857},{"$f":"A!I$2+A!I$3*EXP(A!I$4*B52)","v":49.134704767826548},{"$f":"IF((A!J$2+A!J$3*B52)<A!J$4,A!J$2+A!J$3*B52,A!J$4)","v":50.108543146947426},{"$f":"IF(B52<A!K$4,A!K$2+A!K$3*(3*B52/(2*A!K$4)-0.5*(B52/A!K$4)^3),A!K$3+A!K$2)","v":47.954217315947297},{"$f":"(C52*B$45+'C'!D52*C$45+'C'!E52*D$45+'C'!F52*E$45+'C'!G52*F$45)/SUM(B$45:F$45)","v":48.165069241835127},null,null,null,null,2060,"set by the FIT macro when finished"]
[10,10,{"$f":"A!G$2+A!G$3*B53+A!G$4*B53^2","v":49.5418550481631},{"$f":"IF(B53<(A!H$3/(-2*A!H$4)),A!H$2+A!H$3*B53+A!H$4*B53^2,A!H$2+A!H$3*(A!H$3/(-2*A!H$4))+A!H$3*A!H$3/(4*A!H$4))","v":49.626336362102052},{"$f":"A!I$2+A!I$3*EXP(A!I$4*B53)","v":51.810817401516999},{"$f":"IF((A!J$2+A!J$3*B53)<A!J$4,A!J$2+A!J$3*B53,A!J$4)","v":51.705439736363473},{"$f":"IF(B53<A!K$4,A!K$2+A!K$3*(3*B53/(2*A!K$4)-0.5*(B53/A!K$4)^3),A!K$3+A!K$2)","v":49.867686317181651},{"$f":"(C53*B$45+'C'!D53*C$45+'C'!E53*D$45+'C'!F53*E$45+'C'!G53*F$45)/SUM(B$45:F$45)","v":50.173288195554377},null,null,null,null,{"$f":"M51=M52","v":true},"detects whether the FIT macro has been run on the latest data entered."]
[12,12,{"$f":"A!G$2+A!G$3*B54+A!G$4*B54^2","v":51.794743213236814},{"$f":"IF(B54<(A!H$3/(-2*A!H$4)),A!H$2+A!H$3*B54+A!H$4*B54^2,A!H$2+A!H$3*(A!H$3/(-2*A!H$4))+A!H$3*A!H$3/(4*A!H$4))","v":51.870051564731135},{"$f":"A!I$2+A!I$3*EXP(A!I$4*B54)","v":54.435689098240346},{"$f":"IF((A!J$2+A!J$3*B54)<A!J$4,A!J$2+A!J$3*B54,A!J$4)","v":53.302336325779521},{"$f":"IF(B54<A!K$4,A!K$2+A!K$3*(3*B54/(2*A!K$4)-0.5*(B54/A!K$4)^3),A!K$3+A!K$2)","v":51.779315106140444},{"$f":"(C54*B$45+'C'!D54*C$45+'C'!E54*D$45+'C'!F54*E$45+'C'!G54*F$45)/SUM(B$45:F$45)","v":52.17101539538632}]
[14,14,{"$f":"A!G$2+A!G$3*B55+A!G$4*B55^2","v":54.026678268724652},{"$f":"IF(B55<(A!H$3/(-2*A!H$4)),A!H$2+A!H$3*B55+A!H$4*B55^2,A!H$2+A!H$3*(A!H$3/(-2*A!H$4))+A!H$3*A!H$3/(4*A!H$4))","v":54.092973990775121},{"$f":"A!I$2+A!I$3*EXP(A!I$4*B55)","v":57.010300995183513},{"$f":"IF((A!J$2+A!J$3*B55)<A!J$4,A!J$2+A!J$3*B55,A!J$4)","v":54.899232915195562},{"$f":"IF(B55<A!K$4,A!K$2+A!K$3*(3*B55/(2*A!K$4)-0.5*(B55/A!K$4)^3),A!K$3+A!K$2)","v":53.688735640368549},{"$f":"(C55*B$45+'C'!D55*C$45+'C'!E55*D$45+'C'!F55*E$45+'C'!G55*F$45)/SUM(B$45:F$45)","v":54.158146369461306}]
[16,16,{"$f":"A!G$2+A!G$3*B56+A!G$4*B56^2","v":56.237660214626608},{"$f":"IF(B56<(A!H$3/(-2*A!H$4)),A!H$2+A!H$3*B56+A!H$4*B56^2,A!H$2+A!H$3*(A!H$3/(-2*A!H$4))+A!H$3*A!H$3/(4*A!H$4))","v":56.295103640233997},{"$f":"A!I$2+A!I$3*EXP(A!I$4*B56)","v":59.53561544318336},{"$f":"IF((A!J$2+A!J$3*B56)<A!J$4,A!J$2+A!J$3*B56,A!J$4)","v":56.496129504611609},{"$f":"IF(B56<A!K$4,A!K$2+A!K$3*(3*B56/(2*A!K$4)-0.5*(B56/A!K$4)^3),A!K$3+A!K$2)","v":55.595579877410856},{"$f":"(C56*B$45+'C'!D56*C$45+'C'!E56*D$45+'C'!F56*E$45+'C'!G56*F$45)/SUM(B$45:F$45)","v":56.134576587403693}]
[18,18,{"$f":"A!G$2+A!G$3*B57+A!G$4*B57^2","v":58.427689050942682},{"$f":"IF(B57<(A!H$3/(-2*A!H$4)),A!H$2+A!H$3*B57+A!H$4*B57^2,A!H$2+A!H$3*(A!H$3/(-2*A!H$4))+A!H$3*A!H$3/(4*A!H$4))","v":58.476440513107775},{"$f":"A!I$2+A!I$3*EXP(A!I$4*B57)","v":62.012576366438765},{"$f":"IF((A!J$2+A!J$3*B57)<A!J$4,A!J$2+A!J$3*B57,A!J$4)","v":58.093026094027657},{"$f":"IF(B57<A!K$4,A!K$2+A!K$3*(3*B57/(2*A!K$4)-0.5*(B57/A!K$4)^3),A!K$3+A!K$2)","v":57.499479774812251},{"$f":"(C57*B$45+'C'!D57*C$45+'C'!E57*D$45+'C'!F57*E$45+'C'!G57*F$45)/SUM(B$45:F$45)","v":58.100201461452151}]
[20,20,{"$f":"A!G$2+A!G$3*B58+A!G$4*B58^2","v":60.596764777672867},{"$f":"IF(B58<(A!H$3/(-2*A!H$4)),A!H$2+A!H$3*B58+A!H$4*B58^2,A!H$2+A!H$3*(A!H$3/(-2*A!H$4))+A!H$3*A!H$3/(4*A!H$4))","v":60.63698460939645},{"$f":"A!I$2+A!I$3*EXP(A!I$4*B58)","v":64.442109615335255},{"$f":"IF((A!J$2+A!J$3*B58)<A!J$4,A!J$2+A!J$3*B58,A!J$4)","v":59.689922683443697},{"$f":"IF(B58<A!K$4,A!K$2+A!K$3*(3*B58/(2*A!K$4)-0.5*(B58/A!K$4)^3),A!K$3+A!K$2)","v":59.400067290117619},{"$f":"(C58*B$45+'C'!D58*C$45+'C'!E58*D$45+'C'!F58*E$45+'C'!G58*F$45)/SUM(B$45:F$45)","v":60.054916347558361}]
[22,22,{"$f":"A!G$2+A!G$3*B59+A!G$4*B59^2","v":62.744887394817155},{"$f":"IF(B59<(A!H$3/(-2*A!H$4)),A!H$2+A!H$3*B59+A!H$4*B59^2,A!H$2+A!H$3*(A!H$3/(-2*A!H$4))+A!H$3*A!H$3/(4*A!H$4))","v":62.776735929100028},{"$f":"A!I$2+A!I$3*EXP(A!I$4*B59)","v":66.825123312513725},{"$f":"IF((A!J$2+A!J$3*B59)<A!J$4,A!J$2+A!J$3*B59,A!J$4)","v":61.286819272859745},{"$f":"IF(B59<A!K$4,A!K$2+A!K$3*(3*B59/(2*A!K$4)-0.5*(B59/A!K$4)^3),A!K$3+A!K$2)","v":61.296974380871845},{"$f":"(C59*B$45+'C'!D59*C$45+'C'!E59*D$45+'C'!F59*E$45+'C'!G59*F$45)/SUM(B$45:F$45)","v":61.998616546464831}]
[24,24,{"$f":"A!G$2+A!G$3*B60+A!G$4*B60^2","v":64.872056902375576},{"$f":"IF(B60<(A!H$3/(-2*A!H$4)),A!H$2+A!H$3*B60+A!H$4*B60^2,A!H$2+A!H$3*(A!H$3/(-2*A!H$4))+A!H$3*A!H$3/(4*A!H$4))","v":64.895694472218509},{"$f":"A!I$2+A!I$3*EXP(A!I$4*B60)","v":69.162508192312998},{"$f":"IF((A!J$2+A!J$3*B60)<A!J$4,A!J$2+A!J$3*B60,A!J$4)","v":62.883715862275793},{"$f":"IF(B60<A!K$4,A!K$2+A!K$3*(3*B60/(2*A!K$4)-0.5*(B60/A!K$4)^3),A!K$3+A!K$2)","v":63.189833004619828},{"$f":"(C60*B$45+'C'!D60*C$45+'C'!E60*D$45+'C'!F60*E$45+'C'!G60*F$45)/SUM(B$45:F$45)","v":63.931197304762016}]
[26,26,{"$f":"A!G$2+A!G$3*B61+A!G$4*B61^2","v":66.978273300348107},{"$f":"IF(B61<(A!H$3/(-2*A!H$4)),A!H$2+A!H$3*B61+A!H$4*B61^2,A!H$2+A!H$3*(A!H$3/(-2*A!H$4))+A!H$3*A!H$3/(4*A!H$4))","v":66.993860238751878},{"$f":"A!I$2+A!I$3*EXP(A!I$4*B61)","v":71.45513793371272},{"$f":"IF((A!J$2+A!J$3*B61)<A!J$4,A!J$2+A!J$3*B61,A!J$4)","v":64.48061245169184},{"$f":"IF(B61<A!K$4,A!K$2+A!K$3*(3*B61/(2*A!K$4)-0.5*(B61/A!K$4)^3),A!K$3+A!K$2)","v":65.078275118906433},{"$f":"(C61*B$45+'C'!D61*C$45+'C'!E61*D$45+'C'!F61*E$45+'C'!G61*F$45)/SUM(B$45:F$45)","v":65.85255381592512}]
[28,28,{"$f":"A!G$2+A!G$3*B62+A!G$4*B62^2","v":69.063536588734749},{"$f":"IF(B62<(A!H$3/(-2*A!H$4)),A!H$2+A!H$3*B62+A!H$4*B62^2,A!H$2+A!H$3*(A!H$3/(-2*A!H$4))+A!H$3*A!H$3/(4*A!H$4))","v":69.071233228700137},{"$f":"A!I$2+A!I$3*EXP(A!I$4*B62)","v":73.703869486901297},{"$f":"IF((A!J$2+A!J$3*B62)<A!J$4,A!J$2+A!J$3*B62,A!J$4)","v":66.077509041107888},{"$f":"IF(B62<A!K$4,A!K$2+A!K$3*(3*B62/(2*A!K$4)-0.5*(B62/A!K$4)^3),A!K$3+A!K$2)","v":66.961932681276551},{"$f":"(C62*B$45+'C'!D62*C$45+'C'!E62*D$45+'C'!F62*E$45+'C'!G62*F$45)/SUM(B$45:F$45)","v":67.762581221331274}]
[30,30,{"$f":"A!G$2+A!G$3*B63+A!G$4*B63^2","v":71.127846767535516},{"$f":"IF(B63<(A!H$3/(-2*A!H$4)),A!H$2+A!H$3*B63+A!H$4*B63^2,A!H$2+A!H$3*(A!H$3/(-2*A!H$4))+A!H$3*A!H$3/(4*A!H$4))","v":71.127813442063299},{"$f":"A!I$2+A!I$3*EXP(A!I$4*B63)","v":75.909543393590923},{"$f":"IF((A!J$2+A!J$3*B63)<A!J$4,A!J$2+A!J$3*B63,A!J$4)","v":67.674405630523921},{"$f":"IF(B63<A!K$4,A!K$2+A!K$3*(3*B63/(2*A!K$4)-0.5*(B63/A!K$4)^3),A!K$3+A!K$2)","v":68.840437649275088},{"$f":"(C63*B$45+'C'!D63*C$45+'C'!E63*D$45+'C'!F63*E$45+'C'!G63*F$45)/SUM(B$45:F$45)","v":69.661174611256911}]
[32,32,{"$f":"A!G$2+A!G$3*B64+A!G$4*B64^2","v":73.171203836750379},{"$f":"IF(B64<(A!H$3/(-2*A!H$4)),A!H$2+A!H$3*B64+A!H$4*B64^2,A!H$2+A!H$3*(A!H$3/(-2*A!H$4))+A!H$3*A!H$3/(4*A!H$4))","v":73.163600878841365},{"$f":"A!I$2+A!I$3*EXP(A!I$4*B64)","v":78.072984101199239},{"$f":"IF((A!J$2+A!J$3*B64)<A!J$4,A!J$2+A!J$3*B64,A!J$4)","v":69.271302219939969},{"$f":"IF(B64<A!K$4,A!K$2+A!K$3*(3*B64/(2*A!K$4)-0.5*(B64/A!K$4)^3),A!K$3+A!K$2)","v":70.713421980446896},{"$f":"(C64*B$45+'C'!D64*C$45+'C'!E64*D$45+'C'!F64*E$45+'C'!G64*F$45)/SUM(B$45:F$45)","v":71.548229025856344}]
[34,34,{"$f":"A!G$2+A!G$3*B65+A!G$4*B65^2","v":75.193607796379382},{"$f":"IF(B65<(A!H$3/(-2*A!H$4)),A!H$2+A!H$3*B65+A!H$4*B65^2,A!H$2+A!H$3*(A!H$3/(-2*A!H$4))+A!H$3*A!H$3/(4*A!H$4))","v":75.178595539034319},{"$f":"A!I$2+A!I$3*EXP(A!I$4*B65)","v":80.195000271015331},{"$f":"IF((A!J$2+A!J$3*B65)<A!J$4,A!J$2+A!J$3*B65,A!J$4)","v":70.868198809356016},{"$f":"IF(B65<A!K$4,A!K$2+A!K$3*(3*B65/(2*A!K$4)-0.5*(B65/A!K$4)^3),A!K$3+A!K$2)","v":72.580517632336893},{"$f":"(C65*B$45+'C'!D65*C$45+'C'!E65*D$45+'C'!F65*E$45+'C'!G65*F$45)/SUM(B$45:F$45)","v":73.423639456121435}]
[36,36,{"$f":"A!G$2+A!G$3*B66+A!G$4*B66^2","v":77.195058646422481},{"$f":"IF(B66<(A!H$3/(-2*A!H$4)),A!H$2+A!H$3*B66+A!H$4*B66^2,A!H$2+A!H$3*(A!H$3/(-2*A!H$4))+A!H$3*A!H$3/(4*A!H$4))","v":77.172797422642162},{"$f":"A!I$2+A!I$3*EXP(A!I$4*B66)","v":82.276385080464976},{"$f":"IF((A!J$2+A!J$3*B66)<A!J$4,A!J$2+A!J$3*B66,A!J$4)","v":72.465095398772064},{"$f":"IF(B66<A!K$4,A!K$2+A!K$3*(3*B66/(2*A!K$4)-0.5*(B66/A!K$4)^3),A!K$3+A!K$2)","v":74.441356562489972},{"$f":"(C66*B$45+'C'!D66*C$45+'C'!E66*D$45+'C'!F66*E$45+'C'!G66*F$45)/SUM(B$45:F$45)","v":75.287300844822923}]
[38,38,{"$f":"A!G$2+A!G$3*B67+A!G$4*B67^2","v":79.175556386879705},{"$f":"IF(B67<(A!H$3/(-2*A!H$4)),A!H$2+A!H$3*B67+A!H$4*B67^2,A!H$2+A!H$3*(A!H$3/(-2*A!H$4))+A!H$3*A!H$3/(4*A!H$4))","v":79.146206529664923},{"$f":"A!I$2+A!I$3*EXP(A!I$4*B67)","v":84.317916519588337},{"$f":"IF((A!J$2+A!J$3*B67)<A!J$4,A!J$2+A!J$3*B67,A!J$4)","v":74.061991988188112},{"$f":"IF(B67<A!K$4,A!K$2+A!K$3*(3*B67/(2*A!K$4)-0.5*(B67/A!K$4)^3),A!K$3+A!K$2)","v":76.295570728450969},{"$f":"(C67*B$45+'C'!D67*C$45+'C'!E67*D$45+'C'!F67*E$45+'C'!G67*F$45)/SUM(B$45:F$45)","v":77.139108087433769}]
[40,40,{"$f":"A!G$2+A!G$3*B68+A!G$4*B68^2","v":81.13510101775104},{"$f":"IF(B68<(A!H$3/(-2*A!H$4)),A!H$2+A!H$3*B68+A!H$4*B68^2,A!H$2+A!H$3*(A!H$3/(-2*A!H$4))+A!H$3*A!H$3/(4*A!H$4))","v":81.098822860102572},{"$f":"A!I$2+A!I$3*EXP(A!I$4*B68)","v":86.320357681840875},{"$f":"IF((A!J$2+A!J$3*B68)<A!J$4,A!J$2+A!J$3*B68,A!J$4)","v":75.658888577604159},{"$f":"IF(B68<A!K$4,A!K$2+A!K$3*(3*B68/(2*A!K$4)-0.5*(B68/A!K$4)^3),A!K$3+A!K$2)","v":78.142792087764803},{"$f":"(C68*B$45+'C'!D68*C$45+'C'!E68*D$45+'C'!F68*E$45+'C'!G68*F$45)/SUM(B$45:F$45)","v":78.978956033034734}]
[42,42,{"$f":"A!G$2+A!G$3*B69+A!G$4*B69^2","v":83.0736925390365},{"$f":"IF(B69<(A!H$3/(-2*A!H$4)),A!H$2+A!H$3*B69+A!H$4*B69^2,A!H$2+A!H$3*(A!H$3/(-2*A!H$4))+A!H$3*A!H$3/(4*A!H$4))","v":83.030646413955111},{"$f":"A!I$2+A!I$3*EXP(A!I$4*B69)","v":88.284457049326079},{"$f":"IF((A!J$2+A!J$3*B69)<A!J$4,A!J$2+A!J$3*B69,A!J$4)","v":77.255785167020207},{"$f":"IF(B69<A!K$4,A!K$2+A!K$3*(3*B69/(2*A!K$4)-0.5*(B69/A!K$4)^3),A!K$3+A!K$2)","v":79.982652597976369},{"$f":"(C69*B$45+'C'!D69*C$45+'C'!E69*D$45+'C'!F69*E$45+'C'!G69*F$45)/SUM(B$45:F$45)","v":80.806739485202797}]
[44,44,{"$f":"A!G$2+A!G$3*B70+A!G$4*B70^2","v":84.991330950736057},{"$f":"IF(B70<(A!H$3/(-2*A!H$4)),A!H$2+A!H$3*B70+A!H$4*B70^2,A!H$2+A!H$3*(A!H$3/(-2*A!H$4))+A!H$3*A!H$3/(4*A!H$4))","v":84.941677191222553},{"$f":"A!I$2+A!I$3*EXP(A!I$4*B70)","v":90.210948772566624},{"$f":"IF((A!J$2+A!J$3*B70)<A!J$4,A!J$2+A!J$3*B70,A!J$4)","v":78.852681756436255},{"$f":"IF(B70<A!K$4,A!K$2+A!K$3*(3*B70/(2*A!K$4)-0.5*(B70/A!K$4)^3),A!K$3+A!K$2)","v":81.814784216630528},{"$f":"(C70*B$45+'C'!D70*C$45+'C'!E70*D$45+'C'!F70*E$45+'C'!G70*F$45)/SUM(B$45:F$45)","v":82.622353202882209}]
[46,46,{"$f":"A!G$2+A!G$3*B71+A!G$4*B71^2","v":86.888016252849752},{"$f":"IF(B71<(A!H$3/(-2*A!H$4)),A!H$2+A!H$3*B71+A!H$4*B71^2,A!H$2+A!H$3*(A!H$3/(-2*A!H$4))+A!H$3*A!H$3/(4*A!H$4))","v":86.831915191904898},{"$f":"A!I$2+A!I$3*EXP(A!I$4*B71)","v":92.100552944918846},{"$f":"IF((A!J$2+A!J$3*B71)<A!J$4,A!J$2+A!J$3*B71,A!J$4)","v":80.449578345852302},{"$f":"IF(B71<A!K$4,A!K$2+A!K$3*(3*B71/(2*A!K$4)-0.5*(B71/A!K$4)^3),A!K$3+A!K$2)","v":83.638818901272188},{"$f":"(C71*B$45+'C'!D71*C$45+'C'!E71*D$45+'C'!F71*E$45+'C'!G71*F$45)/SUM(B$45:F$45)","v":84.42569190123946}]
[48,48,{"$f":"A!G$2+A!G$3*B72+A!G$4*B72^2","v":88.763748445377544},{"$f":"IF(B72<(A!H$3/(-2*A!H$4)),A!H$2+A!H$3*B72+A!H$4*B72^2,A!H$2+A!H$3*(A!H$3/(-2*A!H$4))+A!H$3*A!H$3/(4*A!H$4))","v":88.701360416002132},{"$f":"A!I$2+A!I$3*EXP(A!I$4*B72)","v":93.953975871732553},{"$f":"IF((A!J$2+A!J$3*B72)<A!J$4,A!J$2+A!J$3*B72,A!J$4)","v":82.04647493526835},{"$f":"IF(B72<A!K$4,A!K$2+A!K$3*(3*B72/(2*A!K$4)-0.5*(B72/A!K$4)^3),A!K$3+A!K$2)","v":85.454388609446227},{"$f":"(C72*B$45+'C'!D72*C$45+'C'!E72*D$45+'C'!F72*E$45+'C'!G72*F$45)/SUM(B$45:F$45)","v":86.216650252501154}]
[50,50,{"$f":"A!G$2+A!G$3*B73+A!G$4*B73^2","v":90.618527528319461},{"$f":"IF(B73<(A!H$3/(-2*A!H$4)),A!H$2+A!H$3*B73+A!H$4*B73^2,A!H$2+A!H$3*(A!H$3/(-2*A!H$4))+A!H$3*A!H$3/(4*A!H$4))","v":90.550012863514269},{"$f":"A!I$2+A!I$3*EXP(A!I$4*B73)","v":95.771910334357329},{"$f":"IF((A!J$2+A!J$3*B73)<A!J$4,A!J$2+A!J$3*B73,A!J$4)","v":83.643371524684397},{"$f":"IF(B73<A!K$4,A!K$2+A!K$3*(3*B73/(2*A!K$4)-0.5*(B73/A!K$4)^3),A!K$3+A!K$2)","v":87.261125298697522},{"$f":"(C73*B$45+'C'!D73*C$45+'C'!E73*D$45+'C'!F73*E$45+'C'!G73*F$45)/SUM(B$45:F$45)","v":87.995122886776315}]
[52,52,{"$f":"A!G$2+A!G$3*B74+A!G$4*B74^2","v":92.452353501675489},{"$f":"IF(B74<(A!H$3/(-2*A!H$4)),A!H$2+A!H$3*B74+A!H$4*B74^2,A!H$2+A!H$3*(A!H$3/(-2*A!H$4))+A!H$3*A!H$3/(4*A!H$4))","v":92.377872534441295},{"$f":"A!I$2+A!I$3*EXP(A!I$4*B74)","v":97.555035849093713},{"$f":"IF((A!J$2+A!J$3*B74)<A!J$4,A!J$2+A!J$3*B74,A!J$4)","v":85.240268114100445},{"$f":"IF(B74<A!K$4,A!K$2+A!K$3*(3*B74/(2*A!K$4)-0.5*(B74/A!K$4)^3),A!K$3+A!K$2)","v":89.05866092657098},{"$f":"(C74*B$45+'C'!D74*C$45+'C'!E74*D$45+'C'!F74*E$45+'C'!G74*F$45)/SUM(B$45:F$45)","v":89.761004392863043}]
[54,54,{"$f":"A!G$2+A!G$3*B75+A!G$4*B75^2","v":94.265226365445628},{"$f":"IF(B75<(A!H$3/(-2*A!H$4)),A!H$2+A!H$3*B75+A!H$4*B75^2,A!H$2+A!H$3*(A!H$3/(-2*A!H$4))+A!H$3*A!H$3/(4*A!H$4))","v":94.184939428783224},{"$f":"A!I$2+A!I$3*EXP(A!I$4*B75)","v":99.304018921185971},{"$f":"IF((A!J$2+A!J$3*B75)<A!J$4,A!J$2+A!J$3*B75,A!J$4)","v":86.837164703516478},{"$f":"IF(B75<A!K$4,A!K$2+A!K$3*(3*B75/(2*A!K$4)-0.5*(B75/A!K$4)^3),A!K$3+A!K$2)","v":90.846627450611464},{"$f":"(C75*B$45+'C'!D75*C$45+'C'!E75*D$45+'C'!F75*E$45+'C'!G75*F$45)/SUM(B$45:F$45)","v":91.514189319039161}]
[56,56,{"$f":"A!G$2+A!G$3*B76+A!G$4*B76^2","v":96.057146119629877},{"$f":"IF(B76<(A!H$3/(-2*A!H$4)),A!H$2+A!H$3*B76+A!H$4*B76^2,A!H$2+A!H$3*(A!H$3/(-2*A!H$4))+A!H$3*A!H$3/(4*A!H$4))","v":95.971213546540042},{"$f":"A!I$2+A!I$3*EXP(A!I$4*B76)","v":101.01951329395168},{"$f":"IF((A!J$2+A!J$3*B76)<A!J$4,A!J$2+A!J$3*B76,A!J$4)","v":88.434061292932526},{"$f":"IF(B76<A!K$4,A!K$2+A!K$3*(3*B76/(2*A!K$4)-0.5*(B76/A!K$4)^3),A!K$3+A!K$2)","v":92.624656828363868},{"$f":"(C76*B$45+'C'!D76*C$45+'C'!E76*D$45+'C'!F76*E$45+'C'!G76*F$45)/SUM(B$45:F$45)","v":93.254572173838397}]
[58,58,{"$f":"A!G$2+A!G$3*B77+A!G$4*B77^2","v":97.828112764228251},{"$f":"IF(B77<(A!H$3/(-2*A!H$4)),A!H$2+A!H$3*B77+A!H$4*B77^2,A!H$2+A!H$3*(A!H$3/(-2*A!H$4))+A!H$3*A!H$3/(4*A!H$4))","v":97.736694887711778},{"$f":"A!I$2+A!I$3*EXP(A!I$4*B77)","v":102.70216019314113},{"$f":"IF((A!J$2+A!J$3*B77)<A!J$4,A!J$2+A!J$3*B77,A!J$4)","v":90.030957882348574},{"$f":"IF(B77<A!K$4,A!K$2+A!K$3*(3*B77/(2*A!K$4)-0.5*(B77/A!K$4)^3),A!K$3+A!K$2)","v":94.392381017373097},{"$f":"(C77*B$45+'C'!D77*C$45+'C'!E77*D$45+'C'!F77*E$45+'C'!G77*F$45)/SUM(B$45:F$45)","v":94.982047426811206}]
[60,60,{"$f":"A!G$2+A!G$3*B78+A!G$4*B78^2","v":99.578126299240736},{"$f":"IF(B78<(A!H$3/(-2*A!H$4)),A!H$2+A!H$3*B78+A!H$4*B78^2,A!H$2+A!H$3*(A!H$3/(-2*A!H$4))+A!H$3*A!H$3/(4*A!H$4))","v":99.481383452298388},{"$f":"A!I$2+A!I$3*EXP(A!I$4*B78)","v":104.35258856661764},{"$f":"IF((A!J$2+A!J$3*B78)<A!J$4,A!J$2+A!J$3*B78,A!J$4)","v":91.627854471764607},{"$f":"IF(B78<A!K$4,A!K$2+A!K$3*(3*B78/(2*A!K$4)-0.5*(B78/A!K$4)^3),A!K$3+A!K$2)","v":96.149431975184001},{"$f":"(C78*B$45+'C'!D78*C$45+'C'!E78*D$45+'C'!F78*E$45+'C'!G78*F$45)/SUM(B$45:F$45)","v":96.696509509271195}]
[62,62,{"$f":"A!G$2+A!G$3*B79+A!G$4*B79^2","v":101.30718672466735},{"$f":"IF(B79<(A!H$3/(-2*A!H$4)),A!H$2+A!H$3*B79+A!H$4*B79^2,A!H$2+A!H$3*(A!H$3/(-2*A!H$4))+A!H$3*A!H$3/(4*A!H$4))","v":101.20527924029992},{"$f":"A!I$2+A!I$3*EXP(A!I$4*B79)","v":105.97141531944885},{"$f":"IF((A!J$2+A!J$3*B79)<A!J$4,A!J$2+A!J$3*B79,A!J$4)","v":93.224751061180655},{"$f":"IF(B79<A!K$4,A!K$2+A!K$3*(3*B79/(2*A!K$4)-0.5*(B79/A!K$4)^3),A!K$3+A!K$2)","v":97.895441659341515},{"$f":"(C79*B$45+'C'!D79*C$45+'C'!E79*D$45+'C'!F79*E$45+'C'!G79*F$45)/SUM(B$45:F$45)","v":98.397852815027363}]
[64,64,{"$f":"A!G$2+A!G$3*B80+A!G$4*B80^2","v":103.01529404050807},{"$f":"IF(B80<(A!H$3/(-2*A!H$4)),A!H$2+A!H$3*B80+A!H$4*B80^2,A!H$2+A!H$3*(A!H$3/(-2*A!H$4))+A!H$3*A!H$3/(4*A!H$4))","v":102.90838225171632},{"$f":"A!I$2+A!I$3*EXP(A!I$4*B80)","v":107.55924554449636},{"$f":"IF((A!J$2+A!J$3*B80)<A!J$4,A!J$2+A!J$3*B80,A!J$4)","v":94.821647650596702},{"$f":"IF(B80<A!K$4,A!K$2+A!K$3*(3*B80/(2*A!K$4)-0.5*(B80/A!K$4)^3),A!K$3+A!K$2)","v":99.630042027390459},{"$f":"(C80*B$45+'C'!D80*C$45+'C'!E80*D$45+'C'!F80*E$45+'C'!G80*F$45)/SUM(B$45:F$45)","v":100.08597170110217}]
[66,66,{"$f":"A!G$2+A!G$3*B81+A!G$4*B81^2","v":104.7024482467629},{"$f":"IF(B81<(A!H$3/(-2*A!H$4)),A!H$2+A!H$3*B81+A!H$4*B81^2,A!H$2+A!H$3*(A!H$3/(-2*A!H$4))+A!H$3*A!H$3/(4*A!H$4))","v":104.59069248654764},{"$f":"A!I$2+A!I$3*EXP(A!I$4*B81)","v":109.11667274859036},{"$f":"IF((A!J$2+A!J$3*B81)<A!J$4,A!J$2+A!J$3*B81,A!J$4)","v":96.41854424001275},{"$f":"IF(B81<A!K$4,A!K$2+A!K$3*(3*B81/(2*A!K$4)-0.5*(B81/A!K$4)^3),A!K$3+A!K$2)","v":101.35286503687576},{"$f":"(C81*B$45+'C'!D81*C$45+'C'!E81*D$45+'C'!F81*E$45+'C'!G81*F$45)/SUM(B$45:F$45)","v":101.76076048843591}]
[68,68,{"$f":"A!G$2+A!G$3*B82+A!G$4*B82^2","v":106.36864934343185},{"$f":"IF(B82<(A!H$3/(-2*A!H$4)),A!H$2+A!H$3*B82+A!H$4*B82^2,A!H$2+A!H$3*(A!H$3/(-2*A!H$4))+A!H$3*A!H$3/(4*A!H$4))","v":106.25220994479385},{"$f":"A!I$2+A!I$3*EXP(A!I$4*B82)","v":110.64427907437336},{"$f":"IF((A!J$2+A!J$3*B82)<A!J$4,A!J$2+A!J$3*B82,A!J$4)","v":98.015440829428798},{"$f":"IF(B82<A!K$4,A!K$2+A!K$3*(3*B82/(2*A!K$4)-0.5*(B82/A!K$4)^3),A!K$3+A!K$2)","v":103.06354264534232},{"$f":"(C82*B$45+'C'!D82*C$45+'C'!E82*D$45+'C'!F82*E$45+'C'!G82*F$45)/SUM(B$45:F$45)","v":103.42211346257758}]
[70,70,{"$f":"A!G$2+A!G$3*B83+A!G$4*B83^2","v":108.01389733051492},{"$f":"IF(B83<(A!H$3/(-2*A!H$4)),A!H$2+A!H$3*B83+A!H$4*B83^2,A!H$2+A!H$3*(A!H$3/(-2*A!H$4))+A!H$3*A!H$3/(4*A!H$4))","v":107.89293462645496},{"$f":"A!I$2+A!I$3*EXP(A!I$4*B83)","v":112.14263551789634},{"$f":"IF((A!J$2+A!J$3*B83)<A!J$4,A!J$2+A!J$3*B83,A!J$4)","v":99.612337418844845},{"$f":"IF(B83<A!K$4,A!K$2+A!K$3*(3*B83/(2*A!K$4)-0.5*(B83/A!K$4)^3),A!K$3+A!K$2)","v":104.76170681033499},{"$f":"(C83*B$45+'C'!D83*C$45+'C'!E83*D$45+'C'!F83*E$45+'C'!G83*F$45)/SUM(B$45:F$45)","v":105.06992487436261}]
[72,72,{"$f":"A!G$2+A!G$3*B84+A!G$4*B84^2","v":109.6381922080121},{"$f":"IF(B84<(A!H$3/(-2*A!H$4)),A!H$2+A!H$3*B84+A!H$4*B84^2,A!H$2+A!H$3*(A!H$3/(-2*A!H$4))+A!H$3*A!H$3/(4*A!H$4))","v":109.51286653153096},{"$f":"A!I$2+A!I$3*EXP(A!I$4*B84)","v":113.61230214204839},{"$f":"IF((A!J$2+A!J$3*B84)<A!J$4,A!J$2+A!J$3*B84,A!J$4)","v":101.20923400826089},{"$f":"IF(B84<A!K$4,A!K$2+A!K$3*(3*B84/(2*A!K$4)-0.5*(B84/A!K$4)^3),A!K$3+A!K$2)","v":106.44698948939867},{"$f":"(C84*B$45+'C'!D84*C$45+'C'!E84*D$45+'C'!F84*E$45+'C'!G84*F$45)/SUM(B$45:F$45)","v":106.70408894057741}]
[74,74,{"$f":"A!G$2+A!G$3*B85+A!G$4*B85^2","v":111.24153397592339},{"$f":"IF(B85<(A!H$3/(-2*A!H$4)),A!H$2+A!H$3*B85+A!H$4*B85^2,A!H$2+A!H$3*(A!H$3/(-2*A!H$4))+A!H$3*A!H$3/(4*A!H$4))","v":111.11200566002186},{"$f":"A!I$2+A!I$3*EXP(A!I$4*B85)","v":115.05382828589975},{"$f":"IF((A!J$2+A!J$3*B85)<A!J$4,A!J$2+A!J$3*B85,A!J$4)","v":102.80613059767694},{"$f":"IF(B85<A!K$4,A!K$2+A!K$3*(3*B85/(2*A!K$4)-0.5*(B85/A!K$4)^3),A!K$3+A!K$2)","v":108.11902264007824},{"$f":"(C85*B$45+'C'!D85*C$45+'C'!E85*D$45+'C'!F85*E$45+'C'!G85*F$45)/SUM(B$45:F$45)","v":108.32449984461142}]
[76,76,{"$f":"A!G$2+A!G$3*B86+A!G$4*B86^2","v":112.8239226342488},{"$f":"IF(B86<(A!H$3/(-2*A!H$4)),A!H$2+A!H$3*B86+A!H$4*B86^2,A!H$2+A!H$3*(A!H$3/(-2*A!H$4))+A!H$3*A!H$3/(4*A!H$4))","v":112.69035201192766},{"$f":"A!I$2+A!I$3*EXP(A!I$4*B86)","v":116.46775277003637},{"$f":"IF((A!J$2+A!J$3*B86)<A!J$4,A!J$2+A!J$3*B86,A!J$4)","v":104.40302718709299},{"$f":"IF(B86<A!K$4,A!K$2+A!K$3*(3*B86/(2*A!K$4)-0.5*(B86/A!K$4)^3),A!K$3+A!K$2)","v":109.77743821991861},{"$f":"(C86*B$45+'C'!D86*C$45+'C'!E86*D$45+'C'!F86*E$45+'C'!G86*F$45)/SUM(B$45:F$45)","v":109.93105173709661}]
[78,78,{"$f":"A!G$2+A!G$3*B87+A!G$4*B87^2","v":114.38535818298834},{"$f":"IF(B87<(A!H$3/(-2*A!H$4)),A!H$2+A!H$3*B87+A!H$4*B87^2,A!H$2+A!H$3*(A!H$3/(-2*A!H$4))+A!H$3*A!H$3/(4*A!H$4))","v":114.24790558724835},{"$f":"A!I$2+A!I$3*EXP(A!I$4*B87)","v":117.85460409796282},{"$f":"IF((A!J$2+A!J$3*B87)<A!J$4,A!J$2+A!J$3*B87,A!J$4)","v":105.99992377650904},{"$f":"IF(B87<A!K$4,A!K$2+A!K$3*(3*B87/(2*A!K$4)-0.5*(B87/A!K$4)^3),A!K$3+A!K$2)","v":111.42186818646465},{"$f":"(C87*B$45+'C'!D87*C$45+'C'!E87*D$45+'C'!F87*E$45+'C'!G87*F$45)/SUM(B$45:F$45)","v":111.52363873653459}]
[80,80,{"$f":"A!G$2+A!G$3*B88+A!G$4*B88^2","v":115.92584062214196},{"$f":"IF(B88<(A!H$3/(-2*A!H$4)),A!H$2+A!H$3*B88+A!H$4*B88^2,A!H$2+A!H$3*(A!H$3/(-2*A!H$4))+A!H$3*A!H$3/(4*A!H$4))","v":115.78466638598394},{"$f":"A!I$2+A!I$3*EXP(A!I$4*B88)","v":119.214900653649},{"$f":"IF((A!J$2+A!J$3*B88)<A!J$4,A!J$2+A!J$3*B88,A!J$4)","v":107.59682036592508},{"$f":"IF(B88<A!K$4,A!K$2+A!K$3*(3*B88/(2*A!K$4)-0.5*(B88/A!K$4)^3),A!K$3+A!K$2)","v":113.05194449726122},{"$f":"(C88*B$45+'C'!D88*C$45+'C'!E88*D$45+'C'!F88*E$45+'C'!G88*F$45)/SUM(B$45:F$45)","v":113.10215492991189}]
[82,82,{"$f":"A!G$2+A!G$3*B89+A!G$4*B89^2","v":117.44536995170972},{"$f":"IF(B89<(A!H$3/(-2*A!H$4)),A!H$2+A!H$3*B89+A!H$4*B89^2,A!H$2+A!H$3*(A!H$3/(-2*A!H$4))+A!H$3*A!H$3/(4*A!H$4))","v":117.30063440813444},{"$f":"A!I$2+A!I$3*EXP(A!I$4*B89)","v":120.54915089529405},{"$f":"IF((A!J$2+A!J$3*B89)<A!J$4,A!J$2+A!J$3*B89,A!J$4)","v":109.19371695534113},{"$f":"IF(B89<A!K$4,A!K$2+A!K$3*(3*B89/(2*A!K$4)-0.5*(B89/A!K$4)^3),A!K$3+A!K$2)","v":114.66729910985326},{"$f":"(C89*B$45+'C'!D89*C$45+'C'!E89*D$45+'C'!F89*E$45+'C'!G89*F$45)/SUM(B$45:F$45)","v":114.66649437330346}]
[84,84,{"$f":"A!G$2+A!G$3*B90+A!G$4*B90^2","v":118.94394617169159},{"$f":"IF(B90<(A!H$3/(-2*A!H$4)),A!H$2+A!H$3*B90+A!H$4*B90^2,A!H$2+A!H$3*(A!H$3/(-2*A!H$4))+A!H$3*A!H$3/(4*A!H$4))","v":118.79580965369982},{"$f":"A!I$2+A!I$3*EXP(A!I$4*B90)","v":121.85785354538046},{"$f":"IF((A!J$2+A!J$3*B90)<A!J$4,A!J$2+A!J$3*B90,A!J$4)","v":110.79061354475718},{"$f":"IF(B90<A!K$4,A!K$2+A!K$3*(3*B90/(2*A!K$4)-0.5*(B90/A!K$4)^3),A!K$3+A!K$2)","v":116.2675639817856},{"$f":"(C90*B$45+'C'!D90*C$45+'C'!E90*D$45+'C'!F90*E$45+'C'!G90*F$45)/SUM(B$45:F$45)","v":116.21655109246444}]
[86,86,{"$f":"A!G$2+A!G$3*B91+A!G$4*B91^2","v":120.42156928208757},{"$f":"IF(B91<(A!H$3/(-2*A!H$4)),A!H$2+A!H$3*B91+A!H$4*B91^2,A!H$2+A!H$3*(A!H$3/(-2*A!H$4))+A!H$3*A!H$3/(4*A!H$4))","v":120.2701921226801},{"$f":"A!I$2+A!I$3*EXP(A!I$4*B91)","v":123.14149777708886},{"$f":"IF((A!J$2+A!J$3*B91)<A!J$4,A!J$2+A!J$3*B91,A!J$4)","v":112.38751013417323},{"$f":"IF(B91<A!K$4,A!K$2+A!K$3*(3*B91/(2*A!K$4)-0.5*(B91/A!K$4)^3),A!K$3+A!K$2)","v":117.85237107060317},{"$f":"(C91*B$45+'C'!D91*C$45+'C'!E91*D$45+'C'!F91*E$45+'C'!G91*F$45)/SUM(B$45:F$45)","v":117.75221908341075}]
[88,88,{"$f":"A!G$2+A!G$3*B92+A!G$4*B92^2","v":121.87823928289768},{"$f":"IF(B92<(A!H$3/(-2*A!H$4)),A!H$2+A!H$3*B92+A!H$4*B92^2,A!H$2+A!H$3*(A!H$3/(-2*A!H$4))+A!H$3*A!H$3/(4*A!H$4))","v":121.72378181507528},{"$f":"A!I$2+A!I$3*EXP(A!I$4*B92)","v":124.4005633971435},{"$f":"IF((A!J$2+A!J$3*B92)<A!J$4,A!J$2+A!J$3*B92,A!J$4)","v":113.98440672358925},{"$f":"IF(B92<A!K$4,A!K$2+A!K$3*(3*B92/(2*A!K$4)-0.5*(B92/A!K$4)^3),A!K$3+A!K$2)","v":119.42135233385083},{"$f":"(C92*B$45+'C'!D92*C$45+'C'!E92*D$45+'C'!F92*E$45+'C'!G92*F$45)/SUM(B$45:F$45)","v":119.27339231298853}]
[90,90,{"$f":"A!G$2+A!G$3*B93+A!G$4*B93^2","v":123.3139561741219},{"$f":"IF(B93<(A!H$3/(-2*A!H$4)),A!H$2+A!H$3*B93+A!H$4*B93^2,A!H$2+A!H$3*(A!H$3/(-2*A!H$4))+A!H$3*A!H$3/(4*A!H$4))","v":123.15657873088537},{"$f":"A!I$2+A!I$3*EXP(A!I$4*B93)","v":125.63552102515685},{"$f":"IF((A!J$2+A!J$3*B93)<A!J$4,A!J$2+A!J$3*B93,A!J$4)","v":115.58130331300529},{"$f":"IF(B93<A!K$4,A!K$2+A!K$3*(3*B93/(2*A!K$4)-0.5*(B93/A!K$4)^3),A!K$3+A!K$2)","v":120.97413972907347},{"$f":"(C93*B$45+'C'!D93*C$45+'C'!E93*D$45+'C'!F93*E$45+'C'!G93*F$45)/SUM(B$45:F$45)","v":120.7799647194327}]
[92,92,{"$f":"A!G$2+A!G$3*B94+A!G$4*B94^2","v":124.72871995576023},{"$f":"IF(B94<(A!H$3/(-2*A!H$4)),A!H$2+A!H$3*B94+A!H$4*B94^2,A!H$2+A!H$3*(A!H$3/(-2*A!H$4))+A!H$3*A!H$3/(4*A!H$4))","v":124.56858287011035},{"$f":"A!I$2+A!I$3*EXP(A!I$4*B94)","v":126.84683226953992},{"$f":"IF((A!J$2+A!J$3*B94)<A!J$4,A!J$2+A!J$3*B94,A!J$4)","v":117.17819990242134},{"$f":"IF(B94<A!K$4,A!K$2+A!K$3*(3*B94/(2*A!K$4)-0.5*(B94/A!K$4)^3),A!K$3+A!K$2)","v":122.51036521381599},{"$f":"(C94*B$45+'C'!D94*C$45+'C'!E94*D$45+'C'!F94*E$45+'C'!G94*F$45)/SUM(B$45:F$45)","v":122.27183021291474}]
[94,94,{"$f":"A!G$2+A!G$3*B95+A!G$4*B95^2","v":126.12253062781268},{"$f":"IF(B95<(A!H$3/(-2*A!H$4)),A!H$2+A!H$3*B95+A!H$4*B95^2,A!H$2+A!H$3*(A!H$3/(-2*A!H$4))+A!H$3*A!H$3/(4*A!H$4))","v":125.95979423275023},{"$f":"A!I$2+A!I$3*EXP(A!I$4*B95)","v":128.03494990004458},{"$f":"IF((A!J$2+A!J$3*B95)<A!J$4,A!J$2+A!J$3*B95,A!J$4)","v":118.77509649183739},{"$f":"IF(B95<A!K$4,A!K$2+A!K$3*(3*B95/(2*A!K$4)-0.5*(B95/A!K$4)^3),A!K$3+A!K$2)","v":124.02966074562326},{"$f":"(C95*B$45+'C'!D95*C$45+'C'!E95*D$45+'C'!F95*E$45+'C'!G95*F$45)/SUM(B$45:F$45)","v":123.74888267608003}]
[96,96,{"$f":"A!G$2+A!G$3*B96+A!G$4*B96^2","v":127.49538819027924},{"$f":"IF(B96<(A!H$3/(-2*A!H$4)),A!H$2+A!H$3*B96+A!H$4*B96^2,A!H$2+A!H$3*(A!H$3/(-2*A!H$4))+A!H$3*A!H$3/(4*A!H$4))","v":127.33021281880502},{"$f":"A!I$2+A!I$3*EXP(A!I$4*B96)","v":129.20031801700196},{"$f":"IF((A!J$2+A!J$3*B96)<A!J$4,A!J$2+A!J$3*B96,A!J$4)","v":120.37199308125344},{"$f":"IF(B96<A!K$4,A!K$2+A!K$3*(3*B96/(2*A!K$4)-0.5*(B96/A!K$4)^3),A!K$3+A!K$2)","v":125.53165828204018},{"$f":"(C96*B$45+'C'!D96*C$45+'C'!E96*D$45+'C'!F96*E$45+'C'!G96*F$45)/SUM(B$45:F$45)","v":125.21101596457498}]
[98,98,{"$f":"A!G$2+A!G$3*B97+A!G$4*B97^2","v":128.84729264315993},{"$f":"IF(B97<(A!H$3/(-2*A!H$4)),A!H$2+A!H$3*B97+A!H$4*B97^2,A!H$2+A!H$3*(A!H$3/(-2*A!H$4))+A!H$3*A!H$3/(4*A!H$4))","v":128.67983862827467},{"$f":"A!I$2+A!I$3*EXP(A!I$4*B97)","v":130.34337221732045},{"$f":"IF((A!J$2+A!J$3*B97)<A!J$4,A!J$2+A!J$3*B97,A!J$4)","v":121.96888967066948},{"$f":"IF(B97<A!K$4,A!K$2+A!K$3*(3*B97/(2*A!K$4)-0.5*(B97/A!K$4)^3),A!K$3+A!K$2)","v":127.01598978061163},{"$f":"(C97*B$45+'C'!D97*C$45+'C'!E97*D$45+'C'!F97*E$45+'C'!G97*F$45)/SUM(B$45:F$45)","v":126.65812390756389}]
[100,100,{"$f":"A!G$2+A!G$3*B98+A!G$4*B98^2","v":130.17824398645473},{"$f":"IF(B98<(A!H$3/(-2*A!H$4)),A!H$2+A!H$3*B98+A!H$4*B98^2,A!H$2+A!H$3*(A!H$3/(-2*A!H$4))+A!H$3*A!H$3/(4*A!H$4))","v":130.00867166115924},{"$f":"A!I$2+A!I$3*EXP(A!I$4*B98)","v":131.46453975730518},{"$f":"IF((A!J$2+A!J$3*B98)<A!J$4,A!J$2+A!J$3*B98,A!J$4)","v":123.56578626008553},{"$f":"IF(B98<A!K$4,A!K$2+A!K$3*(3*B98/(2*A!K$4)-0.5*(B98/A!K$4)^3),A!K$3+A!K$2)","v":128.48228719888249},{"$f":"(C98*B$45+'C'!D98*C$45+'C'!E98*D$45+'C'!F98*E$45+'C'!G98*F$45)/SUM(B$45:F$45)","v":128.09010030823617}]
[102,102,{"$f":"A!G$2+A!G$3*B99+A!G$4*B99^2","v":131.48824222016364},{"$f":"IF(B99<(A!H$3/(-2*A!H$4)),A!H$2+A!H$3*B99+A!H$4*B99^2,A!H$2+A!H$3*(A!H$3/(-2*A!H$4))+A!H$3*A!H$3/(4*A!H$4))","v":131.31671191745869},{"$f":"A!I$2+A!I$3*EXP(A!I$4*B99)","v":132.56423971235992},{"$f":"IF((A!J$2+A!J$3*B99)<A!J$4,A!J$2+A!J$3*B99,A!J$4)","v":125.16268284950158},{"$f":"IF(B99<A!K$4,A!K$2+A!K$3*(3*B99/(2*A!K$4)-0.5*(B99/A!K$4)^3),A!K$3+A!K$2)","v":129.93018249439763},{"$f":"(C99*B$45+'C'!D99*C$45+'C'!E99*D$45+'C'!F99*E$45+'C'!G99*F$45)/SUM(B$45:F$45)","v":129.50683894430347}]
[104,104,{"$f":"A!G$2+A!G$3*B100+A!G$4*B100^2","v":132.77728734428666},{"$f":"IF(B100<(A!H$3/(-2*A!H$4)),A!H$2+A!H$3*B100+A!H$4*B100^2,A!H$2+A!H$3*(A!H$3/(-2*A!H$4))+A!H$3*A!H$3/(4*A!H$4))","v":132.60395939717307},{"$f":"A!I$2+A!I$3*EXP(A!I$4*B100)","v":133.64288313363119},{"$f":"IF((A!J$2+A!J$3*B100)<A!J$4,A!J$2+A!J$3*B100,A!J$4)","v":126.75957943891763},{"$f":"IF(B100<A!K$4,A!K$2+A!K$3*(3*B100/(2*A!K$4)-0.5*(B100/A!K$4)^3),A!K$3+A!K$2)","v":131.35930762470198},{"$f":"(C100*B$45+'C'!D100*C$45+'C'!E100*D$45+'C'!F100*E$45+'C'!G100*F$45)/SUM(B$45:F$45)","v":130.90823356848779}]
[106,106,{"$f":"A!G$2+A!G$3*B101+A!G$4*B101^2","v":134.04537935882379},{"$f":"IF(B101<(A!H$3/(-2*A!H$4)),A!H$2+A!H$3*B101+A!H$4*B101^2,A!H$2+A!H$3*(A!H$3/(-2*A!H$4))+A!H$3*A!H$3/(4*A!H$4))","v":133.8704141003023},{"$f":"A!I$2+A!I$3*EXP(A!I$4*B101)","v":134.70087320165288},{"$f":"IF((A!J$2+A!J$3*B101)<A!J$4,A!J$2+A!J$3*B101,A!J$4)","v":128.35647602833367},{"$f":"IF(B101<A!K$4,A!K$2+A!K$3*(3*B101/(2*A!K$4)-0.5*(B101/A!K$4)^3),A!K$3+A!K$2)","v":132.76929454734039},{"$f":"(C101*B$45+'C'!D101*C$45+'C'!E101*D$45+'C'!F101*E$45+'C'!G101*F$45)/SUM(B$45:F$45)","v":132.29417790899967}]
[108,108,{"$f":"A!G$2+A!G$3*B102+A!G$4*B102^2","v":135.29251826377504},{"$f":"IF(B102<(A!H$3/(-2*A!H$4)),A!H$2+A!H$3*B102+A!H$4*B102^2,A!H$2+A!H$3*(A!H$3/(-2*A!H$4))+A!H$3*A!H$3/(4*A!H$4))","v":135.11607602684649},{"$f":"A!I$2+A!I$3*EXP(A!I$4*B102)","v":135.73860537704897},{"$f":"IF((A!J$2+A!J$3*B102)<A!J$4,A!J$2+A!J$3*B102,A!J$4)","v":129.95337261774972},{"$f":"IF(B102<A!K$4,A!K$2+A!K$3*(3*B102/(2*A!K$4)-0.5*(B102/A!K$4)^3),A!K$3+A!K$2)","v":134.15977521985778},{"$f":"(C102*B$45+'C'!D102*C$45+'C'!E102*D$45+'C'!F102*E$45+'C'!G102*F$45)/SUM(B$45:F$45)","v":133.66456567000782}]
[110,110,{"$f":"A!G$2+A!G$3*B103+A!G$4*B103^2","v":136.51870405914039},{"$f":"IF(B103<(A!H$3/(-2*A!H$4)),A!H$2+A!H$3*B103+A!H$4*B103^2,A!H$2+A!H$3*(A!H$3/(-2*A!H$4))+A!H$3*A!H$3/(4*A!H$4))","v":136.34094517680552},{"$f":"A!I$2+A!I$3*EXP(A!I$4*B103)","v":136.75646754835077},{"$f":"IF((A!J$2+A!J$3*B103)<A!J$4,A!J$2+A!J$3*B103,A!J$4)","v":131.55026920716577},{"$f":"IF(B103<A!K$4,A!K$2+A!K$3*(3*B103/(2*A!K$4)-0.5*(B103/A!K$4)^3),A!K$3+A!K$2)","v":135.530381599799},{"$f":"(C103*B$45+'C'!D103*C$45+'C'!E103*D$45+'C'!F103*E$45+'C'!G103*F$45)/SUM(B$45:F$45)","v":135.01929053209921}]
[112,112,{"$f":"A!G$2+A!G$3*B104+A!G$4*B104^2","v":137.72393674491991},{"$f":"IF(B104<(A!H$3/(-2*A!H$4)),A!H$2+A!H$3*B104+A!H$4*B104^2,A!H$2+A!H$3*(A!H$3/(-2*A!H$4))+A!H$3*A!H$3/(4*A!H$4))","v":137.54502155017948},{"$f":"A!I$2+A!I$3*EXP(A!I$4*B104)","v":137.75484017698375},{"$f":"IF((A!J$2+A!J$3*B104)<A!J$4,A!J$2+A!J$3*B104,A!J$4)","v":133.14716579658182},{"$f":"IF(B104<A!K$4,A!K$2+A!K$3*(3*B104/(2*A!K$4)-0.5*(B104/A!K$4)^3),A!K$3+A!K$2)","v":136.88074564470895},{"$f":"(C104*B$45+'C'!D104*C$45+'C'!E104*D$45+'C'!F104*E$45+'C'!G104*F$45)/SUM(B$45:F$45)","v":136.3582461527308}]
[114,114,{"$f":"A!G$2+A!G$3*B105+A!G$4*B105^2","v":138.90821632111349},{"$f":"IF(B105<(A!H$3/(-2*A!H$4)),A!H$2+A!H$3*B105+A!H$4*B105^2,A!H$2+A!H$3*(A!H$3/(-2*A!H$4))+A!H$3*A!H$3/(4*A!H$4))","v":138.7283051469683},{"$f":"A!I$2+A!I$3*EXP(A!I$4*B105)","v":138.73409643947826},{"$f":"IF((A!J$2+A!J$3*B105)<A!J$4,A!J$2+A!J$3*B105,A!J$4)","v":134.74406238599786},{"$f":"IF(B105<A!K$4,A!K$2+A!K$3*(3*B105/(2*A!K$4)-0.5*(B105/A!K$4)^3),A!K$3+A!K$2)","v":138.21049931213253},{"$f":"(C105*B$45+'C'!D105*C$45+'C'!E105*D$45+'C'!F105*E$45+'C'!G105*F$45)/SUM(B$45:F$45)","v":137.68132616667222}]
[116,116,{"$f":"A!G$2+A!G$3*B106+A!G$4*B106^2","v":140.07154278772123},{"$f":"IF(B106<(A!H$3/(-2*A!H$4)),A!H$2+A!H$3*B106+A!H$4*B106^2,A!H$2+A!H$3*(A!H$3/(-2*A!H$4))+A!H$3*A!H$3/(4*A!H$4))","v":139.89079596717207},{"$f":"A!I$2+A!I$3*EXP(A!I$4*B106)","v":139.69460236695718},{"$f":"IF((A!J$2+A!J$3*B106)<A!J$4,A!J$2+A!J$3*B106,A!J$4)","v":136.34095897541391},{"$f":"IF(B106<A!K$4,A!K$2+A!K$3*(3*B106/(2*A!K$4)-0.5*(B106/A!K$4)^3),A!K$3+A!K$2)","v":139.51927455961459},{"$f":"(C106*B$45+'C'!D106*C$45+'C'!E106*D$45+'C'!F106*E$45+'C'!G106*F$45)/SUM(B$45:F$45)","v":138.98842418644045}]
[118,118,{"$f":"A!G$2+A!G$3*B107+A!G$4*B107^2","v":141.21391614474302},{"$f":"IF(B107<(A!H$3/(-2*A!H$4)),A!H$2+A!H$3*B107+A!H$4*B107^2,A!H$2+A!H$3*(A!H$3/(-2*A!H$4))+A!H$3*A!H$3/(4*A!H$4))","v":141.03249401079069},{"$f":"A!I$2+A!I$3*EXP(A!I$4*B107)","v":140.6367169819529},{"$f":"IF((A!J$2+A!J$3*B107)<A!J$4,A!J$2+A!J$3*B107,A!J$4)","v":137.93785556482996},{"$f":"IF(B107<A!K$4,A!K$2+A!K$3*(3*B107/(2*A!K$4)-0.5*(B107/A!K$4)^3),A!K$3+A!K$2)","v":140.8067033447},{"$f":"(C107*B$45+'C'!D107*C$45+'C'!E107*D$45+'C'!F107*E$45+'C'!G107*F$45)/SUM(B$45:F$45)","v":140.27943380272561}]
[120,120,{"$f":"A!G$2+A!G$3*B108+A!G$4*B108^2","v":142.33533639217899},{"$f":"IF(B108<(A!H$3/(-2*A!H$4)),A!H$2+A!H$3*B108+A!H$4*B108^2,A!H$2+A!H$3*(A!H$3/(-2*A!H$4))+A!H$3*A!H$3/(4*A!H$4))","v":142.15339927782426},{"$f":"A!I$2+A!I$3*EXP(A!I$4*B108)","v":141.56079243260442},{"$f":"IF((A!J$2+A!J$3*B108)<A!J$4,A!J$2+A!J$3*B108,A!J$4)","v":139.53475215424598},{"$f":"IF(B108<A!K$4,A!K$2+A!K$3*(3*B108/(2*A!K$4)-0.5*(B108/A!K$4)^3),A!K$3+A!K$2)","v":142.07241762493376},{"$f":"(C108*B$45+'C'!D108*C$45+'C'!E108*D$45+'C'!F108*E$45+'C'!G108*F$45)/SUM(B$45:F$45)","v":141.55424858480907}]
[122,122,{"$f":"A!G$2+A!G$3*B109+A!G$4*B109^2","v":143.43580353002903},{"$f":"IF(B109<(A!H$3/(-2*A!H$4)),A!H$2+A!H$3*B109+A!H$4*B109^2,A!H$2+A!H$3*(A!H$3/(-2*A!H$4))+A!H$3*A!H$3/(4*A!H$4))","v":143.25351176827266},{"$f":"A!I$2+A!I$3*EXP(A!I$4*B109)","v":142.46717412428495},{"$f":"IF((A!J$2+A!J$3*B109)<A!J$4,A!J$2+A!J$3*B109,A!J$4)","v":141.13164874366203},{"$f":"IF(B109<A!K$4,A!K$2+A!K$3*(3*B109/(2*A!K$4)-0.5*(B109/A!K$4)^3),A!K$3+A!K$2)","v":143.31604935786066},{"$f":"(C109*B$45+'C'!D109*C$45+'C'!E109*D$45+'C'!F109*E$45+'C'!G109*F$45)/SUM(B$45:F$45)","v":142.81276208097339}]
[124,124,{"$f":"A!G$2+A!G$3*B110+A!G$4*B110^2","v":144.51531755829325},{"$f":"IF(B110<(A!H$3/(-2*A!H$4)),A!H$2+A!H$3*B110+A!H$4*B110^2,A!H$2+A!H$3*(A!H$3/(-2*A!H$4))+A!H$3*A!H$3/(4*A!H$4))","v":144.33283148213602},{"$f":"A!I$2+A!I$3*EXP(A!I$4*B110)","v":143.35620084870934},{"$f":"IF((A!J$2+A!J$3*B110)<A!J$4,A!J$2+A!J$3*B110,A!J$4)","v":142.72854533307807},{"$f":"IF(B110<A!K$4,A!K$2+A!K$3*(3*B110/(2*A!K$4)-0.5*(B110/A!K$4)^3),A!K$3+A!K$2)","v":144.53723050102559},{"$f":"(C110*B$45+'C'!D110*C$45+'C'!E110*D$45+'C'!F110*E$45+'C'!G110*F$45)/SUM(B$45:F$45)","v":144.05486781890423}]
[126,126,{"$f":"A!G$2+A!G$3*B111+A!G$4*B111^2","v":145.57387847697152},{"$f":"IF(B111<(A!H$3/(-2*A!H$4)),A!H$2+A!H$3*B111+A!H$4*B111^2,A!H$2+A!H$3*(A!H$3/(-2*A!H$4))+A!H$3*A!H$3/(4*A!H$4))","v":145.39135841941422},{"$f":"A!I$2+A!I$3*EXP(A!I$4*B111)","v":144.22820491056905},{"$f":"IF((A!J$2+A!J$3*B111)<A!J$4,A!J$2+A!J$3*B111,A!J$4)","v":144.32544192249412},{"$f":"IF(B111<A!K$4,A!K$2+A!K$3*(3*B111/(2*A!K$4)-0.5*(B111/A!K$4)^3),A!K$3+A!K$2)","v":145.73559301197346},{"$f":"(C111*B$45+'C'!D111*C$45+'C'!E111*D$45+'C'!F111*E$45+'C'!G111*F$45)/SUM(B$45:F$45)","v":145.28045930608488}]
[128,128,{"$f":"A!G$2+A!G$3*B112+A!G$4*B112^2","v":146.61148628606395},{"$f":"IF(B112<(A!H$3/(-2*A!H$4)),A!H$2+A!H$3*B112+A!H$4*B112^2,A!H$2+A!H$3*(A!H$3/(-2*A!H$4))+A!H$3*A!H$3/(4*A!H$4))","v":146.42909258010738},{"$f":"A!I$2+A!I$3*EXP(A!I$4*B112)","v":145.08351225174286},{"$f":"IF((A!J$2+A!J$3*B112)<A!J$4,A!J$2+A!J$3*B112,A!J$4)","v":145.92233851191017},{"$f":"IF(B112<A!K$4,A!K$2+A!K$3*(3*B112/(2*A!K$4)-0.5*(B112/A!K$4)^3),A!K$3+A!K$2)","v":146.91076884824915},{"$f":"(C112*B$45+'C'!D112*C$45+'C'!E112*D$45+'C'!F112*E$45+'C'!G112*F$45)/SUM(B$45:F$45)","v":146.48943003018303}]
[130,{"$f":"IF(A113<MAX($M$48),A113,MAX($M$48))","v":130},{"$f":"A!G$2+A!G$3*B113+A!G$4*B113^2","v":147.62814098557044},{"$f":"IF(B113<(A!H$3/(-2*A!H$4)),A!H$2+A!H$3*B113+A!H$4*B113^2,A!H$2+A!H$3*(A!H$3/(-2*A!H$4))+A!H$3*A!H$3/(4*A!H$4))","v":147.44603396421536},{"$f":"A!I$2+A!I$3*EXP(A!I$4*B113)","v":145.92244257312876},{"$f":"IF((A!J$2+A!J$3*B113)<A!J$4,A!J$2+A!J$3*B113,A!J$4)","v":147.51923510132622},{"$f":"IF(B113<A!K$4,A!K$2+A!K$3*(3*B113/(2*A!K$4)-0.5*(B113/A!K$4)^3),A!K$3+A!K$2)","v":148.06238996739756},{"$f":"(C113*B$45+'C'!D113*C$45+'C'!E113*D$45+'C'!F113*E$45+'C'!G113*F$45)/SUM(B$45:F$45)","v":147.68167345943021}]
[132,132,{"$f":"A!G$2+A!G$3*B114+A!G$4*B114^2","v":148.6238425754911},{"$f":"IF(B114<(A!H$3/(-2*A!H$4)),A!H$2+A!H$3*B114+A!H$4*B114^2,A!H$2+A!H$3*(A!H$3/(-2*A!H$4))+A!H$3*A!H$3/(4*A!H$4))","v":148.44218257173833},{"$f":"A!I$2+A!I$3*EXP(A!I$4*B114)","v":146.74530945414347},{"$f":"IF((A!J$2+A!J$3*B114)<A!J$4,A!J$2+A!J$3*B114,A!J$4)","v":149.11613169074226},{"$f":"IF(B114<A!K$4,A!K$2+A!K$3*(3*B114/(2*A!K$4)-0.5*(B114/A!K$4)^3),A!K$3+A!K$2)","v":149.19008832696352},{"$f":"(C114*B$45+'C'!D114*C$45+'C'!E114*D$45+'C'!F114*E$45+'C'!G114*F$45)/SUM(B$45:F$45)","v":148.85708304299396}]
[134,134,{"$f":"A!G$2+A!G$3*B115+A!G$4*B115^2","v":149.59859105582584},{"$f":"IF(B115<(A!H$3/(-2*A!H$4)),A!H$2+A!H$3*B115+A!H$4*B115^2,A!H$2+A!H$3*(A!H$3/(-2*A!H$4))+A!H$3*A!H$3/(4*A!H$4))","v":149.41753840267612},{"$f":"A!I$2+A!I$3*EXP(A!I$4*B115)","v":147.55242046993354},{"$f":"IF((A!J$2+A!J$3*B115)<A!J$4,A!J$2+A!J$3*B115,A!J$4)","v":150.71302828015831},{"$f":"IF(B115<A!K$4,A!K$2+A!K$3*(3*B115/(2*A!K$4)-0.5*(B115/A!K$4)^3),A!K$3+A!K$2)","v":150.29349588449196},{"$f":"(C115*B$45+'C'!D115*C$45+'C'!E115*D$45+'C'!F115*E$45+'C'!G115*F$45)/SUM(B$45:F$45)","v":150.01555221134277}]
[136,136,{"$f":"A!G$2+A!G$3*B116+A!G$4*B116^2","v":150.55238642657474},{"$f":"IF(B116<(A!H$3/(-2*A!H$4)),A!H$2+A!H$3*B116+A!H$4*B116^2,A!H$2+A!H$3*(A!H$3/(-2*A!H$4))+A!H$3*A!H$3/(4*A!H$4))","v":150.37210145702886},{"$f":"A!I$2+A!I$3*EXP(A!I$4*B116)","v":148.34407730634234},{"$f":"IF((A!J$2+A!J$3*B116)<A!J$4,A!J$2+A!J$3*B116,A!J$4)","v":152.30992486957436},{"$f":"IF(B116<A!K$4,A!K$2+A!K$3*(3*B116/(2*A!K$4)-0.5*(B116/A!K$4)^3),A!K$3+A!K$2)","v":151.37224459752781},{"$f":"(C116*B$45+'C'!D116*C$45+'C'!E116*D$45+'C'!F116*E$45+'C'!G116*F$45)/SUM(B$45:F$45)","v":151.1569743766043}]
[138,138,{"$f":"A!G$2+A!G$3*B117+A!G$4*B117^2","v":151.48522868773767},{"$f":"IF(B117<(A!H$3/(-2*A!H$4)),A!H$2+A!H$3*B117+A!H$4*B117^2,A!H$2+A!H$3*(A!H$3/(-2*A!H$4))+A!H$3*A!H$3/(4*A!H$4))","v":151.30587173479645},{"$f":"A!I$2+A!I$3*EXP(A!I$4*B117)","v":149.1205758726756},{"$f":"IF((A!J$2+A!J$3*B117)<A!J$4,A!J$2+A!J$3*B117,A!J$4)","v":153.90682145899041},{"$f":"IF(B117<A!K$4,A!K$2+A!K$3*(3*B117/(2*A!K$4)-0.5*(B117/A!K$4)^3),A!K$3+A!K$2)","v":152.4259664236159},{"$f":"(C117*B$45+'C'!D117*C$45+'C'!E117*D$45+'C'!F117*E$45+'C'!G117*F$45)/SUM(B$45:F$45)","v":152.28124293291623}]
[140,140,{"$f":"A!G$2+A!G$3*B118+A!G$4*B118^2","v":152.3971178393148},{"$f":"IF(B118<(A!H$3/(-2*A!H$4)),A!H$2+A!H$3*B118+A!H$4*B118^2,A!H$2+A!H$3*(A!H$3/(-2*A!H$4))+A!H$3*A!H$3/(4*A!H$4))","v":152.21884923597898},{"$f":"A!I$2+A!I$3*EXP(A!I$4*B118)","v":149.88220641230791},{"$f":"IF((A!J$2+A!J$3*B118)<A!J$4,A!J$2+A!J$3*B118,A!J$4)","v":155.50371804840645},{"$f":"IF(B118<A!K$4,A!K$2+A!K$3*(3*B118/(2*A!K$4)-0.5*(B118/A!K$4)^3),A!K$3+A!K$2)","v":153.45429332030108},{"$f":"(C118*B$45+'C'!D118*C$45+'C'!E118*D$45+'C'!F118*E$45+'C'!G118*F$45)/SUM(B$45:F$45)","v":153.38825125677116}]
[142,142,{"$f":"A!G$2+A!G$3*B119+A!G$4*B119^2","v":153.28805388130598},{"$f":"IF(B119<(A!H$3/(-2*A!H$4)),A!H$2+A!H$3*B119+A!H$4*B119^2,A!H$2+A!H$3*(A!H$3/(-2*A!H$4))+A!H$3*A!H$3/(4*A!H$4))","v":153.11103396057638},{"$f":"A!I$2+A!I$3*EXP(A!I$4*B119)","v":150.62925361117115},{"$f":"IF((A!J$2+A!J$3*B119)<A!J$4,A!J$2+A!J$3*B119,A!J$4)","v":157.1006146378225},{"$f":"IF(B119<A!K$4,A!K$2+A!K$3*(3*B119/(2*A!K$4)-0.5*(B119/A!K$4)^3),A!K$3+A!K$2)","v":154.4568572451283},{"$f":"(C119*B$45+'C'!D119*C$45+'C'!E119*D$45+'C'!F119*E$45+'C'!G119*F$45)/SUM(B$45:F$45)","v":154.4778927073541}]
[144,144,{"$f":"A!G$2+A!G$3*B120+A!G$4*B120^2","v":154.15803681371136},{"$f":"IF(B120<(A!H$3/(-2*A!H$4)),A!H$2+A!H$3*B120+A!H$4*B120^2,A!H$2+A!H$3*(A!H$3/(-2*A!H$4))+A!H$3*A!H$3/(4*A!H$4))","v":153.98242590858871},{"$f":"A!I$2+A!I$3*EXP(A!I$4*B120)","v":151.36199670416588},{"$f":"IF((A!J$2+A!J$3*B120)<A!J$4,A!J$2+A!J$3*B120,A!J$4)","v":158.69751122723855},{"$f":"IF(B120<A!K$4,A!K$2+A!K$3*(3*B120/(2*A!K$4)-0.5*(B120/A!K$4)^3),A!K$3+A!K$2)","v":155.43329015564245},{"$f":"(C120*B$45+'C'!D120*C$45+'C'!E120*D$45+'C'!F120*E$45+'C'!G120*F$45)/SUM(B$45:F$45)","v":155.5500606268742}]
[146,146,{"$f":"A!G$2+A!G$3*B121+A!G$4*B121^2","v":155.00706663653077},{"$f":"IF(B121<(A!H$3/(-2*A!H$4)),A!H$2+A!H$3*B121+A!H$4*B121^2,A!H$2+A!H$3*(A!H$3/(-2*A!H$4))+A!H$3*A!H$3/(4*A!H$4))","v":154.83302508001589},{"$f":"A!I$2+A!I$3*EXP(A!I$4*B121)","v":152.08070957953501},{"$f":"IF((A!J$2+A!J$3*B121)<A!J$4,A!J$2+A!J$3*B121,A!J$4)","v":160.2944078166546},{"$f":"IF(B121<A!K$4,A!K$2+A!K$3*(3*B121/(2*A!K$4)-0.5*(B121/A!K$4)^3),A!K$3+A!K$2)","v":156.38322400938836},{"$f":"(C121*B$45+'C'!D121*C$45+'C'!E121*D$45+'C'!F121*E$45+'C'!G121*F$45)/SUM(B$45:F$45)","v":156.60464834088924}]
[148,148,{"$f":"A!G$2+A!G$3*B122+A!G$4*B122^2","v":155.83514334976437},{"$f":"IF(B122<(A!H$3/(-2*A!H$4)),A!H$2+A!H$3*B122+A!H$4*B122^2,A!H$2+A!H$3*(A!H$3/(-2*A!H$4))+A!H$3*A!H$3/(4*A!H$4))","v":155.662831474858},{"$f":"A!I$2+A!I$3*EXP(A!I$4*B122)","v":152.78566088123921},{"$f":"IF((A!J$2+A!J$3*B122)<A!J$4,A!J$2+A!J$3*B122,A!J$4)","v":161.89130440607065},{"$f":"IF(B122<A!K$4,A!K$2+A!K$3*(3*B122/(2*A!K$4)-0.5*(B122/A!K$4)^3),A!K$3+A!K$2)","v":157.30629076391097},{"$f":"(C122*B$45+'C'!D122*C$45+'C'!E122*D$45+'C'!F122*E$45+'C'!G122*F$45)/SUM(B$45:F$45)","v":157.64154915862531}]
[150,150,{"$f":"A!G$2+A!G$3*B123+A!G$4*B123^2","v":156.64226695341199},{"$f":"IF(B123<(A!H$3/(-2*A!H$4)),A!H$2+A!H$3*B123+A!H$4*B123^2,A!H$2+A!H$3*(A!H$3/(-2*A!H$4))+A!H$3*A!H$3/(4*A!H$4))","v":156.47184509311495},{"$f":"A!I$2+A!I$3*EXP(A!I$4*B123)","v":153.4771141093718},{"$f":"IF((A!J$2+A!J$3*B123)<A!J$4,A!J$2+A!J$3*B123,A!J$4)","v":163.48820099548669},{"$f":"IF(B123<A!K$4,A!K$2+A!K$3*(3*B123/(2*A!K$4)-0.5*(B123/A!K$4)^3),A!K$3+A!K$2)","v":158.20212237675514},{"$f":"(C123*B$45+'C'!D123*C$45+'C'!E123*D$45+'C'!F123*E$45+'C'!G123*F$45)/SUM(B$45:F$45)","v":158.66065637328867}]
[152,152,{"$f":"A!G$2+A!G$3*B124+A!G$4*B124^2","v":157.42843744747381},{"$f":"IF(B124<(A!H$3/(-2*A!H$4)),A!H$2+A!H$3*B124+A!H$4*B124^2,A!H$2+A!H$3*(A!H$3/(-2*A!H$4))+A!H$3*A!H$3/(4*A!H$4))","v":157.26006593478689},{"$f":"A!I$2+A!I$3*EXP(A!I$4*B124)","v":154.15532771865114},{"$f":"IF((A!J$2+A!J$3*B124)<A!J$4,A!J$2+A!J$3*B124,A!J$4)","v":165.08509758490271},{"$f":"IF(B124<A!K$4,A!K$2+A!K$3*(3*B124/(2*A!K$4)-0.5*(B124/A!K$4)^3),A!K$3+A!K$2)","v":159.07035080546575},{"$f":"(C124*B$45+'C'!D124*C$45+'C'!E124*D$45+'C'!F124*E$45+'C'!G124*F$45)/SUM(B$45:F$45)","v":159.66186326237306}]
[154,154,{"$f":"A!G$2+A!G$3*B125+A!G$4*B125^2","v":158.19365483194971},{"$f":"IF(B125<(A!H$3/(-2*A!H$4)),A!H$2+A!H$3*B125+A!H$4*B125^2,A!H$2+A!H$3*(A!H$3/(-2*A!H$4))+A!H$3*A!H$3/(4*A!H$4))","v":158.02749399987366},{"$f":"A!I$2+A!I$3*EXP(A!I$4*B125)","v":154.82055521502707},{"$f":"IF((A!J$2+A!J$3*B125)<A!J$4,A!J$2+A!J$3*B125,A!J$4)","v":166.68199417431876},{"$f":"IF(B125<A!K$4,A!K$2+A!K$3*(3*B125/(2*A!K$4)-0.5*(B125/A!K$4)^3),A!K$3+A!K$2)","v":159.91060800758771},{"$f":"(C125*B$45+'C'!D125*C$45+'C'!E125*D$45+'C'!F125*E$45+'C'!G125*F$45)/SUM(B$45:F$45)","v":160.6450630879603}]
[156,156,{"$f":"A!G$2+A!G$3*B126+A!G$4*B126^2","v":158.93791910683976},{"$f":"IF(B126<(A!H$3/(-2*A!H$4)),A!H$2+A!H$3*B126+A!H$4*B126^2,A!H$2+A!H$3*(A!H$3/(-2*A!H$4))+A!H$3*A!H$3/(4*A!H$4))","v":158.77412928837538},{"$f":"A!I$2+A!I$3*EXP(A!I$4*B126)","v":155.47304525043762},{"$f":"IF((A!J$2+A!J$3*B126)<A!J$4,A!J$2+A!J$3*B126,A!J$4)","v":168.27889076373481},{"$f":"IF(B126<A!K$4,A!K$2+A!K$3*(3*B126/(2*A!K$4)-0.5*(B126/A!K$4)^3),A!K$3+A!K$2)","v":160.72252594066589},{"$f":"(C126*B$45+'C'!D126*C$45+'C'!E126*D$45+'C'!F126*E$45+'C'!G126*F$45)/SUM(B$45:F$45)","v":161.61014909701544}]
[158,158,{"$f":"A!G$2+A!G$3*B127+A!G$4*B127^2","v":159.66123027214388},{"$f":"IF(B127<(A!H$3/(-2*A!H$4)),A!H$2+A!H$3*B127+A!H$4*B127^2,A!H$2+A!H$3*(A!H$3/(-2*A!H$4))+A!H$3*A!H$3/(4*A!H$4))","v":159.49997180029192},{"$f":"A!I$2+A!I$3*EXP(A!I$4*B127)","v":156.11304171575131},{"$f":"IF((A!J$2+A!J$3*B127)<A!J$4,A!J$2+A!J$3*B127,A!J$4)","v":169.87578735315086},{"$f":"IF(B127<A!K$4,A!K$2+A!K$3*(3*B127/(2*A!K$4)-0.5*(B127/A!K$4)^3),A!K$3+A!K$2)","v":161.50573656224518},{"$f":"(C127*B$45+'C'!D127*C$45+'C'!E127*D$45+'C'!F127*E$45+'C'!G127*F$45)/SUM(B$45:F$45)","v":162.55701452167617}]
[160,160,{"$f":"A!G$2+A!G$3*B128+A!G$4*B128^2","v":160.36358832786215},{"$f":"IF(B128<(A!H$3/(-2*A!H$4)),A!H$2+A!H$3*B128+A!H$4*B128^2,A!H$2+A!H$3*(A!H$3/(-2*A!H$4))+A!H$3*A!H$3/(4*A!H$4))","v":160.20502153562344},{"$f":"A!I$2+A!I$3*EXP(A!I$4*B128)","v":156.74078383192983},{"$f":"IF((A!J$2+A!J$3*B128)<A!J$4,A!J$2+A!J$3*B128,A!J$4)","v":169.99984713439568},{"$f":"IF(B128<A!K$4,A!K$2+A!K$3*(3*B128/(2*A!K$4)-0.5*(B128/A!K$4)^3),A!K$3+A!K$2)","v":162.25987182987046},{"$f":"(C128*B$45+'C'!D128*C$45+'C'!E128*D$45+'C'!F128*E$45+'C'!G128*F$45)/SUM(B$45:F$45)","v":163.13870789253454}]
[162,162,{"$f":"A!G$2+A!G$3*B129+A!G$4*B129^2","v":161.04499327399446},{"$f":"IF(B129<(A!H$3/(-2*A!H$4)),A!H$2+A!H$3*B129+A!H$4*B129^2,A!H$2+A!H$3*(A!H$3/(-2*A!H$4))+A!H$3*A!H$3/(4*A!H$4))","v":160.88927849436979},{"$f":"A!I$2+A!I$3*EXP(A!I$4*B129)","v":157.35650623944522},{"$f":"IF((A!J$2+A!J$3*B129)<A!J$4,A!J$2+A!J$3*B129,A!J$4)","v":169.99984713439568},{"$f":"IF(B129<A!K$4,A!K$2+A!K$3*(3*B129/(2*A!K$4)-0.5*(B129/A!K$4)^3),A!K$3+A!K$2)","v":162.98456370108664},{"$f":"(C129*B$45+'C'!D129*C$45+'C'!E129*D$45+'C'!F129*E$45+'C'!G129*F$45)/SUM(B$45:F$45)","v":163.67275172741341}]
[164,164,{"$f":"A!G$2+A!G$3*B130+A!G$4*B130^2","v":161.70544511054095},{"$f":"IF(B130<(A!H$3/(-2*A!H$4)),A!H$2+A!H$3*B130+A!H$4*B130^2,A!H$2+A!H$3*(A!H$3/(-2*A!H$4))+A!H$3*A!H$3/(4*A!H$4))","v":161.5527426765311},{"$f":"A!I$2+A!I$3*EXP(A!I$4*B130)","v":157.96043908598492},{"$f":"IF((A!J$2+A!J$3*B130)<A!J$4,A!J$2+A!J$3*B130,A!J$4)","v":169.99984713439568},{"$f":"IF(B130<A!K$4,A!K$2+A!K$3*(3*B130/(2*A!K$4)-0.5*(B130/A!K$4)^3),A!K$3+A!K$2)","v":163.67944413343855},{"$f":"(C130*B$45+'C'!D130*C$45+'C'!E130*D$45+'C'!F130*E$45+'C'!G130*F$45)/SUM(B$45:F$45)","v":164.18825458815934}]
[166,166,{"$f":"A!G$2+A!G$3*B131+A!G$4*B131^2","v":162.34494383750155},{"$f":"IF(B131<(A!H$3/(-2*A!H$4)),A!H$2+A!H$3*B131+A!H$4*B131^2,A!H$2+A!H$3*(A!H$3/(-2*A!H$4))+A!H$3*A!H$3/(4*A!H$4))","v":162.19541408210725},{"$f":"A!I$2+A!I$3*EXP(A!I$4*B131)","v":158.55280811247744},{"$f":"IF((A!J$2+A!J$3*B131)<A!J$4,A!J$2+A!J$3*B131,A!J$4)","v":169.99984713439568},{"$f":"IF(B131<A!K$4,A!K$2+A!K$3*(3*B131/(2*A!K$4)-0.5*(B131/A!K$4)^3),A!K$3+A!K$2)","v":164.34414508447111},{"$f":"(C131*B$45+'C'!D131*C$45+'C'!E131*D$45+'C'!F131*E$45+'C'!G131*F$45)/SUM(B$45:F$45)","v":164.68510965038601}]
[168,168,{"$f":"A!G$2+A!G$3*B132+A!G$4*B132^2","v":162.96348945487625},{"$f":"IF(B132<(A!H$3/(-2*A!H$4)),A!H$2+A!H$3*B132+A!H$4*B132^2,A!H$2+A!H$3*(A!H$3/(-2*A!H$4))+A!H$3*A!H$3/(4*A!H$4))","v":162.81729271109833},{"$f":"A!I$2+A!I$3*EXP(A!I$4*B132)","v":159.13383473747103},{"$f":"IF((A!J$2+A!J$3*B132)<A!J$4,A!J$2+A!J$3*B132,A!J$4)","v":169.99984713439568},{"$f":"IF(B132<A!K$4,A!K$2+A!K$3*(3*B132/(2*A!K$4)-0.5*(B132/A!K$4)^3),A!K$3+A!K$2)","v":164.97829851172924},{"$f":"(C132*B$45+'C'!D132*C$45+'C'!E132*D$45+'C'!F132*E$45+'C'!G132*F$45)/SUM(B$45:F$45)","v":165.16321007624612}]
[170,170,{"$f":"A!G$2+A!G$3*B133+A!G$4*B133^2","v":163.5610819626651},{"$f":"IF(B133<(A!H$3/(-2*A!H$4)),A!H$2+A!H$3*B133+A!H$4*B133^2,A!H$2+A!H$3*(A!H$3/(-2*A!H$4))+A!H$3*A!H$3/(4*A!H$4))","v":163.41837856350429},{"$f":"A!I$2+A!I$3*EXP(A!I$4*B133)","v":159.70373613989636},{"$f":"IF((A!J$2+A!J$3*B133)<A!J$4,A!J$2+A!J$3*B133,A!J$4)","v":169.99984713439568},{"$f":"IF(B133<A!K$4,A!K$2+A!K$3*(3*B133/(2*A!K$4)-0.5*(B133/A!K$4)^3),A!K$3+A!K$2)","v":165.5815363727578},{"$f":"(C133*B$45+'C'!D133*C$45+'C'!E133*D$45+'C'!F133*E$45+'C'!G133*F$45)/SUM(B$45:F$45)","v":165.62244901468884}]
[172,172,{"$f":"A!G$2+A!G$3*B134+A!G$4*B134^2","v":164.137721360868},{"$f":"IF(B134<(A!H$3/(-2*A!H$4)),A!H$2+A!H$3*B134+A!H$4*B134^2,A!H$2+A!H$3*(A!H$3/(-2*A!H$4))+A!H$3*A!H$3/(4*A!H$4))","v":163.99867163932518},{"$f":"A!I$2+A!I$3*EXP(A!I$4*B134)","v":160.26272534024488},{"$f":"IF((A!J$2+A!J$3*B134)<A!J$4,A!J$2+A!J$3*B134,A!J$4)","v":169.99984713439568},{"$f":"IF(B134<A!K$4,A!K$2+A!K$3*(3*B134/(2*A!K$4)-0.5*(B134/A!K$4)^3),A!K$3+A!K$2)","v":166.15349062510165},{"$f":"(C134*B$45+'C'!D134*C$45+'C'!E134*D$45+'C'!F134*E$45+'C'!G134*F$45)/SUM(B$45:F$45)","v":166.06271960171287}]
[174,174,{"$f":"A!G$2+A!G$3*B135+A!G$4*B135^2","v":164.6934076494851},{"$f":"IF(B135<(A!H$3/(-2*A!H$4)),A!H$2+A!H$3*B135+A!H$4*B135^2,A!H$2+A!H$3*(A!H$3/(-2*A!H$4))+A!H$3*A!H$3/(4*A!H$4))","v":164.55817193856092},{"$f":"A!I$2+A!I$3*EXP(A!I$4*B135)","v":160.81101128019259},{"$f":"IF((A!J$2+A!J$3*B135)<A!J$4,A!J$2+A!J$3*B135,A!J$4)","v":169.99984713439568},{"$f":"IF(B135<A!K$4,A!K$2+A!K$3*(3*B135/(2*A!K$4)-0.5*(B135/A!K$4)^3),A!K$3+A!K$2)","v":166.6937932263057},{"$f":"(C135*B$45+'C'!D135*C$45+'C'!E135*D$45+'C'!F135*E$45+'C'!G135*F$45)/SUM(B$45:F$45)","v":166.48391496061441}]
[176,176,{"$f":"A!G$2+A!G$3*B136+A!G$4*B136^2","v":165.22814082851625},{"$f":"IF(B136<(A!H$3/(-2*A!H$4)),A!H$2+A!H$3*B136+A!H$4*B136^2,A!H$2+A!H$3*(A!H$3/(-2*A!H$4))+A!H$3*A!H$3/(4*A!H$4))","v":165.09687946121159},{"$f":"A!I$2+A!I$3*EXP(A!I$4*B136)","v":161.34879890069919},{"$f":"IF((A!J$2+A!J$3*B136)<A!J$4,A!J$2+A!J$3*B136,A!J$4)","v":169.99984713439568},{"$f":"IF(B136<A!K$4,A!K$2+A!K$3*(3*B136/(2*A!K$4)-0.5*(B136/A!K$4)^3),A!K$3+A!K$2)","v":167.20207613391483},{"$f":"(C136*B$45+'C'!D136*C$45+'C'!E136*D$45+'C'!F136*E$45+'C'!G136*F$45)/SUM(B$45:F$45)","v":166.88592820223013}]
[178,178,{"$f":"A!G$2+A!G$3*B137+A!G$4*B137^2","v":165.74192089796156},{"$f":"IF(B137<(A!H$3/(-2*A!H$4)),A!H$2+A!H$3*B137+A!H$4*B137^2,A!H$2+A!H$3*(A!H$3/(-2*A!H$4))+A!H$3*A!H$3/(4*A!H$4))","v":165.61479420727716},{"$f":"A!I$2+A!I$3*EXP(A!I$4*B137)","v":161.87628921861204},{"$f":"IF((A!J$2+A!J$3*B137)<A!J$4,A!J$2+A!J$3*B137,A!J$4)","v":169.99984713439568},{"$f":"IF(B137<A!K$4,A!K$2+A!K$3*(3*B137/(2*A!K$4)-0.5*(B137/A!K$4)^3),A!K$3+A!K$2)","v":167.67797130547393},{"$f":"(C137*B$45+'C'!D137*C$45+'C'!E137*D$45+'C'!F137*E$45+'C'!G137*F$45)/SUM(B$45:F$45)","v":167.26865242517613}]
[180,180,{"$f":"A!G$2+A!G$3*B138+A!G$4*B138^2","v":166.23474785782093},{"$f":"IF(B138<(A!H$3/(-2*A!H$4)),A!H$2+A!H$3*B138+A!H$4*B138^2,A!H$2+A!H$3*(A!H$3/(-2*A!H$4))+A!H$3*A!H$3/(4*A!H$4))","v":166.11191617675763},{"$f":"A!I$2+A!I$3*EXP(A!I$4*B138)","v":162.39367940180313},{"$f":"IF((A!J$2+A!J$3*B138)<A!J$4,A!J$2+A!J$3*B138,A!J$4)","v":169.99984713439568},{"$f":"IF(B138<A!K$4,A!K$2+A!K$3*(3*B138/(2*A!K$4)-0.5*(B138/A!K$4)^3),A!K$3+A!K$2)","v":168.1211106985279},{"$f":"(C138*B$45+'C'!D138*C$45+'C'!E138*D$45+'C'!F138*E$45+'C'!G138*F$45)/SUM(B$45:F$45)","v":167.63198071608153}]
[182,182,{"$f":"A!G$2+A!G$3*B139+A!G$4*B139^2","v":166.70662170809447},{"$f":"IF(B139<(A!H$3/(-2*A!H$4)),A!H$2+A!H$3*B139+A!H$4*B139^2,A!H$2+A!H$3*(A!H$3/(-2*A!H$4))+A!H$3*A!H$3/(4*A!H$4))","v":166.58824536965295},{"$f":"A!I$2+A!I$3*EXP(A!I$4*B139)","v":162.90116284286742},{"$f":"IF((A!J$2+A!J$3*B139)<A!J$4,A!J$2+A!J$3*B139,A!J$4)","v":169.99984713439568},{"$f":"IF(B139<A!K$4,A!K$2+A!K$3*(3*B139/(2*A!K$4)-0.5*(B139/A!K$4)^3),A!K$3+A!K$2)","v":168.5311262706216},{"$f":"(C139*B$45+'C'!D139*C$45+'C'!E139*D$45+'C'!F139*E$45+'C'!G139*F$45)/SUM(B$45:F$45)","v":167.97580614981823}]
[184,184,{"$f":"A!G$2+A!G$3*B140+A!G$4*B140^2","v":167.1575424487821},{"$f":"IF(B140<(A!H$3/(-2*A!H$4)),A!H$2+A!H$3*B140+A!H$4*B140^2,A!H$2+A!H$3*(A!H$3/(-2*A!H$4))+A!H$3*A!H$3/(4*A!H$4))","v":167.04378178596323},{"$f":"A!I$2+A!I$3*EXP(A!I$4*B140)","v":163.39892923141002},{"$f":"IF((A!J$2+A!J$3*B140)<A!J$4,A!J$2+A!J$3*B140,A!J$4)","v":169.99984713439568},{"$f":"IF(B140<A!K$4,A!K$2+A!K$3*(3*B140/(2*A!K$4)-0.5*(B140/A!K$4)^3),A!K$3+A!K$2)","v":168.90764997929992},{"$f":"(C140*B$45+'C'!D140*C$45+'C'!E140*D$45+'C'!F140*E$45+'C'!G140*F$45)/SUM(B$45:F$45)","v":168.30002178972597}]
[186,186,{"$f":"A!G$2+A!G$3*B141+A!G$4*B141^2","v":167.58751007988388},{"$f":"IF(B141<(A!H$3/(-2*A!H$4)),A!H$2+A!H$3*B141+A!H$4*B141^2,A!H$2+A!H$3*(A!H$3/(-2*A!H$4))+A!H$3*A!H$3/(4*A!H$4))","v":167.47852542568836},{"$f":"A!I$2+A!I$3*EXP(A!I$4*B141)","v":163.88716462494949},{"$f":"IF((A!J$2+A!J$3*B141)<A!J$4,A!J$2+A!J$3*B141,A!J$4)","v":169.99984713439568},{"$f":"IF(B141<A!K$4,A!K$2+A!K$3*(3*B141/(2*A!K$4)-0.5*(B141/A!K$4)^3),A!K$3+A!K$2)","v":169.25031378210772},{"$f":"(C141*B$45+'C'!D141*C$45+'C'!E141*D$45+'C'!F141*E$45+'C'!G141*F$45)/SUM(B$45:F$45)","v":168.60452068783323}]
[188,188,{"$f":"A!G$2+A!G$3*B142+A!G$4*B142^2","v":167.9965246013997},{"$f":"IF(B142<(A!H$3/(-2*A!H$4)),A!H$2+A!H$3*B142+A!H$4*B142^2,A!H$2+A!H$3*(A!H$3/(-2*A!H$4))+A!H$3*A!H$3/(4*A!H$4))","v":167.89247628882842},{"$f":"A!I$2+A!I$3*EXP(A!I$4*B142)","v":164.366051518463},{"$f":"IF((A!J$2+A!J$3*B142)<A!J$4,A!J$2+A!J$3*B142,A!J$4)","v":169.99984713439568},{"$f":"IF(B142<A!K$4,A!K$2+A!K$3*(3*B142/(2*A!K$4)-0.5*(B142/A!K$4)^3),A!K$3+A!K$2)","v":169.55874963658999},{"$f":"(C142*B$45+'C'!D142*C$45+'C'!E142*D$45+'C'!F142*E$45+'C'!G142*F$45)/SUM(B$45:F$45)","v":168.88919588507363}]
[190,190,{"$f":"A!G$2+A!G$3*B143+A!G$4*B143^2","v":168.38458601332974},{"$f":"IF(B143<(A!H$3/(-2*A!H$4)),A!H$2+A!H$3*B143+A!H$4*B143^2,A!H$2+A!H$3*(A!H$3/(-2*A!H$4))+A!H$3*A!H$3/(4*A!H$4))","v":168.28563437538332},{"$f":"A!I$2+A!I$3*EXP(A!I$4*B143)","v":164.83576891260043},{"$f":"IF((A!J$2+A!J$3*B143)<A!J$4,A!J$2+A!J$3*B143,A!J$4)","v":169.99984713439568},{"$f":"IF(B143<A!K$4,A!K$2+A!K$3*(3*B143/(2*A!K$4)-0.5*(B143/A!K$4)^3),A!K$3+A!K$2)","v":169.83258950029153},{"$f":"(C143*B$45+'C'!D143*C$45+'C'!E143*D$45+'C'!F143*E$45+'C'!G143*F$45)/SUM(B$45:F$45)","v":169.15394041149855}]
[192,192,{"$f":"A!G$2+A!G$3*B144+A!G$4*B144^2","v":168.75169431567377},{"$f":"IF(B144<(A!H$3/(-2*A!H$4)),A!H$2+A!H$3*B144+A!H$4*B144^2,A!H$2+A!H$3*(A!H$3/(-2*A!H$4))+A!H$3*A!H$3/(4*A!H$4))","v":168.65799968535319},{"$f":"A!I$2+A!I$3*EXP(A!I$4*B144)","v":165.29649238059204},{"$f":"IF((A!J$2+A!J$3*B144)<A!J$4,A!J$2+A!J$3*B144,A!J$4)","v":169.99984713439568},{"$f":"IF(B144<A!K$4,A!K$2+A!K$3*(3*B144/(2*A!K$4)-0.5*(B144/A!K$4)^3),A!K$3+A!K$2)","v":170.07146533075721},{"$f":"(C144*B$45+'C'!D144*C$45+'C'!E144*D$45+'C'!F144*E$45+'C'!G144*F$45)/SUM(B$45:F$45)","v":169.39864728648533}]
[194,194,{"$f":"A!G$2+A!G$3*B145+A!G$4*B145^2","v":169.09784950843203},{"$f":"IF(B145<(A!H$3/(-2*A!H$4)),A!H$2+A!H$3*B145+A!H$4*B145^2,A!H$2+A!H$3*(A!H$3/(-2*A!H$4))+A!H$3*A!H$3/(4*A!H$4))","v":169.00957221873796},{"$f":"A!I$2+A!I$3*EXP(A!I$4*B145)","v":165.74839413387502},{"$f":"IF((A!J$2+A!J$3*B145)<A!J$4,A!J$2+A!J$3*B145,A!J$4)","v":169.99984713439568},{"$f":"IF(B145<A!K$4,A!K$2+A!K$3*(3*B145/(2*A!K$4)-0.5*(B145/A!K$4)^3),A!K$3+A!K$2)","v":170.27500908553193},{"$f":"(C145*B$45+'C'!D145*C$45+'C'!E145*D$45+'C'!F145*E$45+'C'!G145*F$45)/SUM(B$45:F$45)","v":169.62320951894185}]
[196,196,{"$f":"A!G$2+A!G$3*B146+A!G$4*B146^2","v":169.42305159160432},{"$f":"IF(B146<(A!H$3/(-2*A!H$4)),A!H$2+A!H$3*B146+A!H$4*B146^2,A!H$2+A!H$3*(A!H$3/(-2*A!H$4))+A!H$3*A!H$3/(4*A!H$4))","v":169.34035197553757},{"$f":"A!I$2+A!I$3*EXP(A!I$4*B146)","v":166.19164308646353},{"$f":"IF((A!J$2+A!J$3*B146)<A!J$4,A!J$2+A!J$3*B146,A!J$4)","v":169.99984713439568},{"$f":"IF(B146<A!K$4,A!K$2+A!K$3*(3*B146/(2*A!K$4)-0.5*(B146/A!K$4)^3),A!K$3+A!K$2)","v":170.44285272216067},{"$f":"(C146*B$45+'C'!D146*C$45+'C'!E146*D$45+'C'!F146*E$45+'C'!G146*F$45)/SUM(B$45:F$45)","v":169.82752010750676}]
[198,198,{"$f":"A!G$2+A!G$3*B147+A!G$4*B147^2","v":169.72730056519077},{"$f":"IF(B147<(A!H$3/(-2*A!H$4)),A!H$2+A!H$3*B147+A!H$4*B147^2,A!H$2+A!H$3*(A!H$3/(-2*A!H$4))+A!H$3*A!H$3/(4*A!H$4))","v":169.65033895575215},{"$f":"A!I$2+A!I$3*EXP(A!I$4*B147)","v":166.62640491808619},{"$f":"IF((A!J$2+A!J$3*B147)<A!J$4,A!J$2+A!J$3*B147,A!J$4)","v":169.99984713439568},{"$f":"IF(B147<A!K$4,A!K$2+A!K$3*(3*B147/(2*A!K$4)-0.5*(B147/A!K$4)^3),A!K$3+A!K$2)","v":170.57462819818815},{"$f":"(C147*B$45+'C'!D147*C$45+'C'!E147*D$45+'C'!F147*E$45+'C'!G147*F$45)/SUM(B$45:F$45)","v":170.01147204074633}]
[200,200,{"$f":"A!G$2+A!G$3*B148+A!G$4*B148^2","v":170.01059642919131},{"$f":"IF(B148<(A!H$3/(-2*A!H$4)),A!H$2+A!H$3*B148+A!H$4*B148^2,A!H$2+A!H$3*(A!H$3/(-2*A!H$4))+A!H$3*A!H$3/(4*A!H$4))","v":169.93953315938154},{"$f":"A!I$2+A!I$3*EXP(A!I$4*B148)","v":167.05284213611472},{"$f":"IF((A!J$2+A!J$3*B148)<A!J$4,A!J$2+A!J$3*B148,A!J$4)","v":169.99984713439568},{"$f":"IF(B148<A!K$4,A!K$2+A!K$3*(3*B148/(2*A!K$4)-0.5*(B148/A!K$4)^3),A!K$3+A!K$2)","v":170.6699674711594},{"$f":"(C148*B$45+'C'!D148*C$45+'C'!E148*D$45+'C'!F148*E$45+'C'!G148*F$45)/SUM(B$45:F$45)","v":170.17495829734719}]
[202,202,{"$f":"A!G$2+A!G$3*B149+A!G$4*B149^2","v":170.27293918360601},{"$f":"IF(B149<(A!H$3/(-2*A!H$4)),A!H$2+A!H$3*B149+A!H$4*B149^2,A!H$2+A!H$3*(A!H$3/(-2*A!H$4))+A!H$3*A!H$3/(4*A!H$4))","v":170.20793458642589},{"$f":"A!I$2+A!I$3*EXP(A!I$4*B149)","v":167.47111413630662},{"$f":"IF((A!J$2+A!J$3*B149)<A!J$4,A!J$2+A!J$3*B149,A!J$4)","v":169.99984713439568},{"$f":"IF(B149<A!K$4,A!K$2+A!K$3*(3*B149/(2*A!K$4)-0.5*(B149/A!K$4)^3),A!K$3+A!K$2)","v":170.72850249861924},{"$f":"(C149*B$45+'C'!D149*C$45+'C'!E149*D$45+'C'!F149*E$45+'C'!G149*F$45)/SUM(B$45:F$45)","v":170.31787184630556}]
[204,204,{"$f":"A!G$2+A!G$3*B150+A!G$4*B150^2","v":170.51432882843477},{"$f":"IF(B150<(A!H$3/(-2*A!H$4)),A!H$2+A!H$3*B150+A!H$4*B150^2,A!H$2+A!H$3*(A!H$3/(-2*A!H$4))+A!H$3*A!H$3/(4*A!H$4))","v":170.45554323688509},{"$f":"A!I$2+A!I$3*EXP(A!I$4*B150)","v":167.88137726238494},{"$f":"IF((A!J$2+A!J$3*B150)<A!J$4,A!J$2+A!J$3*B150,A!J$4)","v":169.99984713439568},{"$f":"IF(B150<A!K$4,A!K$2+A!K$3*(3*B150/(2*A!K$4)-0.5*(B150/A!K$4)^3),A!K$3+A!K$2)","v":170.74986523811253},{"$f":"(C150*B$45+'C'!D150*C$45+'C'!E150*D$45+'C'!F150*E$45+'C'!G150*F$45)/SUM(B$45:F$45)","v":170.44010564711266}]
[206,206,{"$f":"A!G$2+A!G$3*B151+A!G$4*B151^2","v":170.7347653636777},{"$f":"IF(B151<(A!H$3/(-2*A!H$4)),A!H$2+A!H$3*B151+A!H$4*B151^2,A!H$2+A!H$3*(A!H$3/(-2*A!H$4))+A!H$3*A!H$3/(4*A!H$4))","v":170.68235911075922},{"$f":"A!I$2+A!I$3*EXP(A!I$4*B151)","v":168.28378486447727},{"$f":"IF((A!J$2+A!J$3*B151)<A!J$4,A!J$2+A!J$3*B151,A!J$4)","v":169.99984713439568},{"$f":"IF(B151<A!K$4,A!K$2+A!K$3*(3*B151/(2*A!K$4)-0.5*(B151/A!K$4)^3),A!K$3+A!K$2)","v":170.74995902573716},{"$f":"(C151*B$45+'C'!D151*C$45+'C'!E151*D$45+'C'!F151*E$45+'C'!G151*F$45)/SUM(B$45:F$45)","v":170.54630650135033}]
[208,208,{"$f":"A!G$2+A!G$3*B152+A!G$4*B152^2","v":170.9342487893347},{"$f":"IF(B152<(A!H$3/(-2*A!H$4)),A!H$2+A!H$3*B152+A!H$4*B152^2,A!H$2+A!H$3*(A!H$3/(-2*A!H$4))+A!H$3*A!H$3/(4*A!H$4))","v":170.8883822080482},{"$f":"A!I$2+A!I$3*EXP(A!I$4*B152)","v":168.67848735643545},{"$f":"IF((A!J$2+A!J$3*B152)<A!J$4,A!J$2+A!J$3*B152,A!J$4)","v":169.99984713439568},{"$f":"IF(B152<A!K$4,A!K$2+A!K$3*(3*B152/(2*A!K$4)-0.5*(B152/A!K$4)^3),A!K$3+A!K$2)","v":170.74995902573716},{"$f":"(C152*B$45+'C'!D152*C$45+'C'!E152*D$45+'C'!F152*E$45+'C'!G152*F$45)/SUM(B$45:F$45)","v":170.64266142053452}]
[210,210,{"$f":"A!G$2+A!G$3*B153+A!G$4*B153^2","v":171.11277910540588},{"$f":"IF(B153<(A!H$3/(-2*A!H$4)),A!H$2+A!H$3*B153+A!H$4*B153^2,A!H$2+A!H$3*(A!H$3/(-2*A!H$4))+A!H$3*A!H$3/(4*A!H$4))","v":171.07361252875216},{"$f":"A!I$2+A!I$3*EXP(A!I$4*B153)","v":169.06563227205825},{"$f":"IF((A!J$2+A!J$3*B153)<A!J$4,A!J$2+A!J$3*B153,A!J$4)","v":169.99984713439568},{"$f":"IF(B153<A!K$4,A!K$2+A!K$3*(3*B153/(2*A!K$4)-0.5*(B153/A!K$4)^3),A!K$3+A!K$2)","v":170.74995902573716},{"$f":"(C153*B$45+'C'!D153*C$45+'C'!E153*D$45+'C'!F153*E$45+'C'!G153*F$45)/SUM(B$45:F$45)","v":170.72919826515098}]
[212,212,{"$f":"A!G$2+A!G$3*B154+A!G$4*B154^2","v":171.27035631189108},{"$f":"IF(B154<(A!H$3/(-2*A!H$4)),A!H$2+A!H$3*B154+A!H$4*B154^2,A!H$2+A!H$3*(A!H$3/(-2*A!H$4))+A!H$3*A!H$3/(4*A!H$4))","v":171.23805007287092},{"$f":"A!I$2+A!I$3*EXP(A!I$4*B154)","v":169.44536432023713},{"$f":"IF((A!J$2+A!J$3*B154)<A!J$4,A!J$2+A!J$3*B154,A!J$4)","v":169.99984713439568},{"$f":"IF(B154<A!K$4,A!K$2+A!K$3*(3*B154/(2*A!K$4)-0.5*(B154/A!K$4)^3),A!K$3+A!K$2)","v":170.74995902573716},{"$f":"(C154*B$45+'C'!D154*C$45+'C'!E154*D$45+'C'!F154*E$45+'C'!G154*F$45)/SUM(B$45:F$45)","v":170.8059174858638}]
[214,214,{"$f":"A!G$2+A!G$3*B155+A!G$4*B155^2","v":171.40698040879047},{"$f":"IF(B155<(A!H$3/(-2*A!H$4)),A!H$2+A!H$3*B155+A!H$4*B155^2,A!H$2+A!H$3*(A!H$3/(-2*A!H$4))+A!H$3*A!H$3/(4*A!H$4))","v":171.38169484040469},{"$f":"A!I$2+A!I$3*EXP(A!I$4*B155)","v":169.81782543904626},{"$f":"IF((A!J$2+A!J$3*B155)<A!J$4,A!J$2+A!J$3*B155,A!J$4)","v":169.99984713439568},{"$f":"IF(B155<A!K$4,A!K$2+A!K$3*(3*B155/(2*A!K$4)-0.5*(B155/A!K$4)^3),A!K$3+A!K$2)","v":170.74995902573716},{"$f":"(C155*B$45+'C'!D155*C$45+'C'!E155*D$45+'C'!F155*E$45+'C'!G155*F$45)/SUM(B$45:F$45)","v":170.87281952470821}]
[216,216,{"$f":"A!G$2+A!G$3*B156+A!G$4*B156^2","v":171.52265139610392},{"$f":"IF(B156<(A!H$3/(-2*A!H$4)),A!H$2+A!H$3*B156+A!H$4*B156^2,A!H$2+A!H$3*(A!H$3/(-2*A!H$4))+A!H$3*A!H$3/(4*A!H$4))","v":171.50454683135325},{"$f":"A!I$2+A!I$3*EXP(A!I$4*B156)","v":170.18315484879673},{"$f":"IF((A!J$2+A!J$3*B156)<A!J$4,A!J$2+A!J$3*B156,A!J$4)","v":169.99984713439568},{"$f":"IF(B156<A!K$4,A!K$2+A!K$3*(3*B156/(2*A!K$4)-0.5*(B156/A!K$4)^3),A!K$3+A!K$2)","v":170.74995902573716},{"$f":"(C156*B$45+'C'!D156*C$45+'C'!E156*D$45+'C'!F156*E$45+'C'!G156*F$45)/SUM(B$45:F$45)","v":170.92990481525541}]
[218,218,{"$f":"A!G$2+A!G$3*B157+A!G$4*B157^2","v":171.61736927383154},{"$f":"IF(B157<(A!H$3/(-2*A!H$4)),A!H$2+A!H$3*B157+A!H$4*B157^2,A!H$2+A!H$3*(A!H$3/(-2*A!H$4))+A!H$3*A!H$3/(4*A!H$4))","v":171.60660604571672},{"$f":"A!I$2+A!I$3*EXP(A!I$4*B157)","v":170.54148910407517},{"$f":"IF((A!J$2+A!J$3*B157)<A!J$4,A!J$2+A!J$3*B157,A!J$4)","v":169.99984713439568},{"$f":"IF(B157<A!K$4,A!K$2+A!K$3*(3*B157/(2*A!K$4)-0.5*(B157/A!K$4)^3),A!K$3+A!K$2)","v":170.74995902573716},{"$f":"(C157*B$45+'C'!D157*C$45+'C'!E157*D$45+'C'!F157*E$45+'C'!G157*F$45)/SUM(B$45:F$45)","v":170.97717378277486}]
[220,220,{"$f":"A!G$2+A!G$3*B158+A!G$4*B158^2","v":171.69113404197321},{"$f":"IF(B158<(A!H$3/(-2*A!H$4)),A!H$2+A!H$3*B158+A!H$4*B158^2,A!H$2+A!H$3*(A!H$3/(-2*A!H$4))+A!H$3*A!H$3/(4*A!H$4))","v":171.68787248349514},{"$f":"A!I$2+A!I$3*EXP(A!I$4*B158)","v":170.89296214478563},{"$f":"IF((A!J$2+A!J$3*B158)<A!J$4,A!J$2+A!J$3*B158,A!J$4)","v":169.99984713439568},{"$f":"IF(B158<A!K$4,A!K$2+A!K$3*(3*B158/(2*A!K$4)-0.5*(B158/A!K$4)^3),A!K$3+A!K$2)","v":170.74995902573716},{"$f":"(C158*B$45+'C'!D158*C$45+'C'!E158*D$45+'C'!F158*E$45+'C'!G158*F$45)/SUM(B$45:F$45)","v":171.01462684439312}]
[222,222,{"$f":"A!G$2+A!G$3*B159+A!G$4*B159^2","v":171.74394570052908},{"$f":"IF(B159<(A!H$3/(-2*A!H$4)),A!H$2+A!H$3*B159+A!H$4*B159^2,A!H$2+A!H$3*(A!H$3/(-2*A!H$4))+A!H$3*A!H$3/(4*A!H$4))","v":171.74834614468844},{"$f":"A!I$2+A!I$3*EXP(A!I$4*B159)","v":171.23770534621428},{"$f":"IF((A!J$2+A!J$3*B159)<A!J$4,A!J$2+A!J$3*B159,A!J$4)","v":169.99984713439568},{"$f":"IF(B159<A!K$4,A!K$2+A!K$3*(3*B159/(2*A!K$4)-0.5*(B159/A!K$4)^3),A!K$3+A!K$2)","v":170.74995902573716},{"$f":"(C159*B$45+'C'!D159*C$45+'C'!E159*D$45+'C'!F159*E$45+'C'!G159*F$45)/SUM(B$45:F$45)","v":171.04226440924981}]
[224,224,{"$f":"A!G$2+A!G$3*B160+A!G$4*B160^2","v":171.77580424949898},{"$f":"IF(B160<(A!H$3/(-2*A!H$4)),A!H$2+A!H$3*B160+A!H$4*B160^2,A!H$2+A!H$3*(A!H$3/(-2*A!H$4))+A!H$3*A!H$3/(4*A!H$4))","v":171.78802702929664},{"$f":"A!I$2+A!I$3*EXP(A!I$4*B160)","v":171.57584756813566},{"$f":"IF((A!J$2+A!J$3*B160)<A!J$4,A!J$2+A!J$3*B160,A!J$4)","v":169.99984713439568},{"$f":"IF(B160<A!K$4,A!K$2+A!K$3*(3*B160/(2*A!K$4)-0.5*(B160/A!K$4)^3),A!K$3+A!K$2)","v":170.74995902573716},{"$f":"(C160*B$45+'C'!D160*C$45+'C'!E160*D$45+'C'!F160*E$45+'C'!G160*F$45)/SUM(B$45:F$45)","v":171.06008687865059}]
[226,226,{"$f":"A!G$2+A!G$3*B161+A!G$4*B161^2","v":171.78670968888306},{"$f":"IF(B161<(A!H$3/(-2*A!H$4)),A!H$2+A!H$3*B161+A!H$4*B161^2,A!H$2+A!H$3*(A!H$3/(-2*A!H$4))+A!H$3*A!H$3/(4*A!H$4))","v":171.80691513731972},{"$f":"A!I$2+A!I$3*EXP(A!I$4*B161)","v":171.90751520297826},{"$f":"IF((A!J$2+A!J$3*B161)<A!J$4,A!J$2+A!J$3*B161,A!J$4)","v":169.99984713439568},{"$f":"IF(B161<A!K$4,A!K$2+A!K$3*(3*B161/(2*A!K$4)-0.5*(B161/A!K$4)^3),A!K$3+A!K$2)","v":170.74995902573716},{"$f":"(C161*B$45+'C'!D161*C$45+'C'!E161*D$45+'C'!F161*E$45+'C'!G161*F$45)/SUM(B$45:F$45)","v":171.06809464621705}]
[228,228,{"$f":"A!G$2+A!G$3*B162+A!G$4*B162^2","v":171.77666201868121},{"$f":"IF(B162<(A!H$3/(-2*A!H$4)),A!H$2+A!H$3*B162+A!H$4*B162^2,A!H$2+A!H$3*(A!H$3/(-2*A!H$4))+A!H$3*A!H$3/(4*A!H$4))","v":171.80864913623245},{"$f":"A!I$2+A!I$3*EXP(A!I$4*B162)","v":172.23283222306833},{"$f":"IF((A!J$2+A!J$3*B162)<A!J$4,A!J$2+A!J$3*B162,A!J$4)","v":169.99984713439568},{"$f":"IF(B162<A!K$4,A!K$2+A!K$3*(3*B162/(2*A!K$4)-0.5*(B162/A!K$4)^3),A!K$3+A!K$2)","v":170.74995902573716},{"$f":"(C162*B$45+'C'!D162*C$45+'C'!E162*D$45+'C'!F162*E$45+'C'!G162*F$45)/SUM(B$45:F$45)","v":171.06713487208751}]
[230,230,{"$f":"A!G$2+A!G$3*B163+A!G$4*B163^2","v":171.74566123889352},{"$f":"IF(B163<(A!H$3/(-2*A!H$4)),A!H$2+A!H$3*B163+A!H$4*B163^2,A!H$2+A!H$3*(A!H$3/(-2*A!H$4))+A!H$3*A!H$3/(4*A!H$4))","v":171.80864913623245},{"$f":"A!I$2+A!I$3*EXP(A!I$4*B163)","v":172.55192022696866},{"$f":"IF((A!J$2+A!J$3*B163)<A!J$4,A!J$2+A!J$3*B163,A!J$4)","v":169.99984713439568},{"$f":"IF(B163<A!K$4,A!K$2+A!K$3*(3*B163/(2*A!K$4)-0.5*(B163/A!K$4)^3),A!K$3+A!K$2)","v":170.74995902573716},{"$f":"(C163*B$45+'C'!D163*C$45+'C'!E163*D$45+'C'!F163*E$45+'C'!G163*F$45)/SUM(B$45:F$45)","v":171.06079643247728}]
[232,232,{"$f":"A!G$2+A!G$3*B164+A!G$4*B164^2","v":171.69370734951991},{"$f":"IF(B164<(A!H$3/(-2*A!H$4)),A!H$2+A!H$3*B164+A!H$4*B164^2,A!H$2+A!H$3*(A!H$3/(-2*A!H$4))+A!H$3*A!H$3/(4*A!H$4))","v":171.80864913623245},{"$f":"A!I$2+A!I$3*EXP(A!I$4*B164)","v":172.86489848493045},{"$f":"IF((A!J$2+A!J$3*B164)<A!J$4,A!J$2+A!J$3*B164,A!J$4)","v":169.99984713439568},{"$f":"IF(B164<A!K$4,A!K$2+A!K$3*(3*B164/(2*A!K$4)-0.5*(B164/A!K$4)^3),A!K$3+A!K$2)","v":170.74995902573716},{"$f":"(C164*B$45+'C'!D164*C$45+'C'!E164*D$45+'C'!F164*E$45+'C'!G164*F$45)/SUM(B$45:F$45)","v":171.04948322712426}]
[234,234,{"$f":"A!G$2+A!G$3*B165+A!G$4*B165^2","v":171.62080035056044},{"$f":"IF(B165<(A!H$3/(-2*A!H$4)),A!H$2+A!H$3*B165+A!H$4*B165^2,A!H$2+A!H$3*(A!H$3/(-2*A!H$4))+A!H$3*A!H$3/(4*A!H$4))","v":171.80864913623245},{"$f":"A!I$2+A!I$3*EXP(A!I$4*B165)","v":173.17188398347457},{"$f":"IF((A!J$2+A!J$3*B165)<A!J$4,A!J$2+A!J$3*B165,A!J$4)","v":169.99984713439568},{"$f":"IF(B165<A!K$4,A!K$2+A!K$3*(3*B165/(2*A!K$4)-0.5*(B165/A!K$4)^3),A!K$3+A!K$2)","v":170.74995902573716},{"$f":"(C165*B$45+'C'!D165*C$45+'C'!E165*D$45+'C'!F165*E$45+'C'!G165*F$45)/SUM(B$45:F$45)","v":171.03319562035733}]
[236,236,{"$f":"A!G$2+A!G$3*B166+A!G$4*B166^2","v":171.52694024201506},{"$f":"IF(B166<(A!H$3/(-2*A!H$4)),A!H$2+A!H$3*B166+A!H$4*B166^2,A!H$2+A!H$3*(A!H$3/(-2*A!H$4))+A!H$3*A!H$3/(4*A!H$4))","v":171.80864913623245},{"$f":"A!I$2+A!I$3*EXP(A!I$4*B166)","v":173.47299146911945},{"$f":"IF((A!J$2+A!J$3*B166)<A!J$4,A!J$2+A!J$3*B166,A!J$4)","v":169.99984713439568},{"$f":"IF(B166<A!K$4,A!K$2+A!K$3*(3*B166/(2*A!K$4)-0.5*(B166/A!K$4)^3),A!K$3+A!K$2)","v":170.74995902573716},{"$f":"(C166*B$45+'C'!D166*C$45+'C'!E166*D$45+'C'!F166*E$45+'C'!G166*F$45)/SUM(B$45:F$45)","v":171.01193396952945}]
[238,238,{"$f":"A!G$2+A!G$3*B167+A!G$4*B167^2","v":171.41212702388381},{"$f":"IF(B167<(A!H$3/(-2*A!H$4)),A!H$2+A!H$3*B167+A!H$4*B167^2,A!H$2+A!H$3*(A!H$3/(-2*A!H$4))+A!H$3*A!H$3/(4*A!H$4))","v":171.80864913623245},{"$f":"A!I$2+A!I$3*EXP(A!I$4*B167)","v":173.76833349127148},{"$f":"IF((A!J$2+A!J$3*B167)<A!J$4,A!J$2+A!J$3*B167,A!J$4)","v":169.99984713439568},{"$f":"IF(B167<A!K$4,A!K$2+A!K$3*(3*B167/(2*A!K$4)-0.5*(B167/A!K$4)^3),A!K$3+A!K$2)","v":170.74995902573716},{"$f":"(C167*B$45+'C'!D167*C$45+'C'!E167*D$45+'C'!F167*E$45+'C'!G167*F$45)/SUM(B$45:F$45)","v":170.9856986251512}]
[240,240,{"$f":"A!G$2+A!G$3*B168+A!G$4*B168^2","v":171.27636069616665},{"$f":"IF(B168<(A!H$3/(-2*A!H$4)),A!H$2+A!H$3*B168+A!H$4*B168^2,A!H$2+A!H$3*(A!H$3/(-2*A!H$4))+A!H$3*A!H$3/(4*A!H$4))","v":171.80864913623245},{"$f":"A!I$2+A!I$3*EXP(A!I$4*B168)","v":174.05802044429436},{"$f":"IF((A!J$2+A!J$3*B168)<A!J$4,A!J$2+A!J$3*B168,A!J$4)","v":169.99984713439568},{"$f":"IF(B168<A!K$4,A!K$2+A!K$3*(3*B168/(2*A!K$4)-0.5*(B168/A!K$4)^3),A!K$3+A!K$2)","v":170.74995902573716},{"$f":"(C168*B$45+'C'!D168*C$45+'C'!E168*D$45+'C'!F168*E$45+'C'!G168*F$45)/SUM(B$45:F$45)","v":170.95448993102173}]
[242,242,{"$f":"A!G$2+A!G$3*B169+A!G$4*B169^2","v":171.11964125886365},{"$f":"IF(B169<(A!H$3/(-2*A!H$4)),A!H$2+A!H$3*B169+A!H$4*B169^2,A!H$2+A!H$3*(A!H$3/(-2*A!H$4))+A!H$3*A!H$3/(4*A!H$4))","v":171.80864913623245},{"$f":"A!I$2+A!I$3*EXP(A!I$4*B169)","v":174.3421606087729},{"$f":"IF((A!J$2+A!J$3*B169)<A!J$4,A!J$2+A!J$3*B169,A!J$4)","v":169.99984713439568},{"$f":"IF(B169<A!K$4,A!K$2+A!K$3*(3*B169/(2*A!K$4)-0.5*(B169/A!K$4)^3),A!K$3+A!K$2)","v":170.74995902573716},{"$f":"(C169*B$45+'C'!D169*C$45+'C'!E169*D$45+'C'!F169*E$45+'C'!G169*F$45)/SUM(B$45:F$45)","v":170.91830822435719}]
[244,244,{"$f":"A!G$2+A!G$3*B170+A!G$4*B170^2","v":170.94196871197471},{"$f":"IF(B170<(A!H$3/(-2*A!H$4)),A!H$2+A!H$3*B170+A!H$4*B170^2,A!H$2+A!H$3*(A!H$3/(-2*A!H$4))+A!H$3*A!H$3/(4*A!H$4))","v":171.80864913623245},{"$f":"A!I$2+A!I$3*EXP(A!I$4*B170)","v":174.62086019198642},{"$f":"IF((A!J$2+A!J$3*B170)<A!J$4,A!J$2+A!J$3*B170,A!J$4)","v":169.99984713439568},{"$f":"IF(B170<A!K$4,A!K$2+A!K$3*(3*B170/(2*A!K$4)-0.5*(B170/A!K$4)^3),A!K$3+A!K$2)","v":170.74995902573716},{"$f":"(C170*B$45+'C'!D170*C$45+'C'!E170*D$45+'C'!F170*E$45+'C'!G170*F$45)/SUM(B$45:F$45)","v":170.877153835917}]
[246,246,{"$f":"A!G$2+A!G$3*B171+A!G$4*B171^2","v":170.74334305549996},{"$f":"IF(B171<(A!H$3/(-2*A!H$4)),A!H$2+A!H$3*B171+A!H$4*B171^2,A!H$2+A!H$3*(A!H$3/(-2*A!H$4))+A!H$3*A!H$3/(4*A!H$4))","v":171.80864913623245},{"$f":"A!I$2+A!I$3*EXP(A!I$4*B171)","v":174.89422336760768},{"$f":"IF((A!J$2+A!J$3*B171)<A!J$4,A!J$2+A!J$3*B171,A!J$4)","v":169.99984713439568},{"$f":"IF(B171<A!K$4,A!K$2+A!K$3*(3*B171/(2*A!K$4)-0.5*(B171/A!K$4)^3),A!K$3+A!K$2)","v":170.74995902573716},{"$f":"(C171*B$45+'C'!D171*C$45+'C'!E171*D$45+'C'!F171*E$45+'C'!G171*F$45)/SUM(B$45:F$45)","v":170.83102709012732}]
[248,248,{"$f":"A!G$2+A!G$3*B172+A!G$4*B172^2","v":170.52376428943924},{"$f":"IF(B172<(A!H$3/(-2*A!H$4)),A!H$2+A!H$3*B172+A!H$4*B172^2,A!H$2+A!H$3*(A!H$3/(-2*A!H$4))+A!H$3*A!H$3/(4*A!H$4))","v":171.80864913623245},{"$f":"A!I$2+A!I$3*EXP(A!I$4*B172)","v":175.16235231464128},{"$f":"IF((A!J$2+A!J$3*B172)<A!J$4,A!J$2+A!J$3*B172,A!J$4)","v":169.99984713439568},{"$f":"IF(B172<A!K$4,A!K$2+A!K$3*(3*B172/(2*A!K$4)-0.5*(B172/A!K$4)^3),A!K$3+A!K$2)","v":170.74995902573716},{"$f":"(C172*B$45+'C'!D172*C$45+'C'!E172*D$45+'C'!F172*E$45+'C'!G172*F$45)/SUM(B$45:F$45)","v":170.77992830520233}]
[250,250,{"$f":"A!G$2+A!G$3*B173+A!G$4*B173^2","v":170.28323241379272},{"$f":"IF(B173<(A!H$3/(-2*A!H$4)),A!H$2+A!H$3*B173+A!H$4*B173^2,A!H$2+A!H$3*(A!H$3/(-2*A!H$4))+A!H$3*A!H$3/(4*A!H$4))","v":171.80864913623245},{"$f":"A!I$2+A!I$3*EXP(A!I$4*B173)","v":175.42534725561657},{"$f":"IF((A!J$2+A!J$3*B173)<A!J$4,A!J$2+A!J$3*B173,A!J$4)","v":169.99984713439568},{"$f":"IF(B173<A!K$4,A!K$2+A!K$3*(3*B173/(2*A!K$4)-0.5*(B173/A!K$4)^3),A!K$3+A!K$2)","v":170.74995902573716},{"$f":"(C173*B$45+'C'!D173*C$45+'C'!E173*D$45+'C'!F173*E$45+'C'!G173*F$45)/SUM(B$45:F$45)","v":170.72385779326325}]
[252,252,{"$f":"A!G$2+A!G$3*B174+A!G$4*B174^2","v":170.02174742856025},{"$f":"IF(B174<(A!H$3/(-2*A!H$4)),A!H$2+A!H$3*B174+A!H$4*B174^2,A!H$2+A!H$3*(A!H$3/(-2*A!H$4))+A!H$3*A!H$3/(4*A!H$4))","v":171.80864913623245},{"$f":"A!I$2+A!I$3*EXP(A!I$4*B174)","v":175.68330649404948},{"$f":"IF((A!J$2+A!J$3*B174)<A!J$4,A!J$2+A!J$3*B174,A!J$4)","v":169.99984713439568},{"$f":"IF(B174<A!K$4,A!K$2+A!K$3*(3*B174/(2*A!K$4)-0.5*(B174/A!K$4)^3),A!K$3+A!K$2)","v":170.74995902573716},{"$f":"(C174*B$45+'C'!D174*C$45+'C'!E174*D$45+'C'!F174*E$45+'C'!G174*F$45)/SUM(B$45:F$45)","v":170.66281586045477}]
[254,254,{"$f":"A!G$2+A!G$3*B175+A!G$4*B175^2","v":169.73930933374194},{"$f":"IF(B175<(A!H$3/(-2*A!H$4)),A!H$2+A!H$3*B175+A!H$4*B175^2,A!H$2+A!H$3*(A!H$3/(-2*A!H$4))+A!H$3*A!H$3/(4*A!H$4))","v":171.80864913623245},{"$f":"A!I$2+A!I$3*EXP(A!I$4*B175)","v":175.93632645118674},{"$f":"IF((A!J$2+A!J$3*B175)<A!J$4,A!J$2+A!J$3*B175,A!J$4)","v":169.99984713439568},{"$f":"IF(B175<A!K$4,A!K$2+A!K$3*(3*B175/(2*A!K$4)-0.5*(B175/A!K$4)^3),A!K$3+A!K$2)","v":170.74995902573716},{"$f":"(C175*B$45+'C'!D175*C$45+'C'!E175*D$45+'C'!F175*E$45+'C'!G175*F$45)/SUM(B$45:F$45)","v":170.59680280705993}]
[256,254.24054652346399,{"$f":"A!G$2+A!G$3*B176+A!G$4*B176^2","v":169.70392798317079},{"$f":"IF(B176<(A!H$3/(-2*A!H$4)),A!H$2+A!H$3*B176+A!H$4*B176^2,A!H$2+A!H$3*(A!H$3/(-2*A!H$4))+A!H$3*A!H$3/(4*A!H$4))","v":171.80864913623245},{"$f":"A!I$2+A!I$3*EXP(A!I$4*B176)","v":175.96642975218845},{"$f":"IF((A!J$2+A!J$3*B176)<A!J$4,A!J$2+A!J$3*B176,A!J$4)","v":169.99984713439568},{"$f":"IF(B176<A!K$4,A!K$2+A!K$3*(3*B176/(2*A!K$4)-0.5*(B176/A!K$4)^3),A!K$3+A!K$2)","v":170.74995902573716},{"$f":"(C176*B$45+'C'!D176*C$45+'C'!E176*D$45+'C'!F176*E$45+'C'!G176*F$45)/SUM(B$45:F$45)","v":170.58852831418699}]
[258,{"$f":"IF(A177<MAX($M$48),A177,MAX($M$48))","v":254.24054652346399},{"$f":"A!G$2+A!G$3*B177+A!G$4*B177^2","v":169.70392798317079},{"$f":"IF(B177<(A!H$3/(-2*A!H$4)),A!H$2+A!H$3*B177+A!H$4*B177^2,A!H$2+A!H$3*(A!H$3/(-2*A!H$4))+A!H$3*A!H$3/(4*A!H$4))","v":171.80864913623245},{"$f":"A!I$2+A!I$3*EXP(A!I$4*B177)","v":175.96642975218845},{"$f":"IF((A!J$2+A!J$3*B177)<A!J$4,A!J$2+A!J$3*B177,A!J$4)","v":169.99984713439568},{"$f":"IF(B177<A!K$4,A!K$2+A!K$3*(3*B177/(2*A!K$4)-0.5*(B177/A!K$4)^3),A!K$3+A!K$2)","v":170.74995902573716},{"$f":"(C177*B$45+'C'!D177*C$45+'C'!E177*D$45+'C'!F177*E$45+'C'!G177*F$45)/SUM(B$45:F$45)","v":170.58852831418699}]
[260,254.24054652346399,{"$f":"A!G$2+A!G$3*B178+A!G$4*B178^2","v":169.70392798317079},{"$f":"IF(B178<(A!H$3/(-2*A!H$4)),A!H$2+A!H$3*B178+A!H$4*B178^2,A!H$2+A!H$3*(A!H$3/(-2*A!H$4))+A!H$3*A!H$3/(4*A!H$4))","v":171.80864913623245},{"$f":"A!I$2+A!I$3*EXP(A!I$4*B178)","v":175.96642975218845},{"$f":"IF((A!J$2+A!J$3*B178)<A!J$4,A!J$2+A!J$3*B178,A!J$4)","v":169.99984713439568},{"$f":"IF(B178<A!K$4,A!K$2+A!K$3*(3*B178/(2*A!K$4)-0.5*(B178/A!K$4)^3),A!K$3+A!K$2)","v":170.74995902573716},{"$f":"(C178*B$45+'C'!D178*C$45+'C'!E178*D$45+'C'!F178*E$45+'C'!G178*F$45)/SUM(B$45:F$45)","v":170.58852831418699}]
[262,254.24054652346399,{"$f":"A!G$2+A!G$3*B179+A!G$4*B179^2","v":169.70392798317079},{"$f":"IF(B179<(A!H$3/(-2*A!H$4)),A!H$2+A!H$3*B179+A!H$4*B179^2,A!H$2+A!H$3*(A!H$3/(-2*A!H$4))+A!H$3*A!H$3/(4*A!H$4))","v":171.80864913623245},{"$f":"A!I$2+A!I$3*EXP(A!I$4*B179)","v":175.96642975218845},{"$f":"IF((A!J$2+A!J$3*B179)<A!J$4,A!J$2+A!J$3*B179,A!J$4)","v":169.99984713439568},{"$f":"IF(B179<A!K$4,A!K$2+A!K$3*(3*B179/(2*A!K$4)-0.5*(B179/A!K$4)^3),A!K$3+A!K$2)","v":170.74995902573716},{"$f":"(C179*B$45+'C'!D179*C$45+'C'!E179*D$45+'C'!F179*E$45+'C'!G179*F$45)/SUM(B$45:F$45)","v":170.58852831418699}]
[264,254.24054652346399,{"$f":"A!G$2+A!G$3*B180+A!G$4*B180^2","v":169.70392798317079},{"$f":"IF(B180<(A!H$3/(-2*A!H$4)),A!H$2+A!H$3*B180+A!H$4*B180^2,A!H$2+A!H$3*(A!H$3/(-2*A!H$4))+A!H$3*A!H$3/(4*A!H$4))","v":171.80864913623245},{"$f":"A!I$2+A!I$3*EXP(A!I$4*B180)","v":175.96642975218845},{"$f":"IF((A!J$2+A!J$3*B180)<A!J$4,A!J$2+A!J$3*B180,A!J$4)","v":169.99984713439568},{"$f":"IF(B180<A!K$4,A!K$2+A!K$3*(3*B180/(2*A!K$4)-0.5*(B180/A!K$4)^3),A!K$3+A!K$2)","v":170.74995902573716},{"$f":"(C180*B$45+'C'!D180*C$45+'C'!E180*D$45+'C'!F180*E$45+'C'!G180*F$45)/SUM(B$45:F$45)","v":170.58852831418699}]
[266,254.24054652346399,{"$f":"A!G$2+A!G$3*B181+A!G$4*B181^2","v":169.70392798317079},{"$f":"IF(B181<(A!H$3/(-2*A!H$4)),A!H$2+A!H$3*B181+A!H$4*B181^2,A!H$2+A!H$3*(A!H$3/(-2*A!H$4))+A!H$3*A!H$3/(4*A!H$4))","v":171.80864913623245},{"$f":"A!I$2+A!I$3*EXP(A!I$4*B181)","v":175.96642975218845},{"$f":"IF((A!J$2+A!J$3*B181)<A!J$4,A!J$2+A!J$3*B181,A!J$4)","v":169.99984713439568},{"$f":"IF(B181<A!K$4,A!K$2+A!K$3*(3*B181/(2*A!K$4)-0.5*(B181/A!K$4)^3),A!K$3+A!K$2)","v":170.74995902573716},{"$f":"(C181*B$45+'C'!D181*C$45+'C'!E181*D$45+'C'!F181*E$45+'C'!G181*F$45)/SUM(B$45:F$45)","v":170.58852831418699}]
[268,254.24054652346399,{"$f":"A!G$2+A!G$3*B182+A!G$4*B182^2","v":169.70392798317079},{"$f":"IF(B182<(A!H$3/(-2*A!H$4)),A!H$2+A!H$3*B182+A!H$4*B182^2,A!H$2+A!H$3*(A!H$3/(-2*A!H$4))+A!H$3*A!H$3/(4*A!H$4))","v":171.80864913623245},{"$f":"A!I$2+A!I$3*EXP(A!I$4*B182)","v":175.96642975218845},{"$f":"IF((A!J$2+A!J$3*B182)<A!J$4,A!J$2+A!J$3*B182,A!J$4)","v":169.99984713439568},{"$f":"IF(B182<A!K$4,A!K$2+A!K$3*(3*B182/(2*A!K$4)-0.5*(B182/A!K$4)^3),A!K$3+A!K$2)","v":170.74995902573716},{"$f":"(C182*B$45+'C'!D182*C$45+'C'!E182*D$45+'C'!F182*E$45+'C'!G182*F$45)/SUM(B$45:F$45)","v":170.58852831418699}]
[270,254.24054652346399,{"$f":"A!G$2+A!G$3*B183+A!G$4*B183^2","v":169.70392798317079},{"$f":"IF(B183<(A!H$3/(-2*A!H$4)),A!H$2+A!H$3*B183+A!H$4*B183^2,A!H$2+A!H$3*(A!H$3/(-2*A!H$4))+A!H$3*A!H$3/(4*A!H$4))","v":171.80864913623245},{"$f":"A!I$2+A!I$3*EXP(A!I$4*B183)","v":175.96642975218845},{"$f":"IF((A!J$2+A!J$3*B183)<A!J$4,A!J$2+A!J$3*B183,A!J$4)","v":169.99984713439568},{"$f":"IF(B183<A!K$4,A!K$2+A!K$3*(3*B183/(2*A!K$4)-0.5*(B183/A!K$4)^3),A!K$3+A!K$2)","v":170.74995902573716},{"$f":"(C183*B$45+'C'!D183*C$45+'C'!E183*D$45+'C'!F183*E$45+'C'!G183*F$45)/SUM(B$45:F$45)","v":170.58852831418699}]
[272,254.24054652346399,{"$f":"A!G$2+A!G$3*B184+A!G$4*B184^2","v":169.70392798317079},{"$f":"IF(B184<(A!H$3/(-2*A!H$4)),A!H$2+A!H$3*B184+A!H$4*B184^2,A!H$2+A!H$3*(A!H$3/(-2*A!H$4))+A!H$3*A!H$3/(4*A!H$4))","v":171.80864913623245},{"$f":"A!I$2+A!I$3*EXP(A!I$4*B184)","v":175.96642975218845},{"$f":"IF((A!J$2+A!J$3*B184)<A!J$4,A!J$2+A!J$3*B184,A!J$4)","v":169.99984713439568},{"$f":"IF(B184<A!K$4,A!K$2+A!K$3*(3*B184/(2*A!K$4)-0.5*(B184/A!K$4)^3),A!K$3+A!K$2)","v":170.74995902573716},{"$f":"(C184*B$45+'C'!D184*C$45+'C'!E184*D$45+'C'!F184*E$45+'C'!G184*F$45)/SUM(B$45:F$45)","v":170.58852831418699}]
[274,254.24054652346399,{"$f":"A!G$2+A!G$3*B185+A!G$4*B185^2","v":169.70392798317079},{"$f":"IF(B185<(A!H$3/(-2*A!H$4)),A!H$2+A!H$3*B185+A!H$4*B185^2,A!H$2+A!H$3*(A!H$3/(-2*A!H$4))+A!H$3*A!H$3/(4*A!H$4))","v":171.80864913623245},{"$f":"A!I$2+A!I$3*EXP(A!I$4*B185)","v":175.96642975218845},{"$f":"IF((A!J$2+A!J$3*B185)<A!J$4,A!J$2+A!J$3*B185,A!J$4)","v":169.99984713439568},{"$f":"IF(B185<A!K$4,A!K$2+A!K$3*(3*B185/(2*A!K$4)-0.5*(B185/A!K$4)^3),A!K$3+A!K$2)","v":170.74995902573716},{"$f":"(C185*B$45+'C'!D185*C$45+'C'!E185*D$45+'C'!F185*E$45+'C'!G185*F$45)/SUM(B$45:F$45)","v":170.58852831418699}]
[276,254.24054652346399,{"$f":"A!G$2+A!G$3*B186+A!G$4*B186^2","v":169.70392798317079},{"$f":"IF(B186<(A!H$3/(-2*A!H$4)),A!H$2+A!H$3*B186+A!H$4*B186^2,A!H$2+A!H$3*(A!H$3/(-2*A!H$4))+A!H$3*A!H$3/(4*A!H$4))","v":171.80864913623245},{"$f":"A!I$2+A!I$3*EXP(A!I$4*B186)","v":175.96642975218845},{"$f":"IF((A!J$2+A!J$3*B186)<A!J$4,A!J$2+A!J$3*B186,A!J$4)","v":169.99984713439568},{"$f":"IF(B186<A!K$4,A!K$2+A!K$3*(3*B186/(2*A!K$4)-0.5*(B186/A!K$4)^3),A!K$3+A!K$2)","v":170.74995902573716},{"$f":"(C186*B$45+'C'!D186*C$45+'C'!E186*D$45+'C'!F186*E$45+'C'!G186*F$45)/SUM(B$45:F$45)","v":170.58852831418699}]
[278,254.24054652346399,{"$f":"A!G$2+A!G$3*B187+A!G$4*B187^2","v":169.70392798317079},{"$f":"IF(B187<(A!H$3/(-2*A!H$4)),A!H$2+A!H$3*B187+A!H$4*B187^2,A!H$2+A!H$3*(A!H$3/(-2*A!H$4))+A!H$3*A!H$3/(4*A!H$4))","v":171.80864913623245},{"$f":"A!I$2+A!I$3*EXP(A!I$4*B187)","v":175.96642975218845},{"$f":"IF((A!J$2+A!J$3*B187)<A!J$4,A!J$2+A!J$3*B187,A!J$4)","v":169.99984713439568},{"$f":"IF(B187<A!K$4,A!K$2+A!K$3*(3*B187/(2*A!K$4)-0.5*(B187/A!K$4)^3),A!K$3+A!K$2)","v":170.74995902573716},{"$f":"(C187*B$45+'C'!D187*C$45+'C'!E187*D$45+'C'!F187*E$45+'C'!G187*F$45)/SUM(B$45:F$45)","v":170.58852831418699}]
[280,254.24054652346399,{"$f":"A!G$2+A!G$3*B188+A!G$4*B188^2","v":169.70392798317079},{"$f":"IF(B188<(A!H$3/(-2*A!H$4)),A!H$2+A!H$3*B188+A!H$4*B188^2,A!H$2+A!H$3*(A!H$3/(-2*A!H$4))+A!H$3*A!H$3/(4*A!H$4))","v":171.80864913623245},{"$f":"A!I$2+A!I$3*EXP(A!I$4*B188)","v":175.96642975218845},{"$f":"IF((A!J$2+A!J$3*B188)<A!J$4,A!J$2+A!J$3*B188,A!J$4)","v":169.99984713439568},{"$f":"IF(B188<A!K$4,A!K$2+A!K$3*(3*B188/(2*A!K$4)-0.5*(B188/A!K$4)^3),A!K$3+A!K$2)","v":170.74995902573716},{"$f":"(C188*B$45+'C'!D188*C$45+'C'!E188*D$45+'C'!F188*E$45+'C'!G188*F$45)/SUM(B$45:F$45)","v":170.58852831418699}]
[282,254.24054652346399,{"$f":"A!G$2+A!G$3*B189+A!G$4*B189^2","v":169.70392798317079},{"$f":"IF(B189<(A!H$3/(-2*A!H$4)),A!H$2+A!H$3*B189+A!H$4*B189^2,A!H$2+A!H$3*(A!H$3/(-2*A!H$4))+A!H$3*A!H$3/(4*A!H$4))","v":171.80864913623245},{"$f":"A!I$2+A!I$3*EXP(A!I$4*B189)","v":175.96642975218845},{"$f":"IF((A!J$2+A!J$3*B189)<A!J$4,A!J$2+A!J$3*B189,A!J$4)","v":169.99984713439568},{"$f":"IF(B189<A!K$4,A!K$2+A!K$3*(3*B189/(2*A!K$4)-0.5*(B189/A!K$4)^3),A!K$3+A!K$2)","v":170.74995902573716},{"$f":"(C189*B$45+'C'!D189*C$45+'C'!E189*D$45+'C'!F189*E$45+'C'!G189*F$45)/SUM(B$45:F$45)","v":170.58852831418699}]
[284,254.24054652346399,{"$f":"A!G$2+A!G$3*B190+A!G$4*B190^2","v":169.70392798317079},{"$f":"IF(B190<(A!H$3/(-2*A!H$4)),A!H$2+A!H$3*B190+A!H$4*B190^2,A!H$2+A!H$3*(A!H$3/(-2*A!H$4))+A!H$3*A!H$3/(4*A!H$4))","v":171.80864913623245},{"$f":"A!I$2+A!I$3*EXP(A!I$4*B190)","v":175.96642975218845},{"$f":"IF((A!J$2+A!J$3*B190)<A!J$4,A!J$2+A!J$3*B190,A!J$4)","v":169.99984713439568},{"$f":"IF(B190<A!K$4,A!K$2+A!K$3*(3*B190/(2*A!K$4)-0.5*(B190/A!K$4)^3),A!K$3+A!K$2)","v":170.74995902573716},{"$f":"(C190*B$45+'C'!D190*C$45+'C'!E190*D$45+'C'!F190*E$45+'C'!G190*F$45)/SUM(B$45:F$45)","v":170.58852831418699}]
[286,254.24054652346399,{"$f":"A!G$2+A!G$3*B191+A!G$4*B191^2","v":169.70392798317079},{"$f":"IF(B191<(A!H$3/(-2*A!H$4)),A!H$2+A!H$3*B191+A!H$4*B191^2,A!H$2+A!H$3*(A!H$3/(-2*A!H$4))+A!H$3*A!H$3/(4*A!H$4))","v":171.80864913623245},{"$f":"A!I$2+A!I$3*EXP(A!I$4*B191)","v":175.96642975218845},{"$f":"IF((A!J$2+A!J$3*B191)<A!J$4,A!J$2+A!J$3*B191,A!J$4)","v":169.99984713439568},{"$f":"IF(B191<A!K$4,A!K$2+A!K$3*(3*B191/(2*A!K$4)-0.5*(B191/A!K$4)^3),A!K$3+A!K$2)","v":170.74995902573716},{"$f":"(C191*B$45+'C'!D191*C$45+'C'!E191*D$45+'C'!F191*E$45+'C'!G191*F$45)/SUM(B$45:F$45)","v":170.58852831418699}]
[288,254.24054652346399,{"$f":"A!G$2+A!G$3*B192+A!G$4*B192^2","v":169.70392798317079},{"$f":"IF(B192<(A!H$3/(-2*A!H$4)),A!H$2+A!H$3*B192+A!H$4*B192^2,A!H$2+A!H$3*(A!H$3/(-2*A!H$4))+A!H$3*A!H$3/(4*A!H$4))","v":171.80864913623245},{"$f":"A!I$2+A!I$3*EXP(A!I$4*B192)","v":175.96642975218845},{"$f":"IF((A!J$2+A!J$3*B192)<A!J$4,A!J$2+A!J$3*B192,A!J$4)","v":169.99984713439568},{"$f":"IF(B192<A!K$4,A!K$2+A!K$3*(3*B192/(2*A!K$4)-0.5*(B192/A!K$4)^3),A!K$3+A!K$2)","v":170.74995902573716},{"$f":"(C192*B$45+'C'!D192*C$45+'C'!E192*D$45+'C'!F192*E$45+'C'!G192*F$45)/SUM(B$45:F$45)","v":170.58852831418699}]
[290,254.24054652346399,{"$f":"A!G$2+A!G$3*B193+A!G$4*B193^2","v":169.70392798317079},{"$f":"IF(B193<(A!H$3/(-2*A!H$4)),A!H$2+A!H$3*B193+A!H$4*B193^2,A!H$2+A!H$3*(A!H$3/(-2*A!H$4))+A!H$3*A!H$3/(4*A!H$4))","v":171.80864913623245},{"$f":"A!I$2+A!I$3*EXP(A!I$4*B193)","v":175.96642975218845},{"$f":"IF((A!J$2+A!J$3*B193)<A!J$4,A!J$2+A!J$3*B193,A!J$4)","v":169.99984713439568},{"$f":"IF(B193<A!K$4,A!K$2+A!K$3*(3*B193/(2*A!K$4)-0.5*(B193/A!K$4)^3),A!K$3+A!K$2)","v":170.74995902573716},{"$f":"(C193*B$45+'C'!D193*C$45+'C'!E193*D$45+'C'!F193*E$45+'C'!G193*F$45)/SUM(B$45:F$45)","v":170.58852831418699}]
[292,254.24054652346399,{"$f":"A!G$2+A!G$3*B194+A!G$4*B194^2","v":169.70392798317079},{"$f":"IF(B194<(A!H$3/(-2*A!H$4)),A!H$2+A!H$3*B194+A!H$4*B194^2,A!H$2+A!H$3*(A!H$3/(-2*A!H$4))+A!H$3*A!H$3/(4*A!H$4))","v":171.80864913623245},{"$f":"A!I$2+A!I$3*EXP(A!I$4*B194)","v":175.96642975218845},{"$f":"IF((A!J$2+A!J$3*B194)<A!J$4,A!J$2+A!J$3*B194,A!J$4)","v":169.99984713439568},{"$f":"IF(B194<A!K$4,A!K$2+A!K$3*(3*B194/(2*A!K$4)-0.5*(B194/A!K$4)^3),A!K$3+A!K$2)","v":170.74995902573716},{"$f":"(C194*B$45+'C'!D194*C$45+'C'!E194*D$45+'C'!F194*E$45+'C'!G194*F$45)/SUM(B$45:F$45)","v":170.58852831418699}]
[294,254.24054652346399,{"$f":"A!G$2+A!G$3*B195+A!G$4*B195^2","v":169.70392798317079},{"$f":"IF(B195<(A!H$3/(-2*A!H$4)),A!H$2+A!H$3*B195+A!H$4*B195^2,A!H$2+A!H$3*(A!H$3/(-2*A!H$4))+A!H$3*A!H$3/(4*A!H$4))","v":171.80864913623245},{"$f":"A!I$2+A!I$3*EXP(A!I$4*B195)","v":175.96642975218845},{"$f":"IF((A!J$2+A!J$3*B195)<A!J$4,A!J$2+A!J$3*B195,A!J$4)","v":169.99984713439568},{"$f":"IF(B195<A!K$4,A!K$2+A!K$3*(3*B195/(2*A!K$4)-0.5*(B195/A!K$4)^3),A!K$3+A!K$2)","v":170.74995902573716},{"$f":"(C195*B$45+'C'!D195*C$45+'C'!E195*D$45+'C'!F195*E$45+'C'!G195*F$45)/SUM(B$45:F$45)","v":170.58852831418699}]
[296,254.24054652346399,{"$f":"A!G$2+A!G$3*B196+A!G$4*B196^2","v":169.70392798317079},{"$f":"IF(B196<(A!H$3/(-2*A!H$4)),A!H$2+A!H$3*B196+A!H$4*B196^2,A!H$2+A!H$3*(A!H$3/(-2*A!H$4))+A!H$3*A!H$3/(4*A!H$4))","v":171.80864913623245},{"$f":"A!I$2+A!I$3*EXP(A!I$4*B196)","v":175.96642975218845},{"$f":"IF((A!J$2+A!J$3*B196)<A!J$4,A!J$2+A!J$3*B196,A!J$4)","v":169.99984713439568},{"$f":"IF(B196<A!K$4,A!K$2+A!K$3*(3*B196/(2*A!K$4)-0.5*(B196/A!K$4)^3),A!K$3+A!K$2)","v":170.74995902573716},{"$f":"(C196*B$45+'C'!D196*C$45+'C'!E196*D$45+'C'!F196*E$45+'C'!G196*F$45)/SUM(B$45:F$45)","v":170.58852831418699}]
[298,254.24054652346399,{"$f":"A!G$2+A!G$3*B197+A!G$4*B197^2","v":169.70392798317079},{"$f":"IF(B197<(A!H$3/(-2*A!H$4)),A!H$2+A!H$3*B197+A!H$4*B197^2,A!H$2+A!H$3*(A!H$3/(-2*A!H$4))+A!H$3*A!H$3/(4*A!H$4))","v":171.80864913623245},{"$f":"A!I$2+A!I$3*EXP(A!I$4*B197)","v":175.96642975218845},{"$f":"IF((A!J$2+A!J$3*B197)<A!J$4,A!J$2+A!J$3*B197,A!J$4)","v":169.99984713439568},{"$f":"IF(B197<A!K$4,A!K$2+A!K$3*(3*B197/(2*A!K$4)-0.5*(B197/A!K$4)^3),A!K$3+A!K$2)","v":170.74995902573716},{"$f":"(C197*B$45+'C'!D197*C$45+'C'!E197*D$45+'C'!F197*E$45+'C'!G197*F$45)/SUM(B$45:F$45)","v":170.58852831418699}]
[300,254.24054652346399,{"$f":"A!G$2+A!G$3*B198+A!G$4*B198^2","v":169.70392798317079},{"$f":"IF(B198<(A!H$3/(-2*A!H$4)),A!H$2+A!H$3*B198+A!H$4*B198^2,A!H$2+A!H$3*(A!H$3/(-2*A!H$4))+A!H$3*A!H$3/(4*A!H$4))","v":171.80864913623245},{"$f":"A!I$2+A!I$3*EXP(A!I$4*B198)","v":175.96642975218845},{"$f":"IF((A!J$2+A!J$3*B198)<A!J$4,A!J$2+A!J$3*B198,A!J$4)","v":169.99984713439568},{"$f":"IF(B198<A!K$4,A!K$2+A!K$3*(3*B198/(2*A!K$4)-0.5*(B198/A!K$4)^3),A!K$3+A!K$2)","v":170.74995902573716},{"$f":"(C198*B$45+'C'!D198*C$45+'C'!E198*D$45+'C'!F198*E$45+'C'!G198*F$45)/SUM(B$45:F$45)","v":170.58852831418699}]
[302,254.24054652346399,{"$f":"A!G$2+A!G$3*B199+A!G$4*B199^2","v":169.70392798317079},{"$f":"IF(B199<(A!H$3/(-2*A!H$4)),A!H$2+A!H$3*B199+A!H$4*B199^2,A!H$2+A!H$3*(A!H$3/(-2*A!H$4))+A!H$3*A!H$3/(4*A!H$4))","v":171.80864913623245},{"$f":"A!I$2+A!I$3*EXP(A!I$4*B199)","v":175.96642975218845},{"$f":"IF((A!J$2+A!J$3*B199)<A!J$4,A!J$2+A!J$3*B199,A!J$4)","v":169.99984713439568},{"$f":"IF(B199<A!K$4,A!K$2+A!K$3*(3*B199/(2*A!K$4)-0.5*(B199/A!K$4)^3),A!K$3+A!K$2)","v":170.74995902573716},{"$f":"(C199*B$45+'C'!D199*C$45+'C'!E199*D$45+'C'!F199*E$45+'C'!G199*F$45)/SUM(B$45:F$45)","v":170.58852831418699}]
[304,254.24054652346399,{"$f":"A!G$2+A!G$3*B200+A!G$4*B200^2","v":169.70392798317079},{"$f":"IF(B200<(A!H$3/(-2*A!H$4)),A!H$2+A!H$3*B200+A!H$4*B200^2,A!H$2+A!H$3*(A!H$3/(-2*A!H$4))+A!H$3*A!H$3/(4*A!H$4))","v":171.80864913623245},{"$f":"A!I$2+A!I$3*EXP(A!I$4*B200)","v":175.96642975218845},{"$f":"IF((A!J$2+A!J$3*B200)<A!J$4,A!J$2+A!J$3*B200,A!J$4)","v":169.99984713439568},{"$f":"IF(B200<A!K$4,A!K$2+A!K$3*(3*B200/(2*A!K$4)-0.5*(B200/A!K$4)^3),A!K$3+A!K$2)","v":170.74995902573716},{"$f":"(C200*B$45+'C'!D200*C$45+'C'!E200*D$45+'C'!F200*E$45+'C'!G200*F$45)/SUM(B$45:F$45)","v":170.58852831418699}]
[306,254.24054652346399,{"$f":"A!G$2+A!G$3*B201+A!G$4*B201^2","v":169.70392798317079},{"$f":"IF(B201<(A!H$3/(-2*A!H$4)),A!H$2+A!H$3*B201+A!H$4*B201^2,A!H$2+A!H$3*(A!H$3/(-2*A!H$4))+A!H$3*A!H$3/(4*A!H$4))","v":171.80864913623245},{"$f":"A!I$2+A!I$3*EXP(A!I$4*B201)","v":175.96642975218845},{"$f":"IF((A!J$2+A!J$3*B201)<A!J$4,A!J$2+A!J$3*B201,A!J$4)","v":169.99984713439568},{"$f":"IF(B201<A!K$4,A!K$2+A!K$3*(3*B201/(2*A!K$4)-0.5*(B201/A!K$4)^3),A!K$3+A!K$2)","v":170.74995902573716},{"$f":"(C201*B$45+'C'!D201*C$45+'C'!E201*D$45+'C'!F201*E$45+'C'!G201*F$45)/SUM(B$45:F$45)","v":170.58852831418699}]
[308,254.24054652346399,{"$f":"A!G$2+A!G$3*B202+A!G$4*B202^2","v":169.70392798317079},{"$f":"IF(B202<(A!H$3/(-2*A!H$4)),A!H$2+A!H$3*B202+A!H$4*B202^2,A!H$2+A!H$3*(A!H$3/(-2*A!H$4))+A!H$3*A!H$3/(4*A!H$4))","v":171.80864913623245},{"$f":"A!I$2+A!I$3*EXP(A!I$4*B202)","v":175.96642975218845},{"$f":"IF((A!J$2+A!J$3*B202)<A!J$4,A!J$2+A!J$3*B202,A!J$4)","v":169.99984713439568},{"$f":"IF(B202<A!K$4,A!K$2+A!K$3*(3*B202/(2*A!K$4)-0.5*(B202/A!K$4)^3),A!K$3+A!K$2)","v":170.74995902573716},{"$f":"(C202*B$45+'C'!D202*C$45+'C'!E202*D$45+'C'!F202*E$45+'C'!G202*F$45)/SUM(B$45:F$45)","v":170.58852831418699}]
[310,254.24054652346399,{"$f":"A!G$2+A!G$3*B203+A!G$4*B203^2","v":169.70392798317079},{"$f":"IF(B203<(A!H$3/(-2*A!H$4)),A!H$2+A!H$3*B203+A!H$4*B203^2,A!H$2+A!H$3*(A!H$3/(-2*A!H$4))+A!H$3*A!H$3/(4*A!H$4))","v":171.80864913623245},{"$f":"A!I$2+A!I$3*EXP(A!I$4*B203)","v":175.96642975218845},{"$f":"IF((A!J$2+A!J$3*B203)<A!J$4,A!J$2+A!J$3*B203,A!J$4)","v":169.99984713439568},{"$f":"IF(B203<A!K$4,A!K$2+A!K$3*(3*B203/(2*A!K$4)-0.5*(B203/A!K$4)^3),A!K$3+A!K$2)","v":170.74995902573716},{"$f":"(C203*B$45+'C'!D203*C$45+'C'!E203*D$45+'C'!F203*E$45+'C'!G203*F$45)/SUM(B$45:F$45)","v":170.58852831418699}]
[312,254.24054652346399,{"$f":"A!G$2+A!G$3*B204+A!G$4*B204^2","v":169.70392798317079},{"$f":"IF(B204<(A!H$3/(-2*A!H$4)),A!H$2+A!H$3*B204+A!H$4*B204^2,A!H$2+A!H$3*(A!H$3/(-2*A!H$4))+A!H$3*A!H$3/(4*A!H$4))","v":171.80864913623245},{"$f":"A!I$2+A!I$3*EXP(A!I$4*B204)","v":175.96642975218845},{"$f":"IF((A!J$2+A!J$3*B204)<A!J$4,A!J$2+A!J$3*B204,A!J$4)","v":169.99984713439568},{"$f":"IF(B204<A!K$4,A!K$2+A!K$3*(3*B204/(2*A!K$4)-0.5*(B204/A!K$4)^3),A!K$3+A!K$2)","v":170.74995902573716},{"$f":"(C204*B$45+'C'!D204*C$45+'C'!E204*D$45+'C'!F204*E$45+'C'!G204*F$45)/SUM(B$45:F$45)","v":170.58852831418699}]
[314,254.24054652346399,{"$f":"A!G$2+A!G$3*B205+A!G$4*B205^2","v":169.70392798317079},{"$f":"IF(B205<(A!H$3/(-2*A!H$4)),A!H$2+A!H$3*B205+A!H$4*B205^2,A!H$2+A!H$3*(A!H$3/(-2*A!H$4))+A!H$3*A!H$3/(4*A!H$4))","v":171.80864913623245},{"$f":"A!I$2+A!I$3*EXP(A!I$4*B205)","v":175.96642975218845},{"$f":"IF((A!J$2+A!J$3*B205)<A!J$4,A!J$2+A!J$3*B205,A!J$4)","v":169.99984713439568},{"$f":"IF(B205<A!K$4,A!K$2+A!K$3*(3*B205/(2*A!K$4)-0.5*(B205/A!K$4)^3),A!K$3+A!K$2)","v":170.74995902573716},{"$f":"(C205*B$45+'C'!D205*C$45+'C'!E205*D$45+'C'!F205*E$45+'C'!G205*F$45)/SUM(B$45:F$45)","v":170.58852831418699}]
[316,254.24054652346399,{"$f":"A!G$2+A!G$3*B206+A!G$4*B206^2","v":169.70392798317079},{"$f":"IF(B206<(A!H$3/(-2*A!H$4)),A!H$2+A!H$3*B206+A!H$4*B206^2,A!H$2+A!H$3*(A!H$3/(-2*A!H$4))+A!H$3*A!H$3/(4*A!H$4))","v":171.80864913623245},{"$f":"A!I$2+A!I$3*EXP(A!I$4*B206)","v":175.96642975218845},{"$f":"IF((A!J$2+A!J$3*B206)<A!J$4,A!J$2+A!J$3*B206,A!J$4)","v":169.99984713439568},{"$f":"IF(B206<A!K$4,A!K$2+A!K$3*(3*B206/(2*A!K$4)-0.5*(B206/A!K$4)^3),A!K$3+A!K$2)","v":170.74995902573716},{"$f":"(C206*B$45+'C'!D206*C$45+'C'!E206*D$45+'C'!F206*E$45+'C'!G206*F$45)/SUM(B$45:F$45)","v":170.58852831418699}]
[318,254.24054652346399,{"$f":"A!G$2+A!G$3*B207+A!G$4*B207^2","v":169.70392798317079},{"$f":"IF(B207<(A!H$3/(-2*A!H$4)),A!H$2+A!H$3*B207+A!H$4*B207^2,A!H$2+A!H$3*(A!H$3/(-2*A!H$4))+A!H$3*A!H$3/(4*A!H$4))","v":171.80864913623245},{"$f":"A!I$2+A!I$3*EXP(A!I$4*B207)","v":175.96642975218845},{"$f":"IF((A!J$2+A!J$3*B207)<A!J$4,A!J$2+A!J$3*B207,A!J$4)","v":169.99984713439568},{"$f":"IF(B207<A!K$4,A!K$2+A!K$3*(3*B207/(2*A!K$4)-0.5*(B207/A!K$4)^3),A!K$3+A!K$2)","v":170.74995902573716},{"$f":"(C207*B$45+'C'!D207*C$45+'C'!E207*D$45+'C'!F207*E$45+'C'!G207*F$45)/SUM(B$45:F$45)","v":170.58852831418699}]
[320,254.24054652346399,{"$f":"A!G$2+A!G$3*B208+A!G$4*B208^2","v":169.70392798317079},{"$f":"IF(B208<(A!H$3/(-2*A!H$4)),A!H$2+A!H$3*B208+A!H$4*B208^2,A!H$2+A!H$3*(A!H$3/(-2*A!H$4))+A!H$3*A!H$3/(4*A!H$4))","v":171.80864913623245},{"$f":"A!I$2+A!I$3*EXP(A!I$4*B208)","v":175.96642975218845},{"$f":"IF((A!J$2+A!J$3*B208)<A!J$4,A!J$2+A!J$3*B208,A!J$4)","v":169.99984713439568},{"$f":"IF(B208<A!K$4,A!K$2+A!K$3*(3*B208/(2*A!K$4)-0.5*(B208/A!K$4)^3),A!K$3+A!K$2)","v":170.74995902573716},{"$f":"(C208*B$45+'C'!D208*C$45+'C'!E208*D$45+'C'!F208*E$45+'C'!G208*F$45)/SUM(B$45:F$45)","v":170.58852831418699}]
[322,254.24054652346399,{"$f":"A!G$2+A!G$3*B209+A!G$4*B209^2","v":169.70392798317079},{"$f":"IF(B209<(A!H$3/(-2*A!H$4)),A!H$2+A!H$3*B209+A!H$4*B209^2,A!H$2+A!H$3*(A!H$3/(-2*A!H$4))+A!H$3*A!H$3/(4*A!H$4))","v":171.80864913623245},{"$f":"A!I$2+A!I$3*EXP(A!I$4*B209)","v":175.96642975218845},{"$f":"IF((A!J$2+A!J$3*B209)<A!J$4,A!J$2+A!J$3*B209,A!J$4)","v":169.99984713439568},{"$f":"IF(B209<A!K$4,A!K$2+A!K$3*(3*B209/(2*A!K$4)-0.5*(B209/A!K$4)^3),A!K$3+A!K$2)","v":170.74995902573716},{"$f":"(C209*B$45+'C'!D209*C$45+'C'!E209*D$45+'C'!F209*E$45+'C'!G209*F$45)/SUM(B$45:F$45)","v":170.58852831418699}]
[324,254.24054652346399,{"$f":"A!G$2+A!G$3*B210+A!G$4*B210^2","v":169.70392798317079},{"$f":"IF(B210<(A!H$3/(-2*A!H$4)),A!H$2+A!H$3*B210+A!H$4*B210^2,A!H$2+A!H$3*(A!H$3/(-2*A!H$4))+A!H$3*A!H$3/(4*A!H$4))","v":171.80864913623245},{"$f":"A!I$2+A!I$3*EXP(A!I$4*B210)","v":175.96642975218845},{"$f":"IF((A!J$2+A!J$3*B210)<A!J$4,A!J$2+A!J$3*B210,A!J$4)","v":169.99984713439568},{"$f":"IF(B210<A!K$4,A!K$2+A!K$3*(3*B210/(2*A!K$4)-0.5*(B210/A!K$4)^3),A!K$3+A!K$2)","v":170.74995902573716},{"$f":"(C210*B$45+'C'!D210*C$45+'C'!E210*D$45+'C'!F210*E$45+'C'!G210*F$45)/SUM(B$45:F$45)","v":170.58852831418699}]
[326,254.24054652346399,{"$f":"A!G$2+A!G$3*B211+A!G$4*B211^2","v":169.70392798317079},{"$f":"IF(B211<(A!H$3/(-2*A!H$4)),A!H$2+A!H$3*B211+A!H$4*B211^2,A!H$2+A!H$3*(A!H$3/(-2*A!H$4))+A!H$3*A!H$3/(4*A!H$4))","v":171.80864913623245},{"$f":"A!I$2+A!I$3*EXP(A!I$4*B211)","v":175.96642975218845},{"$f":"IF((A!J$2+A!J$3*B211)<A!J$4,A!J$2+A!J$3*B211,A!J$4)","v":169.99984713439568},{"$f":"IF(B211<A!K$4,A!K$2+A!K$3*(3*B211/(2*A!K$4)-0.5*(B211/A!K$4)^3),A!K$3+A!K$2)","v":170.74995902573716},{"$f":"(C211*B$45+'C'!D211*C$45+'C'!E211*D$45+'C'!F211*E$45+'C'!G211*F$45)/SUM(B$45:F$45)","v":170.58852831418699}]
[328,254.24054652346399,{"$f":"A!G$2+A!G$3*B212+A!G$4*B212^2","v":169.70392798317079},{"$f":"IF(B212<(A!H$3/(-2*A!H$4)),A!H$2+A!H$3*B212+A!H$4*B212^2,A!H$2+A!H$3*(A!H$3/(-2*A!H$4))+A!H$3*A!H$3/(4*A!H$4))","v":171.80864913623245},{"$f":"A!I$2+A!I$3*EXP(A!I$4*B212)","v":175.96642975218845},{"$f":"IF((A!J$2+A!J$3*B212)<A!J$4,A!J$2+A!J$3*B212,A!J$4)","v":169.99984713439568},{"$f":"IF(B212<A!K$4,A!K$2+A!K$3*(3*B212/(2*A!K$4)-0.5*(B212/A!K$4)^3),A!K$3+A!K$2)","v":170.74995902573716},{"$f":"(C212*B$45+'C'!D212*C$45+'C'!E212*D$45+'C'!F212*E$45+'C'!G212*F$45)/SUM(B$45:F$45)","v":170.58852831418699}]
[330,254.24054652346399,{"$f":"A!G$2+A!G$3*B213+A!G$4*B213^2","v":169.70392798317079},{"$f":"IF(B213<(A!H$3/(-2*A!H$4)),A!H$2+A!H$3*B213+A!H$4*B213^2,A!H$2+A!H$3*(A!H$3/(-2*A!H$4))+A!H$3*A!H$3/(4*A!H$4))","v":171.80864913623245},{"$f":"A!I$2+A!I$3*EXP(A!I$4*B213)","v":175.96642975218845},{"$f":"IF((A!J$2+A!J$3*B213)<A!J$4,A!J$2+A!J$3*B213,A!J$4)","v":169.99984713439568},{"$f":"IF(B213<A!K$4,A!K$2+A!K$3*(3*B213/(2*A!K$4)-0.5*(B213/A!K$4)^3),A!K$3+A!K$2)","v":170.74995902573716},{"$f":"(C213*B$45+'C'!D213*C$45+'C'!E213*D$45+'C'!F213*E$45+'C'!G213*F$45)/SUM(B$45:F$45)","v":170.58852831418699}]
[332,254.24054652346399,{"$f":"A!G$2+A!G$3*B214+A!G$4*B214^2","v":169.70392798317079},{"$f":"IF(B214<(A!H$3/(-2*A!H$4)),A!H$2+A!H$3*B214+A!H$4*B214^2,A!H$2+A!H$3*(A!H$3/(-2*A!H$4))+A!H$3*A!H$3/(4*A!H$4))","v":171.80864913623245},{"$f":"A!I$2+A!I$3*EXP(A!I$4*B214)","v":175.96642975218845},{"$f":"IF((A!J$2+A!J$3*B214)<A!J$4,A!J$2+A!J$3*B214,A!J$4)","v":169.99984713439568},{"$f":"IF(B214<A!K$4,A!K$2+A!K$3*(3*B214/(2*A!K$4)-0.5*(B214/A!K$4)^3),A!K$3+A!K$2)","v":170.74995902573716},{"$f":"(C214*B$45+'C'!D214*C$45+'C'!E214*D$45+'C'!F214*E$45+'C'!G214*F$45)/SUM(B$45:F$45)","v":170.58852831418699}]
[334,254.24054652346399,{"$f":"A!G$2+A!G$3*B215+A!G$4*B215^2","v":169.70392798317079},{"$f":"IF(B215<(A!H$3/(-2*A!H$4)),A!H$2+A!H$3*B215+A!H$4*B215^2,A!H$2+A!H$3*(A!H$3/(-2*A!H$4))+A!H$3*A!H$3/(4*A!H$4))","v":171.80864913623245},{"$f":"A!I$2+A!I$3*EXP(A!I$4*B215)","v":175.96642975218845},{"$f":"IF((A!J$2+A!J$3*B215)<A!J$4,A!J$2+A!J$3*B215,A!J$4)","v":169.99984713439568},{"$f":"IF(B215<A!K$4,A!K$2+A!K$3*(3*B215/(2*A!K$4)-0.5*(B215/A!K$4)^3),A!K$3+A!K$2)","v":170.74995902573716},{"$f":"(C215*B$45+'C'!D215*C$45+'C'!E215*D$45+'C'!F215*E$45+'C'!G215*F$45)/SUM(B$45:F$45)","v":170.58852831418699}]
[336,254.24054652346399,{"$f":"A!G$2+A!G$3*B216+A!G$4*B216^2","v":169.70392798317079},{"$f":"IF(B216<(A!H$3/(-2*A!H$4)),A!H$2+A!H$3*B216+A!H$4*B216^2,A!H$2+A!H$3*(A!H$3/(-2*A!H$4))+A!H$3*A!H$3/(4*A!H$4))","v":171.80864913623245},{"$f":"A!I$2+A!I$3*EXP(A!I$4*B216)","v":175.96642975218845},{"$f":"IF((A!J$2+A!J$3*B216)<A!J$4,A!J$2+A!J$3*B216,A!J$4)","v":169.99984713439568},{"$f":"IF(B216<A!K$4,A!K$2+A!K$3*(3*B216/(2*A!K$4)-0.5*(B216/A!K$4)^3),A!K$3+A!K$2)","v":170.74995902573716},{"$f":"(C216*B$45+'C'!D216*C$45+'C'!E216*D$45+'C'!F216*E$45+'C'!G216*F$45)/SUM(B$45:F$45)","v":170.58852831418699}]
[338,254.24054652346399,{"$f":"A!G$2+A!G$3*B217+A!G$4*B217^2","v":169.70392798317079},{"$f":"IF(B217<(A!H$3/(-2*A!H$4)),A!H$2+A!H$3*B217+A!H$4*B217^2,A!H$2+A!H$3*(A!H$3/(-2*A!H$4))+A!H$3*A!H$3/(4*A!H$4))","v":171.80864913623245},{"$f":"A!I$2+A!I$3*EXP(A!I$4*B217)","v":175.96642975218845},{"$f":"IF((A!J$2+A!J$3*B217)<A!J$4,A!J$2+A!J$3*B217,A!J$4)","v":169.99984713439568},{"$f":"IF(B217<A!K$4,A!K$2+A!K$3*(3*B217/(2*A!K$4)-0.5*(B217/A!K$4)^3),A!K$3+A!K$2)","v":170.74995902573716},{"$f":"(C217*B$45+'C'!D217*C$45+'C'!E217*D$45+'C'!F217*E$45+'C'!G217*F$45)/SUM(B$45:F$45)","v":170.58852831418699}]
[340,254.24054652346399,{"$f":"A!G$2+A!G$3*B218+A!G$4*B218^2","v":169.70392798317079},{"$f":"IF(B218<(A!H$3/(-2*A!H$4)),A!H$2+A!H$3*B218+A!H$4*B218^2,A!H$2+A!H$3*(A!H$3/(-2*A!H$4))+A!H$3*A!H$3/(4*A!H$4))","v":171.80864913623245},{"$f":"A!I$2+A!I$3*EXP(A!I$4*B218)","v":175.96642975218845},{"$f":"IF((A!J$2+A!J$3*B218)<A!J$4,A!J$2+A!J$3*B218,A!J$4)","v":169.99984713439568},{"$f":"IF(B218<A!K$4,A!K$2+A!K$3*(3*B218/(2*A!K$4)-0.5*(B218/A!K$4)^3),A!K$3+A!K$2)","v":170.74995902573716},{"$f":"(C218*B$45+'C'!D218*C$45+'C'!E218*D$45+'C'!F218*E$45+'C'!G218*F$45)/SUM(B$45:F$45)","v":170.58852831418699}]
[342,254.24054652346399,{"$f":"A!G$2+A!G$3*B219+A!G$4*B219^2","v":169.70392798317079},{"$f":"IF(B219<(A!H$3/(-2*A!H$4)),A!H$2+A!H$3*B219+A!H$4*B219^2,A!H$2+A!H$3*(A!H$3/(-2*A!H$4))+A!H$3*A!H$3/(4*A!H$4))","v":171.80864913623245},{"$f":"A!I$2+A!I$3*EXP(A!I$4*B219)","v":175.96642975218845},{"$f":"IF((A!J$2+A!J$3*B219)<A!J$4,A!J$2+A!J$3*B219,A!J$4)","v":169.99984713439568},{"$f":"IF(B219<A!K$4,A!K$2+A!K$3*(3*B219/(2*A!K$4)-0.5*(B219/A!K$4)^3),A!K$3+A!K$2)","v":170.74995902573716},{"$f":"(C219*B$45+'C'!D219*C$45+'C'!E219*D$45+'C'!F219*E$45+'C'!G219*F$45)/SUM(B$45:F$45)","v":170.58852831418699}]
[344,254.24054652346399,{"$f":"A!G$2+A!G$3*B220+A!G$4*B220^2","v":169.70392798317079},{"$f":"IF(B220<(A!H$3/(-2*A!H$4)),A!H$2+A!H$3*B220+A!H$4*B220^2,A!H$2+A!H$3*(A!H$3/(-2*A!H$4))+A!H$3*A!H$3/(4*A!H$4))","v":171.80864913623245},{"$f":"A!I$2+A!I$3*EXP(A!I$4*B220)","v":175.96642975218845},{"$f":"IF((A!J$2+A!J$3*B220)<A!J$4,A!J$2+A!J$3*B220,A!J$4)","v":169.99984713439568},{"$f":"IF(B220<A!K$4,A!K$2+A!K$3*(3*B220/(2*A!K$4)-0.5*(B220/A!K$4)^3),A!K$3+A!K$2)","v":170.74995902573716},{"$f":"(C220*B$45+'C'!D220*C$45+'C'!E220*D$45+'C'!F220*E$45+'C'!G220*F$45)/SUM(B$45:F$45)","v":170.58852831418699}]
[346,254.24054652346399,{"$f":"A!G$2+A!G$3*B221+A!G$4*B221^2","v":169.70392798317079},{"$f":"IF(B221<(A!H$3/(-2*A!H$4)),A!H$2+A!H$3*B221+A!H$4*B221^2,A!H$2+A!H$3*(A!H$3/(-2*A!H$4))+A!H$3*A!H$3/(4*A!H$4))","v":171.80864913623245},{"$f":"A!I$2+A!I$3*EXP(A!I$4*B221)","v":175.96642975218845},{"$f":"IF((A!J$2+A!J$3*B221)<A!J$4,A!J$2+A!J$3*B221,A!J$4)","v":169.99984713439568},{"$f":"IF(B221<A!K$4,A!K$2+A!K$3*(3*B221/(2*A!K$4)-0.5*(B221/A!K$4)^3),A!K$3+A!K$2)","v":170.74995902573716},{"$f":"(C221*B$45+'C'!D221*C$45+'C'!E221*D$45+'C'!F221*E$45+'C'!G221*F$45)/SUM(B$45:F$45)","v":170.58852831418699}]
[348,254.24054652346399,{"$f":"A!G$2+A!G$3*B222+A!G$4*B222^2","v":169.70392798317079},{"$f":"IF(B222<(A!H$3/(-2*A!H$4)),A!H$2+A!H$3*B222+A!H$4*B222^2,A!H$2+A!H$3*(A!H$3/(-2*A!H$4))+A!H$3*A!H$3/(4*A!H$4))","v":171.80864913623245},{"$f":"A!I$2+A!I$3*EXP(A!I$4*B222)","v":175.96642975218845},{"$f":"IF((A!J$2+A!J$3*B222)<A!J$4,A!J$2+A!J$3*B222,A!J$4)","v":169.99984713439568},{"$f":"IF(B222<A!K$4,A!K$2+A!K$3*(3*B222/(2*A!K$4)-0.5*(B222/A!K$4)^3),A!K$3+A!K$2)","v":170.74995902573716},{"$f":"(C222*B$45+'C'!D222*C$45+'C'!E222*D$45+'C'!F222*E$45+'C'!G222*F$45)/SUM(B$45:F$45)","v":170.58852831418699}]
[350,254.24054652346399,{"$f":"A!G$2+A!G$3*B223+A!G$4*B223^2","v":169.70392798317079},{"$f":"IF(B223<(A!H$3/(-2*A!H$4)),A!H$2+A!H$3*B223+A!H$4*B223^2,A!H$2+A!H$3*(A!H$3/(-2*A!H$4))+A!H$3*A!H$3/(4*A!H$4))","v":171.80864913623245},{"$f":"A!I$2+A!I$3*EXP(A!I$4*B223)","v":175.96642975218845},{"$f":"IF((A!J$2+A!J$3*B223)<A!J$4,A!J$2+A!J$3*B223,A!J$4)","v":169.99984713439568},{"$f":"IF(B223<A!K$4,A!K$2+A!K$3*(3*B223/(2*A!K$4)-0.5*(B223/A!K$4)^3),A!K$3+A!K$2)","v":170.74995902573716},{"$f":"(C223*B$45+'C'!D223*C$45+'C'!E223*D$45+'C'!F223*E$45+'C'!G223*F$45)/SUM(B$45:F$45)","v":170.58852831418699}]
[352,254.24054652346399,{"$f":"A!G$2+A!G$3*B224+A!G$4*B224^2","v":169.70392798317079},{"$f":"IF(B224<(A!H$3/(-2*A!H$4)),A!H$2+A!H$3*B224+A!H$4*B224^2,A!H$2+A!H$3*(A!H$3/(-2*A!H$4))+A!H$3*A!H$3/(4*A!H$4))","v":171.80864913623245},{"$f":"A!I$2+A!I$3*EXP(A!I$4*B224)","v":175.96642975218845},{"$f":"IF((A!J$2+A!J$3*B224)<A!J$4,A!J$2+A!J$3*B224,A!J$4)","v":169.99984713439568},{"$f":"IF(B224<A!K$4,A!K$2+A!K$3*(3*B224/(2*A!K$4)-0.5*(B224/A!K$4)^3),A!K$3+A!K$2)","v":170.74995902573716},{"$f":"(C224*B$45+'C'!D224*C$45+'C'!E224*D$45+'C'!F224*E$45+'C'!G224*F$45)/SUM(B$45:F$45)","v":170.58852831418699}]
[354,254.24054652346399,{"$f":"A!G$2+A!G$3*B225+A!G$4*B225^2","v":169.70392798317079},{"$f":"IF(B225<(A!H$3/(-2*A!H$4)),A!H$2+A!H$3*B225+A!H$4*B225^2,A!H$2+A!H$3*(A!H$3/(-2*A!H$4))+A!H$3*A!H$3/(4*A!H$4))","v":171.80864913623245},{"$f":"A!I$2+A!I$3*EXP(A!I$4*B225)","v":175.96642975218845},{"$f":"IF((A!J$2+A!J$3*B225)<A!J$4,A!J$2+A!J$3*B225,A!J$4)","v":169.99984713439568},{"$f":"IF(B225<A!K$4,A!K$2+A!K$3*(3*B225/(2*A!K$4)-0.5*(B225/A!K$4)^3),A!K$3+A!K$2)","v":170.74995902573716},{"$f":"(C225*B$45+'C'!D225*C$45+'C'!E225*D$45+'C'!F225*E$45+'C'!G225*F$45)/SUM(B$45:F$45)","v":170.58852831418699}]
[356,254.24054652346399,{"$f":"A!G$2+A!G$3*B226+A!G$4*B226^2","v":169.70392798317079},{"$f":"IF(B226<(A!H$3/(-2*A!H$4)),A!H$2+A!H$3*B226+A!H$4*B226^2,A!H$2+A!H$3*(A!H$3/(-2*A!H$4))+A!H$3*A!H$3/(4*A!H$4))","v":171.80864913623245},{"$f":"A!I$2+A!I$3*EXP(A!I$4*B226)","v":175.96642975218845},{"$f":"IF((A!J$2+A!J$3*B226)<A!J$4,A!J$2+A!J$3*B226,A!J$4)","v":169.99984713439568},{"$f":"IF(B226<A!K$4,A!K$2+A!K$3*(3*B226/(2*A!K$4)-0.5*(B226/A!K$4)^3),A!K$3+A!K$2)","v":170.74995902573716},{"$f":"(C226*B$45+'C'!D226*C$45+'C'!E226*D$45+'C'!F226*E$45+'C'!G226*F$45)/SUM(B$45:F$45)","v":170.58852831418699}]
[358,254.24054652346399,{"$f":"A!G$2+A!G$3*B227+A!G$4*B227^2","v":169.70392798317079},{"$f":"IF(B227<(A!H$3/(-2*A!H$4)),A!H$2+A!H$3*B227+A!H$4*B227^2,A!H$2+A!H$3*(A!H$3/(-2*A!H$4))+A!H$3*A!H$3/(4*A!H$4))","v":171.80864913623245},{"$f":"A!I$2+A!I$3*EXP(A!I$4*B227)","v":175.96642975218845},{"$f":"IF((A!J$2+A!J$3*B227)<A!J$4,A!J$2+A!J$3*B227,A!J$4)","v":169.99984713439568},{"$f":"IF(B227<A!K$4,A!K$2+A!K$3*(3*B227/(2*A!K$4)-0.5*(B227/A!K$4)^3),A!K$3+A!K$2)","v":170.74995902573716},{"$f":"(C227*B$45+'C'!D227*C$45+'C'!E227*D$45+'C'!F227*E$45+'C'!G227*F$45)/SUM(B$45:F$45)","v":170.58852831418699}]
[360,254.24054652346399,{"$f":"A!G$2+A!G$3*B228+A!G$4*B228^2","v":169.70392798317079},{"$f":"IF(B228<(A!H$3/(-2*A!H$4)),A!H$2+A!H$3*B228+A!H$4*B228^2,A!H$2+A!H$3*(A!H$3/(-2*A!H$4))+A!H$3*A!H$3/(4*A!H$4))","v":171.80864913623245},{"$f":"A!I$2+A!I$3*EXP(A!I$4*B228)","v":175.96642975218845},{"$f":"IF((A!J$2+A!J$3*B228)<A!J$4,A!J$2+A!J$3*B228,A!J$4)","v":169.99984713439568},{"$f":"IF(B228<A!K$4,A!K$2+A!K$3*(3*B228/(2*A!K$4)-0.5*(B228/A!K$4)^3),A!K$3+A!K$2)","v":170.74995902573716},{"$f":"(C228*B$45+'C'!D228*C$45+'C'!E228*D$45+'C'!F228*E$45+'C'!G228*F$45)/SUM(B$45:F$45)","v":170.58852831418699}]
[362,254.24054652346399,{"$f":"A!G$2+A!G$3*B229+A!G$4*B229^2","v":169.70392798317079},{"$f":"IF(B229<(A!H$3/(-2*A!H$4)),A!H$2+A!H$3*B229+A!H$4*B229^2,A!H$2+A!H$3*(A!H$3/(-2*A!H$4))+A!H$3*A!H$3/(4*A!H$4))","v":171.80864913623245},{"$f":"A!I$2+A!I$3*EXP(A!I$4*B229)","v":175.96642975218845},{"$f":"IF((A!J$2+A!J$3*B229)<A!J$4,A!J$2+A!J$3*B229,A!J$4)","v":169.99984713439568},{"$f":"IF(B229<A!K$4,A!K$2+A!K$3*(3*B229/(2*A!K$4)-0.5*(B229/A!K$4)^3),A!K$3+A!K$2)","v":170.74995902573716},{"$f":"(C229*B$45+'C'!D229*C$45+'C'!E229*D$45+'C'!F229*E$45+'C'!G229*F$45)/SUM(B$45:F$45)","v":170.58852831418699}]
[364,254.24054652346399,{"$f":"A!G$2+A!G$3*B230+A!G$4*B230^2","v":169.70392798317079},{"$f":"IF(B230<(A!H$3/(-2*A!H$4)),A!H$2+A!H$3*B230+A!H$4*B230^2,A!H$2+A!H$3*(A!H$3/(-2*A!H$4))+A!H$3*A!H$3/(4*A!H$4))","v":171.80864913623245},{"$f":"A!I$2+A!I$3*EXP(A!I$4*B230)","v":175.96642975218845},{"$f":"IF((A!J$2+A!J$3*B230)<A!J$4,A!J$2+A!J$3*B230,A!J$4)","v":169.99984713439568},{"$f":"IF(B230<A!K$4,A!K$2+A!K$3*(3*B230/(2*A!K$4)-0.5*(B230/A!K$4)^3),A!K$3+A!K$2)","v":170.74995902573716},{"$f":"(C230*B$45+'C'!D230*C$45+'C'!E230*D$45+'C'!F230*E$45+'C'!G230*F$45)/SUM(B$45:F$45)","v":170.58852831418699}]
[366,254.24054652346399,{"$f":"A!G$2+A!G$3*B231+A!G$4*B231^2","v":169.70392798317079},{"$f":"IF(B231<(A!H$3/(-2*A!H$4)),A!H$2+A!H$3*B231+A!H$4*B231^2,A!H$2+A!H$3*(A!H$3/(-2*A!H$4))+A!H$3*A!H$3/(4*A!H$4))","v":171.80864913623245},{"$f":"A!I$2+A!I$3*EXP(A!I$4*B231)","v":175.96642975218845},{"$f":"IF((A!J$2+A!J$3*B231)<A!J$4,A!J$2+A!J$3*B231,A!J$4)","v":169.99984713439568},{"$f":"IF(B231<A!K$4,A!K$2+A!K$3*(3*B231/(2*A!K$4)-0.5*(B231/A!K$4)^3),A!K$3+A!K$2)","v":170.74995902573716},{"$f":"(C231*B$45+'C'!D231*C$45+'C'!E231*D$45+'C'!F231*E$45+'C'!G231*F$45)/SUM(B$45:F$45)","v":170.58852831418699}]
[368,254.24054652346399,{"$f":"A!G$2+A!G$3*B232+A!G$4*B232^2","v":169.70392798317079},{"$f":"IF(B232<(A!H$3/(-2*A!H$4)),A!H$2+A!H$3*B232+A!H$4*B232^2,A!H$2+A!H$3*(A!H$3/(-2*A!H$4))+A!H$3*A!H$3/(4*A!H$4))","v":171.80864913623245},{"$f":"A!I$2+A!I$3*EXP(A!I$4*B232)","v":175.96642975218845},{"$f":"IF((A!J$2+A!J$3*B232)<A!J$4,A!J$2+A!J$3*B232,A!J$4)","v":169.99984713439568},{"$f":"IF(B232<A!K$4,A!K$2+A!K$3*(3*B232/(2*A!K$4)-0.5*(B232/A!K$4)^3),A!K$3+A!K$2)","v":170.74995902573716},{"$f":"(C232*B$45+'C'!D232*C$45+'C'!E232*D$45+'C'!F232*E$45+'C'!G232*F$45)/SUM(B$45:F$45)","v":170.58852831418699}]
[370,254.24054652346399,{"$f":"A!G$2+A!G$3*B233+A!G$4*B233^2","v":169.70392798317079},{"$f":"IF(B233<(A!H$3/(-2*A!H$4)),A!H$2+A!H$3*B233+A!H$4*B233^2,A!H$2+A!H$3*(A!H$3/(-2*A!H$4))+A!H$3*A!H$3/(4*A!H$4))","v":171.80864913623245},{"$f":"A!I$2+A!I$3*EXP(A!I$4*B233)","v":175.96642975218845},{"$f":"IF((A!J$2+A!J$3*B233)<A!J$4,A!J$2+A!J$3*B233,A!J$4)","v":169.99984713439568},{"$f":"IF(B233<A!K$4,A!K$2+A!K$3*(3*B233/(2*A!K$4)-0.5*(B233/A!K$4)^3),A!K$3+A!K$2)","v":170.74995902573716},{"$f":"(C233*B$45+'C'!D233*C$45+'C'!E233*D$45+'C'!F233*E$45+'C'!G233*F$45)/SUM(B$45:F$45)","v":170.58852831418699}]
[372,254.24054652346399,{"$f":"A!G$2+A!G$3*B234+A!G$4*B234^2","v":169.70392798317079},{"$f":"IF(B234<(A!H$3/(-2*A!H$4)),A!H$2+A!H$3*B234+A!H$4*B234^2,A!H$2+A!H$3*(A!H$3/(-2*A!H$4))+A!H$3*A!H$3/(4*A!H$4))","v":171.80864913623245},{"$f":"A!I$2+A!I$3*EXP(A!I$4*B234)","v":175.96642975218845},{"$f":"IF((A!J$2+A!J$3*B234)<A!J$4,A!J$2+A!J$3*B234,A!J$4)","v":169.99984713439568},{"$f":"IF(B234<A!K$4,A!K$2+A!K$3*(3*B234/(2*A!K$4)-0.5*(B234/A!K$4)^3),A!K$3+A!K$2)","v":170.74995902573716},{"$f":"(C234*B$45+'C'!D234*C$45+'C'!E234*D$45+'C'!F234*E$45+'C'!G234*F$45)/SUM(B$45:F$45)","v":170.58852831418699}]
[374,254.24054652346399,{"$f":"A!G$2+A!G$3*B235+A!G$4*B235^2","v":169.70392798317079},{"$f":"IF(B235<(A!H$3/(-2*A!H$4)),A!H$2+A!H$3*B235+A!H$4*B235^2,A!H$2+A!H$3*(A!H$3/(-2*A!H$4))+A!H$3*A!H$3/(4*A!H$4))","v":171.80864913623245},{"$f":"A!I$2+A!I$3*EXP(A!I$4*B235)","v":175.96642975218845},{"$f":"IF((A!J$2+A!J$3*B235)<A!J$4,A!J$2+A!J$3*B235,A!J$4)","v":169.99984713439568},{"$f":"IF(B235<A!K$4,A!K$2+A!K$3*(3*B235/(2*A!K$4)-0.5*(B235/A!K$4)^3),A!K$3+A!K$2)","v":170.74995902573716},{"$f":"(C235*B$45+'C'!D235*C$45+'C'!E235*D$45+'C'!F235*E$45+'C'!G235*F$45)/SUM(B$45:F$45)","v":170.58852831418699}]
[376,254.24054652346399,{"$f":"A!G$2+A!G$3*B236+A!G$4*B236^2","v":169.70392798317079},{"$f":"IF(B236<(A!H$3/(-2*A!H$4)),A!H$2+A!H$3*B236+A!H$4*B236^2,A!H$2+A!H$3*(A!H$3/(-2*A!H$4))+A!H$3*A!H$3/(4*A!H$4))","v":171.80864913623245},{"$f":"A!I$2+A!I$3*EXP(A!I$4*B236)","v":175.96642975218845},{"$f":"IF((A!J$2+A!J$3*B236)<A!J$4,A!J$2+A!J$3*B236,A!J$4)","v":169.99984713439568},{"$f":"IF(B236<A!K$4,A!K$2+A!K$3*(3*B236/(2*A!K$4)-0.5*(B236/A!K$4)^3),A!K$3+A!K$2)","v":170.74995902573716},{"$f":"(C236*B$45+'C'!D236*C$45+'C'!E236*D$45+'C'!F236*E$45+'C'!G236*F$45)/SUM(B$45:F$45)","v":170.58852831418699}]
[378,254.24054652346399,{"$f":"A!G$2+A!G$3*B237+A!G$4*B237^2","v":169.70392798317079},{"$f":"IF(B237<(A!H$3/(-2*A!H$4)),A!H$2+A!H$3*B237+A!H$4*B237^2,A!H$2+A!H$3*(A!H$3/(-2*A!H$4))+A!H$3*A!H$3/(4*A!H$4))","v":171.80864913623245},{"$f":"A!I$2+A!I$3*EXP(A!I$4*B237)","v":175.96642975218845},{"$f":"IF((A!J$2+A!J$3*B237)<A!J$4,A!J$2+A!J$3*B237,A!J$4)","v":169.99984713439568},{"$f":"IF(B237<A!K$4,A!K$2+A!K$3*(3*B237/(2*A!K$4)-0.5*(B237/A!K$4)^3),A!K$3+A!K$2)","v":170.74995902573716},{"$f":"(C237*B$45+'C'!D237*C$45+'C'!E237*D$45+'C'!F237*E$45+'C'!G237*F$45)/SUM(B$45:F$45)","v":170.58852831418699}]
[380,254.24054652346399,{"$f":"A!G$2+A!G$3*B238+A!G$4*B238^2","v":169.70392798317079},{"$f":"IF(B238<(A!H$3/(-2*A!H$4)),A!H$2+A!H$3*B238+A!H$4*B238^2,A!H$2+A!H$3*(A!H$3/(-2*A!H$4))+A!H$3*A!H$3/(4*A!H$4))","v":171.80864913623245},{"$f":"A!I$2+A!I$3*EXP(A!I$4*B238)","v":175.96642975218845},{"$f":"IF((A!J$2+A!J$3*B238)<A!J$4,A!J$2+A!J$3*B238,A!J$4)","v":169.99984713439568},{"$f":"IF(B238<A!K$4,A!K$2+A!K$3*(3*B238/(2*A!K$4)-0.5*(B238/A!K$4)^3),A!K$3+A!K$2)","v":170.74995902573716},{"$f":"(C238*B$45+'C'!D238*C$45+'C'!E238*D$45+'C'!F238*E$45+'C'!G238*F$45)/SUM(B$45:F$45)","v":170.58852831418699}]
[382,254.24054652346399,{"$f":"A!G$2+A!G$3*B239+A!G$4*B239^2","v":169.70392798317079},{"$f":"IF(B239<(A!H$3/(-2*A!H$4)),A!H$2+A!H$3*B239+A!H$4*B239^2,A!H$2+A!H$3*(A!H$3/(-2*A!H$4))+A!H$3*A!H$3/(4*A!H$4))","v":171.80864913623245},{"$f":"A!I$2+A!I$3*EXP(A!I$4*B239)","v":175.96642975218845},{"$f":"IF((A!J$2+A!J$3*B239)<A!J$4,A!J$2+A!J$3*B239,A!J$4)","v":169.99984713439568},{"$f":"IF(B239<A!K$4,A!K$2+A!K$3*(3*B239/(2*A!K$4)-0.5*(B239/A!K$4)^3),A!K$3+A!K$2)","v":170.74995902573716},{"$f":"(C239*B$45+'C'!D239*C$45+'C'!E239*D$45+'C'!F239*E$45+'C'!G239*F$45)/SUM(B$45:F$45)","v":170.58852831418699}]
[384,254.24054652346399,{"$f":"A!G$2+A!G$3*B240+A!G$4*B240^2","v":169.70392798317079},{"$f":"IF(B240<(A!H$3/(-2*A!H$4)),A!H$2+A!H$3*B240+A!H$4*B240^2,A!H$2+A!H$3*(A!H$3/(-2*A!H$4))+A!H$3*A!H$3/(4*A!H$4))","v":171.80864913623245},{"$f":"A!I$2+A!I$3*EXP(A!I$4*B240)","v":175.96642975218845},{"$f":"IF((A!J$2+A!J$3*B240)<A!J$4,A!J$2+A!J$3*B240,A!J$4)","v":169.99984713439568},{"$f":"IF(B240<A!K$4,A!K$2+A!K$3*(3*B240/(2*A!K$4)-0.5*(B240/A!K$4)^3),A!K$3+A!K$2)","v":170.74995902573716},{"$f":"(C240*B$45+'C'!D240*C$45+'C'!E240*D$45+'C'!F240*E$45+'C'!G240*F$45)/SUM(B$45:F$45)","v":170.58852831418699}]
[386,{"$f":"IF(A241<MAX($M$48),A241,MAX($M$48))","v":254.24054652346399},{"$f":"A!G$2+A!G$3*B241+A!G$4*B241^2","v":169.70392798317079},{"$f":"IF(B241<(A!H$3/(-2*A!H$4)),A!H$2+A!H$3*B241+A!H$4*B241^2,A!H$2+A!H$3*(A!H$3/(-2*A!H$4))+A!H$3*A!H$3/(4*A!H$4))","v":171.80864913623245},{"$f":"A!I$2+A!I$3*EXP(A!I$4*B241)","v":175.96642975218845},{"$f":"IF((A!J$2+A!J$3*B241)<A!J$4,A!J$2+A!J$3*B241,A!J$4)","v":169.99984713439568},{"$f":"IF(B241<A!K$4,A!K$2+A!K$3*(3*B241/(2*A!K$4)-0.5*(B241/A!K$4)^3),A!K$3+A!K$2)","v":170.74995902573716},{"$f":"(C241*B$45+'C'!D241*C$45+'C'!E241*D$45+'C'!F241*E$45+'C'!G241*F$45)/SUM(B$45:F$45)","v":170.58852831418699}]
[388,254.24054652346399,{"$f":"A!G$2+A!G$3*B242+A!G$4*B242^2","v":169.70392798317079},{"$f":"IF(B242<(A!H$3/(-2*A!H$4)),A!H$2+A!H$3*B242+A!H$4*B242^2,A!H$2+A!H$3*(A!H$3/(-2*A!H$4))+A!H$3*A!H$3/(4*A!H$4))","v":171.80864913623245},{"$f":"A!I$2+A!I$3*EXP(A!I$4*B242)","v":175.96642975218845},{"$f":"IF((A!J$2+A!J$3*B242)<A!J$4,A!J$2+A!J$3*B242,A!J$4)","v":169.99984713439568},{"$f":"IF(B242<A!K$4,A!K$2+A!K$3*(3*B242/(2*A!K$4)-0.5*(B242/A!K$4)^3),A!K$3+A!K$2)","v":170.74995902573716},{"$f":"(C242*B$45+'C'!D242*C$45+'C'!E242*D$45+'C'!F242*E$45+'C'!G242*F$45)/SUM(B$45:F$45)","v":170.58852831418699}]
[390,254.24054652346399,{"$f":"A!G$2+A!G$3*B243+A!G$4*B243^2","v":169.70392798317079},{"$f":"IF(B243<(A!H$3/(-2*A!H$4)),A!H$2+A!H$3*B243+A!H$4*B243^2,A!H$2+A!H$3*(A!H$3/(-2*A!H$4))+A!H$3*A!H$3/(4*A!H$4))","v":171.80864913623245},{"$f":"A!I$2+A!I$3*EXP(A!I$4*B243)","v":175.96642975218845},{"$f":"IF((A!J$2+A!J$3*B243)<A!J$4,A!J$2+A!J$3*B243,A!J$4)","v":169.99984713439568},{"$f":"IF(B243<A!K$4,A!K$2+A!K$3*(3*B243/(2*A!K$4)-0.5*(B243/A!K$4)^3),A!K$3+A!K$2)","v":170.74995902573716},{"$f":"(C243*B$45+'C'!D243*C$45+'C'!E243*D$45+'C'!F243*E$45+'C'!G243*F$45)/SUM(B$45:F$45)","v":170.58852831418699}]
[392,254.24054652346399,{"$f":"A!G$2+A!G$3*B244+A!G$4*B244^2","v":169.70392798317079},{"$f":"IF(B244<(A!H$3/(-2*A!H$4)),A!H$2+A!H$3*B244+A!H$4*B244^2,A!H$2+A!H$3*(A!H$3/(-2*A!H$4))+A!H$3*A!H$3/(4*A!H$4))","v":171.80864913623245},{"$f":"A!I$2+A!I$3*EXP(A!I$4*B244)","v":175.96642975218845},{"$f":"IF((A!J$2+A!J$3*B244)<A!J$4,A!J$2+A!J$3*B244,A!J$4)","v":169.99984713439568},{"$f":"IF(B244<A!K$4,A!K$2+A!K$3*(3*B244/(2*A!K$4)-0.5*(B244/A!K$4)^3),A!K$3+A!K$2)","v":170.74995902573716},{"$f":"(C244*B$45+'C'!D244*C$45+'C'!E244*D$45+'C'!F244*E$45+'C'!G244*F$45)/SUM(B$45:F$45)","v":170.58852831418699}]
[394,254.24054652346399,{"$f":"A!G$2+A!G$3*B245+A!G$4*B245^2","v":169.70392798317079},{"$f":"IF(B245<(A!H$3/(-2*A!H$4)),A!H$2+A!H$3*B245+A!H$4*B245^2,A!H$2+A!H$3*(A!H$3/(-2*A!H$4))+A!H$3*A!H$3/(4*A!H$4))","v":171.80864913623245},{"$f":"A!I$2+A!I$3*EXP(A!I$4*B245)","v":175.96642975218845},{"$f":"IF((A!J$2+A!J$3*B245)<A!J$4,A!J$2+A!J$3*B245,A!J$4)","v":169.99984713439568},{"$f":"IF(B245<A!K$4,A!K$2+A!K$3*(3*B245/(2*A!K$4)-0.5*(B245/A!K$4)^3),A!K$3+A!K$2)","v":170.74995902573716},{"$f":"(C245*B$45+'C'!D245*C$45+'C'!E245*D$45+'C'!F245*E$45+'C'!G245*F$45)/SUM(B$45:F$45)","v":170.58852831418699}]
[396,254.24054652346399,{"$f":"A!G$2+A!G$3*B246+A!G$4*B246^2","v":169.70392798317079},{"$f":"IF(B246<(A!H$3/(-2*A!H$4)),A!H$2+A!H$3*B246+A!H$4*B246^2,A!H$2+A!H$3*(A!H$3/(-2*A!H$4))+A!H$3*A!H$3/(4*A!H$4))","v":171.80864913623245},{"$f":"A!I$2+A!I$3*EXP(A!I$4*B246)","v":175.96642975218845},{"$f":"IF((A!J$2+A!J$3*B246)<A!J$4,A!J$2+A!J$3*B246,A!J$4)","v":169.99984713439568},{"$f":"IF(B246<A!K$4,A!K$2+A!K$3*(3*B246/(2*A!K$4)-0.5*(B246/A!K$4)^3),A!K$3+A!K$2)","v":170.74995902573716},{"$f":"(C246*B$45+'C'!D246*C$45+'C'!E246*D$45+'C'!F246*E$45+'C'!G246*F$45)/SUM(B$45:F$45)","v":170.58852831418699}]
[398,254.24054652346399,{"$f":"A!G$2+A!G$3*B247+A!G$4*B247^2","v":169.70392798317079},{"$f":"IF(B247<(A!H$3/(-2*A!H$4)),A!H$2+A!H$3*B247+A!H$4*B247^2,A!H$2+A!H$3*(A!H$3/(-2*A!H$4))+A!H$3*A!H$3/(4*A!H$4))","v":171.80864913623245},{"$f":"A!I$2+A!I$3*EXP(A!I$4*B247)","v":175.96642975218845},{"$f":"IF((A!J$2+A!J$3*B247)<A!J$4,A!J$2+A!J$3*B247,A!J$4)","v":169.99984713439568},{"$f":"IF(B247<A!K$4,A!K$2+A!K$3*(3*B247/(2*A!K$4)-0.5*(B247/A!K$4)^3),A!K$3+A!K$2)","v":170.74995902573716},{"$f":"(C247*B$45+'C'!D247*C$45+'C'!E247*D$45+'C'!F247*E$45+'C'!G247*F$45)/SUM(B$45:F$45)","v":170.58852831418699}]
[400,254.24054652346399,{"$f":"A!G$2+A!G$3*B248+A!G$4*B248^2","v":169.70392798317079},{"$f":"IF(B248<(A!H$3/(-2*A!H$4)),A!H$2+A!H$3*B248+A!H$4*B248^2,A!H$2+A!H$3*(A!H$3/(-2*A!H$4))+A!H$3*A!H$3/(4*A!H$4))","v":171.80864913623245},{"$f":"A!I$2+A!I$3*EXP(A!I$4*B248)","v":175.96642975218845},{"$f":"IF((A!J$2+A!J$3*B248)<A!J$4,A!J$2+A!J$3*B248,A!J$4)","v":169.99984713439568},{"$f":"IF(B248<A!K$4,A!K$2+A!K$3*(3*B248/(2*A!K$4)-0.5*(B248/A!K$4)^3),A!K$3+A!K$2)","v":170.74995902573716},{"$f":"(C248*B$45+'C'!D248*C$45+'C'!E248*D$45+'C'!F248*E$45+'C'!G248*F$45)/SUM(B$45:F$45)","v":170.58852831418699}]
[402,254.24054652346399,{"$f":"A!G$2+A!G$3*B249+A!G$4*B249^2","v":169.70392798317079},{"$f":"IF(B249<(A!H$3/(-2*A!H$4)),A!H$2+A!H$3*B249+A!H$4*B249^2,A!H$2+A!H$3*(A!H$3/(-2*A!H$4))+A!H$3*A!H$3/(4*A!H$4))","v":171.80864913623245},{"$f":"A!I$2+A!I$3*EXP(A!I$4*B249)","v":175.96642975218845},{"$f":"IF((A!J$2+A!J$3*B249)<A!J$4,A!J$2+A!J$3*B249,A!J$4)","v":169.99984713439568},{"$f":"IF(B249<A!K$4,A!K$2+A!K$3*(3*B249/(2*A!K$4)-0.5*(B249/A!K$4)^3),A!K$3+A!K$2)","v":170.74995902573716},{"$f":"(C249*B$45+'C'!D249*C$45+'C'!E249*D$45+'C'!F249*E$45+'C'!G249*F$45)/SUM(B$45:F$45)","v":170.58852831418699}]
[404,254.24054652346399,{"$f":"A!G$2+A!G$3*B250+A!G$4*B250^2","v":169.70392798317079},{"$f":"IF(B250<(A!H$3/(-2*A!H$4)),A!H$2+A!H$3*B250+A!H$4*B250^2,A!H$2+A!H$3*(A!H$3/(-2*A!H$4))+A!H$3*A!H$3/(4*A!H$4))","v":171.80864913623245},{"$f":"A!I$2+A!I$3*EXP(A!I$4*B250)","v":175.96642975218845},{"$f":"IF((A!J$2+A!J$3*B250)<A!J$4,A!J$2+A!J$3*B250,A!J$4)","v":169.99984713439568},{"$f":"IF(B250<A!K$4,A!K$2+A!K$3*(3*B250/(2*A!K$4)-0.5*(B250/A!K$4)^3),A!K$3+A!K$2)","v":170.74995902573716},{"$f":"(C250*B$45+'C'!D250*C$45+'C'!E250*D$45+'C'!F250*E$45+'C'!G250*F$45)/SUM(B$45:F$45)","v":170.58852831418699}]
[406,254.24054652346399,{"$f":"A!G$2+A!G$3*B251+A!G$4*B251^2","v":169.70392798317079},{"$f":"IF(B251<(A!H$3/(-2*A!H$4)),A!H$2+A!H$3*B251+A!H$4*B251^2,A!H$2+A!H$3*(A!H$3/(-2*A!H$4))+A!H$3*A!H$3/(4*A!H$4))","v":171.80864913623245},{"$f":"A!I$2+A!I$3*EXP(A!I$4*B251)","v":175.96642975218845},{"$f":"IF((A!J$2+A!J$3*B251)<A!J$4,A!J$2+A!J$3*B251,A!J$4)","v":169.99984713439568},{"$f":"IF(B251<A!K$4,A!K$2+A!K$3*(3*B251/(2*A!K$4)-0.5*(B251/A!K$4)^3),A!K$3+A!K$2)","v":170.74995902573716},{"$f":"(C251*B$45+'C'!D251*C$45+'C'!E251*D$45+'C'!F251*E$45+'C'!G251*F$45)/SUM(B$45:F$45)","v":170.58852831418699}]
[408,254.24054652346399,{"$f":"A!G$2+A!G$3*B252+A!G$4*B252^2","v":169.70392798317079},{"$f":"IF(B252<(A!H$3/(-2*A!H$4)),A!H$2+A!H$3*B252+A!H$4*B252^2,A!H$2+A!H$3*(A!H$3/(-2*A!H$4))+A!H$3*A!H$3/(4*A!H$4))","v":171.80864913623245},{"$f":"A!I$2+A!I$3*EXP(A!I$4*B252)","v":175.96642975218845},{"$f":"IF((A!J$2+A!J$3*B252)<A!J$4,A!J$2+A!J$3*B252,A!J$4)","v":169.99984713439568},{"$f":"IF(B252<A!K$4,A!K$2+A!K$3*(3*B252/(2*A!K$4)-0.5*(B252/A!K$4)^3),A!K$3+A!K$2)","v":170.74995902573716},{"$f":"(C252*B$45+'C'!D252*C$45+'C'!E252*D$45+'C'!F252*E$45+'C'!G252*F$45)/SUM(B$45:F$45)","v":170.58852831418699}]
[410,254.24054652346399,{"$f":"A!G$2+A!G$3*B253+A!G$4*B253^2","v":169.70392798317079},{"$f":"IF(B253<(A!H$3/(-2*A!H$4)),A!H$2+A!H$3*B253+A!H$4*B253^2,A!H$2+A!H$3*(A!H$3/(-2*A!H$4))+A!H$3*A!H$3/(4*A!H$4))","v":171.80864913623245},{"$f":"A!I$2+A!I$3*EXP(A!I$4*B253)","v":175.96642975218845},{"$f":"IF((A!J$2+A!J$3*B253)<A!J$4,A!J$2+A!J$3*B253,A!J$4)","v":169.99984713439568},{"$f":"IF(B253<A!K$4,A!K$2+A!K$3*(3*B253/(2*A!K$4)-0.5*(B253/A!K$4)^3),A!K$3+A!K$2)","v":170.74995902573716},{"$f":"(C253*B$45+'C'!D253*C$45+'C'!E253*D$45+'C'!F253*E$45+'C'!G253*F$45)/SUM(B$45:F$45)","v":170.58852831418699}]
[412,254.24054652346399,{"$f":"A!G$2+A!G$3*B254+A!G$4*B254^2","v":169.70392798317079},{"$f":"IF(B254<(A!H$3/(-2*A!H$4)),A!H$2+A!H$3*B254+A!H$4*B254^2,A!H$2+A!H$3*(A!H$3/(-2*A!H$4))+A!H$3*A!H$3/(4*A!H$4))","v":171.80864913623245},{"$f":"A!I$2+A!I$3*EXP(A!I$4*B254)","v":175.96642975218845},{"$f":"IF((A!J$2+A!J$3*B254)<A!J$4,A!J$2+A!J$3*B254,A!J$4)","v":169.99984713439568},{"$f":"IF(B254<A!K$4,A!K$2+A!K$3*(3*B254/(2*A!K$4)-0.5*(B254/A!K$4)^3),A!K$3+A!K$2)","v":170.74995902573716},{"$f":"(C254*B$45+'C'!D254*C$45+'C'!E254*D$45+'C'!F254*E$45+'C'!G254*F$45)/SUM(B$45:F$45)","v":170.58852831418699}]
[414,254.24054652346399,{"$f":"A!G$2+A!G$3*B255+A!G$4*B255^2","v":169.70392798317079},{"$f":"IF(B255<(A!H$3/(-2*A!H$4)),A!H$2+A!H$3*B255+A!H$4*B255^2,A!H$2+A!H$3*(A!H$3/(-2*A!H$4))+A!H$3*A!H$3/(4*A!H$4))","v":171.80864913623245},{"$f":"A!I$2+A!I$3*EXP(A!I$4*B255)","v":175.96642975218845},{"$f":"IF((A!J$2+A!J$3*B255)<A!J$4,A!J$2+A!J$3*B255,A!J$4)","v":169.99984713439568},{"$f":"IF(B255<A!K$4,A!K$2+A!K$3*(3*B255/(2*A!K$4)-0.5*(B255/A!K$4)^3),A!K$3+A!K$2)","v":170.74995902573716},{"$f":"(C255*B$45+'C'!D255*C$45+'C'!E255*D$45+'C'!F255*E$45+'C'!G255*F$45)/SUM(B$45:F$45)","v":170.58852831418699}]
[416,254.24054652346399,{"$f":"A!G$2+A!G$3*B256+A!G$4*B256^2","v":169.70392798317079},{"$f":"IF(B256<(A!H$3/(-2*A!H$4)),A!H$2+A!H$3*B256+A!H$4*B256^2,A!H$2+A!H$3*(A!H$3/(-2*A!H$4))+A!H$3*A!H$3/(4*A!H$4))","v":171.80864913623245},{"$f":"A!I$2+A!I$3*EXP(A!I$4*B256)","v":175.96642975218845},{"$f":"IF((A!J$2+A!J$3*B256)<A!J$4,A!J$2+A!J$3*B256,A!J$4)","v":169.99984713439568},{"$f":"IF(B256<A!K$4,A!K$2+A!K$3*(3*B256/(2*A!K$4)-0.5*(B256/A!K$4)^3),A!K$3+A!K$2)","v":170.74995902573716},{"$f":"(C256*B$45+'C'!D256*C$45+'C'!E256*D$45+'C'!F256*E$45+'C'!G256*F$45)/SUM(B$45:F$45)","v":170.58852831418699}]
[418,254.24054652346399,{"$f":"A!G$2+A!G$3*B257+A!G$4*B257^2","v":169.70392798317079},{"$f":"IF(B257<(A!H$3/(-2*A!H$4)),A!H$2+A!H$3*B257+A!H$4*B257^2,A!H$2+A!H$3*(A!H$3/(-2*A!H$4))+A!H$3*A!H$3/(4*A!H$4))","v":171.80864913623245},{"$f":"A!I$2+A!I$3*EXP(A!I$4*B257)","v":175.96642975218845},{"$f":"IF((A!J$2+A!J$3*B257)<A!J$4,A!J$2+A!J$3*B257,A!J$4)","v":169.99984713439568},{"$f":"IF(B257<A!K$4,A!K$2+A!K$3*(3*B257/(2*A!K$4)-0.5*(B257/A!K$4)^3),A!K$3+A!K$2)","v":170.74995902573716},{"$f":"(C257*B$45+'C'!D257*C$45+'C'!E257*D$45+'C'!F257*E$45+'C'!G257*F$45)/SUM(B$45:F$45)","v":170.58852831418699}]
[420,254.24054652346399,{"$f":"A!G$2+A!G$3*B258+A!G$4*B258^2","v":169.70392798317079},{"$f":"IF(B258<(A!H$3/(-2*A!H$4)),A!H$2+A!H$3*B258+A!H$4*B258^2,A!H$2+A!H$3*(A!H$3/(-2*A!H$4))+A!H$3*A!H$3/(4*A!H$4))","v":171.80864913623245},{"$f":"A!I$2+A!I$3*EXP(A!I$4*B258)","v":175.96642975218845},{"$f":"IF((A!J$2+A!J$3*B258)<A!J$4,A!J$2+A!J$3*B258,A!J$4)","v":169.99984713439568},{"$f":"IF(B258<A!K$4,A!K$2+A!K$3*(3*B258/(2*A!K$4)-0.5*(B258/A!K$4)^3),A!K$3+A!K$2)","v":170.74995902573716},{"$f":"(C258*B$45+'C'!D258*C$45+'C'!E258*D$45+'C'!F258*E$45+'C'!G258*F$45)/SUM(B$45:F$45)","v":170.58852831418699}]
[422,254.24054652346399,{"$f":"A!G$2+A!G$3*B259+A!G$4*B259^2","v":169.70392798317079},{"$f":"IF(B259<(A!H$3/(-2*A!H$4)),A!H$2+A!H$3*B259+A!H$4*B259^2,A!H$2+A!H$3*(A!H$3/(-2*A!H$4))+A!H$3*A!H$3/(4*A!H$4))","v":171.80864913623245},{"$f":"A!I$2+A!I$3*EXP(A!I$4*B259)","v":175.96642975218845},{"$f":"IF((A!J$2+A!J$3*B259)<A!J$4,A!J$2+A!J$3*B259,A!J$4)","v":169.99984713439568},{"$f":"IF(B259<A!K$4,A!K$2+A!K$3*(3*B259/(2*A!K$4)-0.5*(B259/A!K$4)^3),A!K$3+A!K$2)","v":170.74995902573716},{"$f":"(C259*B$45+'C'!D259*C$45+'C'!E259*D$45+'C'!F259*E$45+'C'!G259*F$45)/SUM(B$45:F$45)","v":170.58852831418699}]
[424,254.24054652346399,{"$f":"A!G$2+A!G$3*B260+A!G$4*B260^2","v":169.70392798317079},{"$f":"IF(B260<(A!H$3/(-2*A!H$4)),A!H$2+A!H$3*B260+A!H$4*B260^2,A!H$2+A!H$3*(A!H$3/(-2*A!H$4))+A!H$3*A!H$3/(4*A!H$4))","v":171.80864913623245},{"$f":"A!I$2+A!I$3*EXP(A!I$4*B260)","v":175.96642975218845},{"$f":"IF((A!J$2+A!J$3*B260)<A!J$4,A!J$2+A!J$3*B260,A!J$4)","v":169.99984713439568},{"$f":"IF(B260<A!K$4,A!K$2+A!K$3*(3*B260/(2*A!K$4)-0.5*(B260/A!K$4)^3),A!K$3+A!K$2)","v":170.74995902573716},{"$f":"(C260*B$45+'C'!D260*C$45+'C'!E260*D$45+'C'!F260*E$45+'C'!G260*F$45)/SUM(B$45:F$45)","v":170.58852831418699}]
[426,254.24054652346399,{"$f":"A!G$2+A!G$3*B261+A!G$4*B261^2","v":169.70392798317079},{"$f":"IF(B261<(A!H$3/(-2*A!H$4)),A!H$2+A!H$3*B261+A!H$4*B261^2,A!H$2+A!H$3*(A!H$3/(-2*A!H$4))+A!H$3*A!H$3/(4*A!H$4))","v":171.80864913623245},{"$f":"A!I$2+A!I$3*EXP(A!I$4*B261)","v":175.96642975218845},{"$f":"IF((A!J$2+A!J$3*B261)<A!J$4,A!J$2+A!J$3*B261,A!J$4)","v":169.99984713439568},{"$f":"IF(B261<A!K$4,A!K$2+A!K$3*(3*B261/(2*A!K$4)-0.5*(B261/A!K$4)^3),A!K$3+A!K$2)","v":170.74995902573716},{"$f":"(C261*B$45+'C'!D261*C$45+'C'!E261*D$45+'C'!F261*E$45+'C'!G261*F$45)/SUM(B$45:F$45)","v":170.58852831418699}]
[428,254.24054652346399,{"$f":"A!G$2+A!G$3*B262+A!G$4*B262^2","v":169.70392798317079},{"$f":"IF(B262<(A!H$3/(-2*A!H$4)),A!H$2+A!H$3*B262+A!H$4*B262^2,A!H$2+A!H$3*(A!H$3/(-2*A!H$4))+A!H$3*A!H$3/(4*A!H$4))","v":171.80864913623245},{"$f":"A!I$2+A!I$3*EXP(A!I$4*B262)","v":175.96642975218845},{"$f":"IF((A!J$2+A!J$3*B262)<A!J$4,A!J$2+A!J$3*B262,A!J$4)","v":169.99984713439568},{"$f":"IF(B262<A!K$4,A!K$2+A!K$3*(3*B262/(2*A!K$4)-0.5*(B262/A!K$4)^3),A!K$3+A!K$2)","v":170.74995902573716},{"$f":"(C262*B$45+'C'!D262*C$45+'C'!E262*D$45+'C'!F262*E$45+'C'!G262*F$45)/SUM(B$45:F$45)","v":170.58852831418699}]
[430,254.24054652346399,{"$f":"A!G$2+A!G$3*B263+A!G$4*B263^2","v":169.70392798317079},{"$f":"IF(B263<(A!H$3/(-2*A!H$4)),A!H$2+A!H$3*B263+A!H$4*B263^2,A!H$2+A!H$3*(A!H$3/(-2*A!H$4))+A!H$3*A!H$3/(4*A!H$4))","v":171.80864913623245},{"$f":"A!I$2+A!I$3*EXP(A!I$4*B263)","v":175.96642975218845},{"$f":"IF((A!J$2+A!J$3*B263)<A!J$4,A!J$2+A!J$3*B263,A!J$4)","v":169.99984713439568},{"$f":"IF(B263<A!K$4,A!K$2+A!K$3*(3*B263/(2*A!K$4)-0.5*(B263/A!K$4)^3),A!K$3+A!K$2)","v":170.74995902573716},{"$f":"(C263*B$45+'C'!D263*C$45+'C'!E263*D$45+'C'!F263*E$45+'C'!G263*F$45)/SUM(B$45:F$45)","v":170.58852831418699}]
[432,254.24054652346399,{"$f":"A!G$2+A!G$3*B264+A!G$4*B264^2","v":169.70392798317079},{"$f":"IF(B264<(A!H$3/(-2*A!H$4)),A!H$2+A!H$3*B264+A!H$4*B264^2,A!H$2+A!H$3*(A!H$3/(-2*A!H$4))+A!H$3*A!H$3/(4*A!H$4))","v":171.80864913623245},{"$f":"A!I$2+A!I$3*EXP(A!I$4*B264)","v":175.96642975218845},{"$f":"IF((A!J$2+A!J$3*B264)<A!J$4,A!J$2+A!J$3*B264,A!J$4)","v":169.99984713439568},{"$f":"IF(B264<A!K$4,A!K$2+A!K$3*(3*B264/(2*A!K$4)-0.5*(B264/A!K$4)^3),A!K$3+A!K$2)","v":170.74995902573716},{"$f":"(C264*B$45+'C'!D264*C$45+'C'!E264*D$45+'C'!F264*E$45+'C'!G264*F$45)/SUM(B$45:F$45)","v":170.58852831418699}]
[434,254.24054652346399,{"$f":"A!G$2+A!G$3*B265+A!G$4*B265^2","v":169.70392798317079},{"$f":"IF(B265<(A!H$3/(-2*A!H$4)),A!H$2+A!H$3*B265+A!H$4*B265^2,A!H$2+A!H$3*(A!H$3/(-2*A!H$4))+A!H$3*A!H$3/(4*A!H$4))","v":171.80864913623245},{"$f":"A!I$2+A!I$3*EXP(A!I$4*B265)","v":175.96642975218845},{"$f":"IF((A!J$2+A!J$3*B265)<A!J$4,A!J$2+A!J$3*B265,A!J$4)","v":169.99984713439568},{"$f":"IF(B265<A!K$4,A!K$2+A!K$3*(3*B265/(2*A!K$4)-0.5*(B265/A!K$4)^3),A!K$3+A!K$2)","v":170.74995902573716},{"$f":"(C265*B$45+'C'!D265*C$45+'C'!E265*D$45+'C'!F265*E$45+'C'!G265*F$45)/SUM(B$45:F$45)","v":170.58852831418699}]
[436,254.24054652346399,{"$f":"A!G$2+A!G$3*B266+A!G$4*B266^2","v":169.70392798317079},{"$f":"IF(B266<(A!H$3/(-2*A!H$4)),A!H$2+A!H$3*B266+A!H$4*B266^2,A!H$2+A!H$3*(A!H$3/(-2*A!H$4))+A!H$3*A!H$3/(4*A!H$4))","v":171.80864913623245},{"$f":"A!I$2+A!I$3*EXP(A!I$4*B266)","v":175.96642975218845},{"$f":"IF((A!J$2+A!J$3*B266)<A!J$4,A!J$2+A!J$3*B266,A!J$4)","v":169.99984713439568},{"$f":"IF(B266<A!K$4,A!K$2+A!K$3*(3*B266/(2*A!K$4)-0.5*(B266/A!K$4)^3),A!K$3+A!K$2)","v":170.74995902573716},{"$f":"(C266*B$45+'C'!D266*C$45+'C'!E266*D$45+'C'!F266*E$45+'C'!G266*F$45)/SUM(B$45:F$45)","v":170.58852831418699}]
[438,254.24054652346399,{"$f":"A!G$2+A!G$3*B267+A!G$4*B267^2","v":169.70392798317079},{"$f":"IF(B267<(A!H$3/(-2*A!H$4)),A!H$2+A!H$3*B267+A!H$4*B267^2,A!H$2+A!H$3*(A!H$3/(-2*A!H$4))+A!H$3*A!H$3/(4*A!H$4))","v":171.80864913623245},{"$f":"A!I$2+A!I$3*EXP(A!I$4*B267)","v":175.96642975218845},{"$f":"IF((A!J$2+A!J$3*B267)<A!J$4,A!J$2+A!J$3*B267,A!J$4)","v":169.99984713439568},{"$f":"IF(B267<A!K$4,A!K$2+A!K$3*(3*B267/(2*A!K$4)-0.5*(B267/A!K$4)^3),A!K$3+A!K$2)","v":170.74995902573716},{"$f":"(C267*B$45+'C'!D267*C$45+'C'!E267*D$45+'C'!F267*E$45+'C'!G267*F$45)/SUM(B$45:F$45)","v":170.58852831418699}]
[440,254.24054652346399,{"$f":"A!G$2+A!G$3*B268+A!G$4*B268^2","v":169.70392798317079},{"$f":"IF(B268<(A!H$3/(-2*A!H$4)),A!H$2+A!H$3*B268+A!H$4*B268^2,A!H$2+A!H$3*(A!H$3/(-2*A!H$4))+A!H$3*A!H$3/(4*A!H$4))","v":171.80864913623245},{"$f":"A!I$2+A!I$3*EXP(A!I$4*B268)","v":175.96642975218845},{"$f":"IF((A!J$2+A!J$3*B268)<A!J$4,A!J$2+A!J$3*B268,A!J$4)","v":169.99984713439568},{"$f":"IF(B268<A!K$4,A!K$2+A!K$3*(3*B268/(2*A!K$4)-0.5*(B268/A!K$4)^3),A!K$3+A!K$2)","v":170.74995902573716},{"$f":"(C268*B$45+'C'!D268*C$45+'C'!E268*D$45+'C'!F268*E$45+'C'!G268*F$45)/SUM(B$45:F$45)","v":170.58852831418699}]
[442,254.24054652346399,{"$f":"A!G$2+A!G$3*B269+A!G$4*B269^2","v":169.70392798317079},{"$f":"IF(B269<(A!H$3/(-2*A!H$4)),A!H$2+A!H$3*B269+A!H$4*B269^2,A!H$2+A!H$3*(A!H$3/(-2*A!H$4))+A!H$3*A!H$3/(4*A!H$4))","v":171.80864913623245},{"$f":"A!I$2+A!I$3*EXP(A!I$4*B269)","v":175.96642975218845},{"$f":"IF((A!J$2+A!J$3*B269)<A!J$4,A!J$2+A!J$3*B269,A!J$4)","v":169.99984713439568},{"$f":"IF(B269<A!K$4,A!K$2+A!K$3*(3*B269/(2*A!K$4)-0.5*(B269/A!K$4)^3),A!K$3+A!K$2)","v":170.74995902573716},{"$f":"(C269*B$45+'C'!D269*C$45+'C'!E269*D$45+'C'!F269*E$45+'C'!G269*F$45)/SUM(B$45:F$45)","v":170.58852831418699}]
[444,254.24054652346399,{"$f":"A!G$2+A!G$3*B270+A!G$4*B270^2","v":169.70392798317079},{"$f":"IF(B270<(A!H$3/(-2*A!H$4)),A!H$2+A!H$3*B270+A!H$4*B270^2,A!H$2+A!H$3*(A!H$3/(-2*A!H$4))+A!H$3*A!H$3/(4*A!H$4))","v":171.80864913623245},{"$f":"A!I$2+A!I$3*EXP(A!I$4*B270)","v":175.96642975218845},{"$f":"IF((A!J$2+A!J$3*B270)<A!J$4,A!J$2+A!J$3*B270,A!J$4)","v":169.99984713439568},{"$f":"IF(B270<A!K$4,A!K$2+A!K$3*(3*B270/(2*A!K$4)-0.5*(B270/A!K$4)^3),A!K$3+A!K$2)","v":170.74995902573716},{"$f":"(C270*B$45+'C'!D270*C$45+'C'!E270*D$45+'C'!F270*E$45+'C'!G270*F$45)/SUM(B$45:F$45)","v":170.58852831418699}]
[446,254.24054652346399,{"$f":"A!G$2+A!G$3*B271+A!G$4*B271^2","v":169.70392798317079},{"$f":"IF(B271<(A!H$3/(-2*A!H$4)),A!H$2+A!H$3*B271+A!H$4*B271^2,A!H$2+A!H$3*(A!H$3/(-2*A!H$4))+A!H$3*A!H$3/(4*A!H$4))","v":171.80864913623245},{"$f":"A!I$2+A!I$3*EXP(A!I$4*B271)","v":175.96642975218845},{"$f":"IF((A!J$2+A!J$3*B271)<A!J$4,A!J$2+A!J$3*B271,A!J$4)","v":169.99984713439568},{"$f":"IF(B271<A!K$4,A!K$2+A!K$3*(3*B271/(2*A!K$4)-0.5*(B271/A!K$4)^3),A!K$3+A!K$2)","v":170.74995902573716},{"$f":"(C271*B$45+'C'!D271*C$45+'C'!E271*D$45+'C'!F271*E$45+'C'!G271*F$45)/SUM(B$45:F$45)","v":170.58852831418699}]
[448,254.24054652346399,{"$f":"A!G$2+A!G$3*B272+A!G$4*B272^2","v":169.70392798317079},{"$f":"IF(B272<(A!H$3/(-2*A!H$4)),A!H$2+A!H$3*B272+A!H$4*B272^2,A!H$2+A!H$3*(A!H$3/(-2*A!H$4))+A!H$3*A!H$3/(4*A!H$4))","v":171.80864913623245},{"$f":"A!I$2+A!I$3*EXP(A!I$4*B272)","v":175.96642975218845},{"$f":"IF((A!J$2+A!J$3*B272)<A!J$4,A!J$2+A!J$3*B272,A!J$4)","v":169.99984713439568},{"$f":"IF(B272<A!K$4,A!K$2+A!K$3*(3*B272/(2*A!K$4)-0.5*(B272/A!K$4)^3),A!K$3+A!K$2)","v":170.74995902573716},{"$f":"(C272*B$45+'C'!D272*C$45+'C'!E272*D$45+'C'!F272*E$45+'C'!G272*F$45)/SUM(B$45:F$45)","v":170.58852831418699}]
[450,254.24054652346399,{"$f":"A!G$2+A!G$3*B273+A!G$4*B273^2","v":169.70392798317079},{"$f":"IF(B273<(A!H$3/(-2*A!H$4)),A!H$2+A!H$3*B273+A!H$4*B273^2,A!H$2+A!H$3*(A!H$3/(-2*A!H$4))+A!H$3*A!H$3/(4*A!H$4))","v":171.80864913623245},{"$f":"A!I$2+A!I$3*EXP(A!I$4*B273)","v":175.96642975218845},{"$f":"IF((A!J$2+A!J$3*B273)<A!J$4,A!J$2+A!J$3*B273,A!J$4)","v":169.99984713439568},{"$f":"IF(B273<A!K$4,A!K$2+A!K$3*(3*B273/(2*A!K$4)-0.5*(B273/A!K$4)^3),A!K$3+A!K$2)","v":170.74995902573716},{"$f":"(C273*B$45+'C'!D273*C$45+'C'!E273*D$45+'C'!F273*E$45+'C'!G273*F$45)/SUM(B$45:F$45)","v":170.58852831418699}]
[452,254.24054652346399,{"$f":"A!G$2+A!G$3*B274+A!G$4*B274^2","v":169.70392798317079},{"$f":"IF(B274<(A!H$3/(-2*A!H$4)),A!H$2+A!H$3*B274+A!H$4*B274^2,A!H$2+A!H$3*(A!H$3/(-2*A!H$4))+A!H$3*A!H$3/(4*A!H$4))","v":171.80864913623245},{"$f":"A!I$2+A!I$3*EXP(A!I$4*B274)","v":175.96642975218845},{"$f":"IF((A!J$2+A!J$3*B274)<A!J$4,A!J$2+A!J$3*B274,A!J$4)","v":169.99984713439568},{"$f":"IF(B274<A!K$4,A!K$2+A!K$3*(3*B274/(2*A!K$4)-0.5*(B274/A!K$4)^3),A!K$3+A!K$2)","v":170.74995902573716},{"$f":"(C274*B$45+'C'!D274*C$45+'C'!E274*D$45+'C'!F274*E$45+'C'!G274*F$45)/SUM(B$45:F$45)","v":170.58852831418699}]
[454,254.24054652346399,{"$f":"A!G$2+A!G$3*B275+A!G$4*B275^2","v":169.70392798317079},{"$f":"IF(B275<(A!H$3/(-2*A!H$4)),A!H$2+A!H$3*B275+A!H$4*B275^2,A!H$2+A!H$3*(A!H$3/(-2*A!H$4))+A!H$3*A!H$3/(4*A!H$4))","v":171.80864913623245},{"$f":"A!I$2+A!I$3*EXP(A!I$4*B275)","v":175.96642975218845},{"$f":"IF((A!J$2+A!J$3*B275)<A!J$4,A!J$2+A!J$3*B275,A!J$4)","v":169.99984713439568},{"$f":"IF(B275<A!K$4,A!K$2+A!K$3*(3*B275/(2*A!K$4)-0.5*(B275/A!K$4)^3),A!K$3+A!K$2)","v":170.74995902573716},{"$f":"(C275*B$45+'C'!D275*C$45+'C'!E275*D$45+'C'!F275*E$45+'C'!G275*F$45)/SUM(B$45:F$45)","v":170.58852831418699}]
[456,254.24054652346399,{"$f":"A!G$2+A!G$3*B276+A!G$4*B276^2","v":169.70392798317079},{"$f":"IF(B276<(A!H$3/(-2*A!H$4)),A!H$2+A!H$3*B276+A!H$4*B276^2,A!H$2+A!H$3*(A!H$3/(-2*A!H$4))+A!H$3*A!H$3/(4*A!H$4))","v":171.80864913623245},{"$f":"A!I$2+A!I$3*EXP(A!I$4*B276)","v":175.96642975218845},{"$f":"IF((A!J$2+A!J$3*B276)<A!J$4,A!J$2+A!J$3*B276,A!J$4)","v":169.99984713439568},{"$f":"IF(B276<A!K$4,A!K$2+A!K$3*(3*B276/(2*A!K$4)-0.5*(B276/A!K$4)^3),A!K$3+A!K$2)","v":170.74995902573716},{"$f":"(C276*B$45+'C'!D276*C$45+'C'!E276*D$45+'C'!F276*E$45+'C'!G276*F$45)/SUM(B$45:F$45)","v":170.58852831418699}]
[458,254.24054652346399,{"$f":"A!G$2+A!G$3*B277+A!G$4*B277^2","v":169.70392798317079},{"$f":"IF(B277<(A!H$3/(-2*A!H$4)),A!H$2+A!H$3*B277+A!H$4*B277^2,A!H$2+A!H$3*(A!H$3/(-2*A!H$4))+A!H$3*A!H$3/(4*A!H$4))","v":171.80864913623245},{"$f":"A!I$2+A!I$3*EXP(A!I$4*B277)","v":175.96642975218845},{"$f":"IF((A!J$2+A!J$3*B277)<A!J$4,A!J$2+A!J$3*B277,A!J$4)","v":169.99984713439568},{"$f":"IF(B277<A!K$4,A!K$2+A!K$3*(3*B277/(2*A!K$4)-0.5*(B277/A!K$4)^3),A!K$3+A!K$2)","v":170.74995902573716},{"$f":"(C277*B$45+'C'!D277*C$45+'C'!E277*D$45+'C'!F277*E$45+'C'!G277*F$45)/SUM(B$45:F$45)","v":170.58852831418699}]
[460,254.24054652346399,{"$f":"A!G$2+A!G$3*B278+A!G$4*B278^2","v":169.70392798317079},{"$f":"IF(B278<(A!H$3/(-2*A!H$4)),A!H$2+A!H$3*B278+A!H$4*B278^2,A!H$2+A!H$3*(A!H$3/(-2*A!H$4))+A!H$3*A!H$3/(4*A!H$4))","v":171.80864913623245},{"$f":"A!I$2+A!I$3*EXP(A!I$4*B278)","v":175.96642975218845},{"$f":"IF((A!J$2+A!J$3*B278)<A!J$4,A!J$2+A!J$3*B278,A!J$4)","v":169.99984713439568},{"$f":"IF(B278<A!K$4,A!K$2+A!K$3*(3*B278/(2*A!K$4)-0.5*(B278/A!K$4)^3),A!K$3+A!K$2)","v":170.74995902573716},{"$f":"(C278*B$45+'C'!D278*C$45+'C'!E278*D$45+'C'!F278*E$45+'C'!G278*F$45)/SUM(B$45:F$45)","v":170.58852831418699}]
[462,254.24054652346399,{"$f":"A!G$2+A!G$3*B279+A!G$4*B279^2","v":169.70392798317079},{"$f":"IF(B279<(A!H$3/(-2*A!H$4)),A!H$2+A!H$3*B279+A!H$4*B279^2,A!H$2+A!H$3*(A!H$3/(-2*A!H$4))+A!H$3*A!H$3/(4*A!H$4))","v":171.80864913623245},{"$f":"A!I$2+A!I$3*EXP(A!I$4*B279)","v":175.96642975218845},{"$f":"IF((A!J$2+A!J$3*B279)<A!J$4,A!J$2+A!J$3*B279,A!J$4)","v":169.99984713439568},{"$f":"IF(B279<A!K$4,A!K$2+A!K$3*(3*B279/(2*A!K$4)-0.5*(B279/A!K$4)^3),A!K$3+A!K$2)","v":170.74995902573716},{"$f":"(C279*B$45+'C'!D279*C$45+'C'!E279*D$45+'C'!F279*E$45+'C'!G279*F$45)/SUM(B$45:F$45)","v":170.58852831418699}]
[464,254.24054652346399,{"$f":"A!G$2+A!G$3*B280+A!G$4*B280^2","v":169.70392798317079},{"$f":"IF(B280<(A!H$3/(-2*A!H$4)),A!H$2+A!H$3*B280+A!H$4*B280^2,A!H$2+A!H$3*(A!H$3/(-2*A!H$4))+A!H$3*A!H$3/(4*A!H$4))","v":171.80864913623245},{"$f":"A!I$2+A!I$3*EXP(A!I$4*B280)","v":175.96642975218845},{"$f":"IF((A!J$2+A!J$3*B280)<A!J$4,A!J$2+A!J$3*B280,A!J$4)","v":169.99984713439568},{"$f":"IF(B280<A!K$4,A!K$2+A!K$3*(3*B280/(2*A!K$4)-0.5*(B280/A!K$4)^3),A!K$3+A!K$2)","v":170.74995902573716},{"$f":"(C280*B$45+'C'!D280*C$45+'C'!E280*D$45+'C'!F280*E$45+'C'!G280*F$45)/SUM(B$45:F$45)","v":170.58852831418699}]
[466,254.24054652346399,{"$f":"A!G$2+A!G$3*B281+A!G$4*B281^2","v":169.70392798317079},{"$f":"IF(B281<(A!H$3/(-2*A!H$4)),A!H$2+A!H$3*B281+A!H$4*B281^2,A!H$2+A!H$3*(A!H$3/(-2*A!H$4))+A!H$3*A!H$3/(4*A!H$4))","v":171.80864913623245},{"$f":"A!I$2+A!I$3*EXP(A!I$4*B281)","v":175.96642975218845},{"$f":"IF((A!J$2+A!J$3*B281)<A!J$4,A!J$2+A!J$3*B281,A!J$4)","v":169.99984713439568},{"$f":"IF(B281<A!K$4,A!K$2+A!K$3*(3*B281/(2*A!K$4)-0.5*(B281/A!K$4)^3),A!K$3+A!K$2)","v":170.74995902573716},{"$f":"(C281*B$45+'C'!D281*C$45+'C'!E281*D$45+'C'!F281*E$45+'C'!G281*F$45)/SUM(B$45:F$45)","v":170.58852831418699}]
[468,254.24054652346399,{"$f":"A!G$2+A!G$3*B282+A!G$4*B282^2","v":169.70392798317079},{"$f":"IF(B282<(A!H$3/(-2*A!H$4)),A!H$2+A!H$3*B282+A!H$4*B282^2,A!H$2+A!H$3*(A!H$3/(-2*A!H$4))+A!H$3*A!H$3/(4*A!H$4))","v":171.80864913623245},{"$f":"A!I$2+A!I$3*EXP(A!I$4*B282)","v":175.96642975218845},{"$f":"IF((A!J$2+A!J$3*B282)<A!J$4,A!J$2+A!J$3*B282,A!J$4)","v":169.99984713439568},{"$f":"IF(B282<A!K$4,A!K$2+A!K$3*(3*B282/(2*A!K$4)-0.5*(B282/A!K$4)^3),A!K$3+A!K$2)","v":170.74995902573716},{"$f":"(C282*B$45+'C'!D282*C$45+'C'!E282*D$45+'C'!F282*E$45+'C'!G282*F$45)/SUM(B$45:F$45)","v":170.58852831418699}]
[470,254.24054652346399,{"$f":"A!G$2+A!G$3*B283+A!G$4*B283^2","v":169.70392798317079},{"$f":"IF(B283<(A!H$3/(-2*A!H$4)),A!H$2+A!H$3*B283+A!H$4*B283^2,A!H$2+A!H$3*(A!H$3/(-2*A!H$4))+A!H$3*A!H$3/(4*A!H$4))","v":171.80864913623245},{"$f":"A!I$2+A!I$3*EXP(A!I$4*B283)","v":175.96642975218845},{"$f":"IF((A!J$2+A!J$3*B283)<A!J$4,A!J$2+A!J$3*B283,A!J$4)","v":169.99984713439568},{"$f":"IF(B283<A!K$4,A!K$2+A!K$3*(3*B283/(2*A!K$4)-0.5*(B283/A!K$4)^3),A!K$3+A!K$2)","v":170.74995902573716},{"$f":"(C283*B$45+'C'!D283*C$45+'C'!E283*D$45+'C'!F283*E$45+'C'!G283*F$45)/SUM(B$45:F$45)","v":170.58852831418699}]
[472,254.24054652346399,{"$f":"A!G$2+A!G$3*B284+A!G$4*B284^2","v":169.70392798317079},{"$f":"IF(B284<(A!H$3/(-2*A!H$4)),A!H$2+A!H$3*B284+A!H$4*B284^2,A!H$2+A!H$3*(A!H$3/(-2*A!H$4))+A!H$3*A!H$3/(4*A!H$4))","v":171.80864913623245},{"$f":"A!I$2+A!I$3*EXP(A!I$4*B284)","v":175.96642975218845},{"$f":"IF((A!J$2+A!J$3*B284)<A!J$4,A!J$2+A!J$3*B284,A!J$4)","v":169.99984713439568},{"$f":"IF(B284<A!K$4,A!K$2+A!K$3*(3*B284/(2*A!K$4)-0.5*(B284/A!K$4)^3),A!K$3+A!K$2)","v":170.74995902573716},{"$f":"(C284*B$45+'C'!D284*C$45+'C'!E284*D$45+'C'!F284*E$45+'C'!G284*F$45)/SUM(B$45:F$45)","v":170.58852831418699}]
[474,254.24054652346399,{"$f":"A!G$2+A!G$3*B285+A!G$4*B285^2","v":169.70392798317079},{"$f":"IF(B285<(A!H$3/(-2*A!H$4)),A!H$2+A!H$3*B285+A!H$4*B285^2,A!H$2+A!H$3*(A!H$3/(-2*A!H$4))+A!H$3*A!H$3/(4*A!H$4))","v":171.80864913623245},{"$f":"A!I$2+A!I$3*EXP(A!I$4*B285)","v":175.96642975218845},{"$f":"IF((A!J$2+A!J$3*B285)<A!J$4,A!J$2+A!J$3*B285,A!J$4)","v":169.99984713439568},{"$f":"IF(B285<A!K$4,A!K$2+A!K$3*(3*B285/(2*A!K$4)-0.5*(B285/A!K$4)^3),A!K$3+A!K$2)","v":170.74995902573716},{"$f":"(C285*B$45+'C'!D285*C$45+'C'!E285*D$45+'C'!F285*E$45+'C'!G285*F$45)/SUM(B$45:F$45)","v":170.58852831418699}]
[476,254.24054652346399,{"$f":"A!G$2+A!G$3*B286+A!G$4*B286^2","v":169.70392798317079},{"$f":"IF(B286<(A!H$3/(-2*A!H$4)),A!H$2+A!H$3*B286+A!H$4*B286^2,A!H$2+A!H$3*(A!H$3/(-2*A!H$4))+A!H$3*A!H$3/(4*A!H$4))","v":171.80864913623245},{"$f":"A!I$2+A!I$3*EXP(A!I$4*B286)","v":175.96642975218845},{"$f":"IF((A!J$2+A!J$3*B286)<A!J$4,A!J$2+A!J$3*B286,A!J$4)","v":169.99984713439568},{"$f":"IF(B286<A!K$4,A!K$2+A!K$3*(3*B286/(2*A!K$4)-0.5*(B286/A!K$4)^3),A!K$3+A!K$2)","v":170.74995902573716},{"$f":"(C286*B$45+'C'!D286*C$45+'C'!E286*D$45+'C'!F286*E$45+'C'!G286*F$45)/SUM(B$45:F$45)","v":170.58852831418699}]
[478,254.24054652346399,{"$f":"A!G$2+A!G$3*B287+A!G$4*B287^2","v":169.70392798317079},{"$f":"IF(B287<(A!H$3/(-2*A!H$4)),A!H$2+A!H$3*B287+A!H$4*B287^2,A!H$2+A!H$3*(A!H$3/(-2*A!H$4))+A!H$3*A!H$3/(4*A!H$4))","v":171.80864913623245},{"$f":"A!I$2+A!I$3*EXP(A!I$4*B287)","v":175.96642975218845},{"$f":"IF((A!J$2+A!J$3*B287)<A!J$4,A!J$2+A!J$3*B287,A!J$4)","v":169.99984713439568},{"$f":"IF(B287<A!K$4,A!K$2+A!K$3*(3*B287/(2*A!K$4)-0.5*(B287/A!K$4)^3),A!K$3+A!K$2)","v":170.74995902573716},{"$f":"(C287*B$45+'C'!D287*C$45+'C'!E287*D$45+'C'!F287*E$45+'C'!G287*F$45)/SUM(B$45:F$45)","v":170.58852831418699}]
[480,254.24054652346399,{"$f":"A!G$2+A!G$3*B288+A!G$4*B288^2","v":169.70392798317079},{"$f":"IF(B288<(A!H$3/(-2*A!H$4)),A!H$2+A!H$3*B288+A!H$4*B288^2,A!H$2+A!H$3*(A!H$3/(-2*A!H$4))+A!H$3*A!H$3/(4*A!H$4))","v":171.80864913623245},{"$f":"A!I$2+A!I$3*EXP(A!I$4*B288)","v":175.96642975218845},{"$f":"IF((A!J$2+A!J$3*B288)<A!J$4,A!J$2+A!J$3*B288,A!J$4)","v":169.99984713439568},{"$f":"IF(B288<A!K$4,A!K$2+A!K$3*(3*B288/(2*A!K$4)-0.5*(B288/A!K$4)^3),A!K$3+A!K$2)","v":170.74995902573716},{"$f":"(C288*B$45+'C'!D288*C$45+'C'!E288*D$45+'C'!F288*E$45+'C'!G288*F$45)/SUM(B$45:F$45)","v":170.58852831418699}]
[482,254.24054652346399,{"$f":"A!G$2+A!G$3*B289+A!G$4*B289^2","v":169.70392798317079},{"$f":"IF(B289<(A!H$3/(-2*A!H$4)),A!H$2+A!H$3*B289+A!H$4*B289^2,A!H$2+A!H$3*(A!H$3/(-2*A!H$4))+A!H$3*A!H$3/(4*A!H$4))","v":171.80864913623245},{"$f":"A!I$2+A!I$3*EXP(A!I$4*B289)","v":175.96642975218845},{"$f":"IF((A!J$2+A!J$3*B289)<A!J$4,A!J$2+A!J$3*B289,A!J$4)","v":169.99984713439568},{"$f":"IF(B289<A!K$4,A!K$2+A!K$3*(3*B289/(2*A!K$4)-0.5*(B289/A!K$4)^3),A!K$3+A!K$2)","v":170.74995902573716},{"$f":"(C289*B$45+'C'!D289*C$45+'C'!E289*D$45+'C'!F289*E$45+'C'!G289*F$45)/SUM(B$45:F$45)","v":170.58852831418699}]
[484,254.24054652346399,{"$f":"A!G$2+A!G$3*B290+A!G$4*B290^2","v":169.70392798317079},{"$f":"IF(B290<(A!H$3/(-2*A!H$4)),A!H$2+A!H$3*B290+A!H$4*B290^2,A!H$2+A!H$3*(A!H$3/(-2*A!H$4))+A!H$3*A!H$3/(4*A!H$4))","v":171.80864913623245},{"$f":"A!I$2+A!I$3*EXP(A!I$4*B290)","v":175.96642975218845},{"$f":"IF((A!J$2+A!J$3*B290)<A!J$4,A!J$2+A!J$3*B290,A!J$4)","v":169.99984713439568},{"$f":"IF(B290<A!K$4,A!K$2+A!K$3*(3*B290/(2*A!K$4)-0.5*(B290/A!K$4)^3),A!K$3+A!K$2)","v":170.74995902573716},{"$f":"(C290*B$45+'C'!D290*C$45+'C'!E290*D$45+'C'!F290*E$45+'C'!G290*F$45)/SUM(B$45:F$45)","v":170.58852831418699}]
[486,254.24054652346399,{"$f":"A!G$2+A!G$3*B291+A!G$4*B291^2","v":169.70392798317079},{"$f":"IF(B291<(A!H$3/(-2*A!H$4)),A!H$2+A!H$3*B291+A!H$4*B291^2,A!H$2+A!H$3*(A!H$3/(-2*A!H$4))+A!H$3*A!H$3/(4*A!H$4))","v":171.80864913623245},{"$f":"A!I$2+A!I$3*EXP(A!I$4*B291)","v":175.96642975218845},{"$f":"IF((A!J$2+A!J$3*B291)<A!J$4,A!J$2+A!J$3*B291,A!J$4)","v":169.99984713439568},{"$f":"IF(B291<A!K$4,A!K$2+A!K$3*(3*B291/(2*A!K$4)-0.5*(B291/A!K$4)^3),A!K$3+A!K$2)","v":170.74995902573716},{"$f":"(C291*B$45+'C'!D291*C$45+'C'!E291*D$45+'C'!F291*E$45+'C'!G291*F$45)/SUM(B$45:F$45)","v":170.58852831418699}]
[488,254.24054652346399,{"$f":"A!G$2+A!G$3*B292+A!G$4*B292^2","v":169.70392798317079},{"$f":"IF(B292<(A!H$3/(-2*A!H$4)),A!H$2+A!H$3*B292+A!H$4*B292^2,A!H$2+A!H$3*(A!H$3/(-2*A!H$4))+A!H$3*A!H$3/(4*A!H$4))","v":171.80864913623245},{"$f":"A!I$2+A!I$3*EXP(A!I$4*B292)","v":175.96642975218845},{"$f":"IF((A!J$2+A!J$3*B292)<A!J$4,A!J$2+A!J$3*B292,A!J$4)","v":169.99984713439568},{"$f":"IF(B292<A!K$4,A!K$2+A!K$3*(3*B292/(2*A!K$4)-0.5*(B292/A!K$4)^3),A!K$3+A!K$2)","v":170.74995902573716},{"$f":"(C292*B$45+'C'!D292*C$45+'C'!E292*D$45+'C'!F292*E$45+'C'!G292*F$45)/SUM(B$45:F$45)","v":170.58852831418699}]
[490,254.24054652346399,{"$f":"A!G$2+A!G$3*B293+A!G$4*B293^2","v":169.70392798317079},{"$f":"IF(B293<(A!H$3/(-2*A!H$4)),A!H$2+A!H$3*B293+A!H$4*B293^2,A!H$2+A!H$3*(A!H$3/(-2*A!H$4))+A!H$3*A!H$3/(4*A!H$4))","v":171.80864913623245},{"$f":"A!I$2+A!I$3*EXP(A!I$4*B293)","v":175.96642975218845},{"$f":"IF((A!J$2+A!J$3*B293)<A!J$4,A!J$2+A!J$3*B293,A!J$4)","v":169.99984713439568},{"$f":"IF(B293<A!K$4,A!K$2+A!K$3*(3*B293/(2*A!K$4)-0.5*(B293/A!K$4)^3),A!K$3+A!K$2)","v":170.74995902573716},{"$f":"(C293*B$45+'C'!D293*C$45+'C'!E293*D$45+'C'!F293*E$45+'C'!G293*F$45)/SUM(B$45:F$45)","v":170.58852831418699}]
[492,254.24054652346399,{"$f":"A!G$2+A!G$3*B294+A!G$4*B294^2","v":169.70392798317079},{"$f":"IF(B294<(A!H$3/(-2*A!H$4)),A!H$2+A!H$3*B294+A!H$4*B294^2,A!H$2+A!H$3*(A!H$3/(-2*A!H$4))+A!H$3*A!H$3/(4*A!H$4))","v":171.80864913623245},{"$f":"A!I$2+A!I$3*EXP(A!I$4*B294)","v":175.96642975218845},{"$f":"IF((A!J$2+A!J$3*B294)<A!J$4,A!J$2+A!J$3*B294,A!J$4)","v":169.99984713439568},{"$f":"IF(B294<A!K$4,A!K$2+A!K$3*(3*B294/(2*A!K$4)-0.5*(B294/A!K$4)^3),A!K$3+A!K$2)","v":170.74995902573716},{"$f":"(C294*B$45+'C'!D294*C$45+'C'!E294*D$45+'C'!F294*E$45+'C'!G294*F$45)/SUM(B$45:F$45)","v":170.58852831418699}]
[494,254.24054652346399,{"$f":"A!G$2+A!G$3*B295+A!G$4*B295^2","v":169.70392798317079},{"$f":"IF(B295<(A!H$3/(-2*A!H$4)),A!H$2+A!H$3*B295+A!H$4*B295^2,A!H$2+A!H$3*(A!H$3/(-2*A!H$4))+A!H$3*A!H$3/(4*A!H$4))","v":171.80864913623245},{"$f":"A!I$2+A!I$3*EXP(A!I$4*B295)","v":175.96642975218845},{"$f":"IF((A!J$2+A!J$3*B295)<A!J$4,A!J$2+A!J$3*B295,A!J$4)","v":169.99984713439568},{"$f":"IF(B295<A!K$4,A!K$2+A!K$3*(3*B295/(2*A!K$4)-0.5*(B295/A!K$4)^3),A!K$3+A!K$2)","v":170.74995902573716},{"$f":"(C295*B$45+'C'!D295*C$45+'C'!E295*D$45+'C'!F295*E$45+'C'!G295*F$45)/SUM(B$45:F$45)","v":170.58852831418699}]
[496,254.24054652346399,{"$f":"A!G$2+A!G$3*B296+A!G$4*B296^2","v":169.70392798317079},{"$f":"IF(B296<(A!H$3/(-2*A!H$4)),A!H$2+A!H$3*B296+A!H$4*B296^2,A!H$2+A!H$3*(A!H$3/(-2*A!H$4))+A!H$3*A!H$3/(4*A!H$4))","v":171.80864913623245},{"$f":"A!I$2+A!I$3*EXP(A!I$4*B296)","v":175.96642975218845},{"$f":"IF((A!J$2+A!J$3*B296)<A!J$4,A!J$2+A!J$3*B296,A!J$4)","v":169.99984713439568},{"$f":"IF(B296<A!K$4,A!K$2+A!K$3*(3*B296/(2*A!K$4)-0.5*(B296/A!K$4)^3),A!K$3+A!K$2)","v":170.74995902573716},{"$f":"(C296*B$45+'C'!D296*C$45+'C'!E296*D$45+'C'!F296*E$45+'C'!G296*F$45)/SUM(B$45:F$45)","v":170.58852831418699}]
[498,254.24054652346399,{"$f":"A!G$2+A!G$3*B297+A!G$4*B297^2","v":169.70392798317079},{"$f":"IF(B297<(A!H$3/(-2*A!H$4)),A!H$2+A!H$3*B297+A!H$4*B297^2,A!H$2+A!H$3*(A!H$3/(-2*A!H$4))+A!H$3*A!H$3/(4*A!H$4))","v":171.80864913623245},{"$f":"A!I$2+A!I$3*EXP(A!I$4*B297)","v":175.96642975218845},{"$f":"IF((A!J$2+A!J$3*B297)<A!J$4,A!J$2+A!J$3*B297,A!J$4)","v":169.99984713439568},{"$f":"IF(B297<A!K$4,A!K$2+A!K$3*(3*B297/(2*A!K$4)-0.5*(B297/A!K$4)^3),A!K$3+A!K$2)","v":170.74995902573716},{"$f":"(C297*B$45+'C'!D297*C$45+'C'!E297*D$45+'C'!F297*E$45+'C'!G297*F$45)/SUM(B$45:F$45)","v":170.58852831418699}]
[500,254.24054652346399,{"$f":"A!G$2+A!G$3*B298+A!G$4*B298^2","v":169.70392798317079},{"$f":"IF(B298<(A!H$3/(-2*A!H$4)),A!H$2+A!H$3*B298+A!H$4*B298^2,A!H$2+A!H$3*(A!H$3/(-2*A!H$4))+A!H$3*A!H$3/(4*A!H$4))","v":171.80864913623245},{"$f":"A!I$2+A!I$3*EXP(A!I$4*B298)","v":175.96642975218845},{"$f":"IF((A!J$2+A!J$3*B298)<A!J$4,A!J$2+A!J$3*B298,A!J$4)","v":169.99984713439568},{"$f":"IF(B298<A!K$4,A!K$2+A!K$3*(3*B298/(2*A!K$4)-0.5*(B298/A!K$4)^3),A!K$3+A!K$2)","v":170.74995902573716},{"$f":"(C298*B$45+'C'!D298*C$45+'C'!E298*D$45+'C'!F298*E$45+'C'!G298*F$45)/SUM(B$45:F$45)","v":170.58852831418699}]

{"sheet":"D","index":5,"n_rows":298,"n_cols":25,"rows_kept":298,"cut":false,"hidden":false,"merged":[[13,18,13,22],[0,11,2,23],[2,1,2,5],[2,6,2,10],[5,13,5,17],[5,18,5,22]]}
["Calculations worksheet - do not enter data here"]
[]
[null,"Predicted Curve Values",null,null,null,null,"Squared differences predicted less observed"]
["Obs","Q","QP","M","LP","S ","Q","QP","M","LP","S ",null,"Technical"]
[1,{"$f":"IF(ISNUMBER(B!C5),B!G$2+B!G$3*B!C5+B!G$4*B!C5^2,\"\")","v":74.022463707304553},{"$f":"IF(ISNUMBER(B!C5),IF(B!C5<(B!H$3/(-2*B!H$4)),B!H$2+B!H$3*B!C5+B!H$4*B!C5^2,B!H$2+B!H$3*(B!H$3/(-2*B!H$4))+B!H$4*(B!H$3/(-2*B!H$4))^2),\"\")","v":73.622648669414204},{"$f":"IF(ISNUMBER(B!C5),B!I$2+B!I$3*EXP(B!I$4*B!C5),\"\")","v":71.683762888274828},{"$f":"IF(ISNUMBER(B!C5),IF((B!J$2+B!J$3*B!C5)<B!J$4,B!J$2+B!J$3*B!C5,B!J$4),\"\")","v":77.499943281723219},{"$f":"IF(ISNUMBER(B!C5),IF(B!C5<B!K$4,B!K$2+B!K$3*(3*B!C5/(2*B!K$4)-0.5*(B!C5/B!K$4)^3),B!K$3+B!K$2),\"\")","v":75.45471336981025},{"$f":"IF(ISNUMBER(B!$C5),(B5-B!$D5)^2,\"\")","v":0.95557720353675901},{"$f":"IF(ISNUMBER(B!$C5),(C5-B!$D5)^2,\"\")","v":1.8970966878664628},{"$f":"IF(ISNUMBER(B!$C5),(D5-B!$D5)^2,\"\")","v":10.997428581183312},{"$f":"IF(ISNUMBER(B!$C5),(E5-B!$D5)^2,\"\")","v":6.2497164118330577},{"$f":"IF(ISNUMBER(B!$C5),(F5-B!$D5)^2,\"\")","v":0.20676424868419307},null,null,"Constraints:"]
[{"$f":"A5+1","v":2},{"$f":"IF(ISNUMBER(B!C6),B!G$2+B!G$3*B!C6+B!G$4*B!C6^2,\"\")","v":106.5300941455084},{"$f":"IF(ISNUMBER(B!C6),IF(B!C6<(B!H$3/(-2*B!H$4)),B!H$2+B!H$3*B!C6+B!H$4*B!C6^2,B!H$2+B!H$3*(B!H$3/(-2*B!H$4))+B!H$4*(B!H$3/(-2*B!H$4))^2),\"\")","v":106.76452332804266},{"$f":"IF(ISNUMBER(B!C6),B!I$2+B!I$3*EXP(B!I$4*B!C6),\"\")","v":110.90645209636601},{"$f":"IF(ISNUMBER(B!C6),IF((B!J$2+B!J$3*B!C6)<B!J$4,B!J$2+B!J$3*B!C6,B!J$4),\"\")","v":102.49994989932536},{"$f":"IF(ISNUMBER(B!C6),IF(B!C6<B!K$4,B!K$2+B!K$3*(3*B!C6/(2*B!K$4)-0.5*(B!C6/B!K$4)^3),B!K$3+B!K$2),\"\")","v":104.34489262806039},{"$f":"IF(ISNUMBER(B!$C6),(B6-B!$D6)^2,\"\")","v":2.3411880941190808},{"$f":"IF(ISNUMBER(B!$C6),(C6-B!$D6)^2,\"\")","v":3.1135425752067327},{"$f":"IF(ISNUMBER(B!$C6),(D6-B!$D6)^2,\"\")","v":34.886176366666433},{"$f":"IF(ISNUMBER(B!$C6),(E6-B!$D6)^2,\"\")","v":6.2502505058832867},{"$f":"IF(ISNUMBER(B!$C6),(F6-B!$D6)^2,\"\")","v":0.42916566876961887},null,null,"Maximum",null,null,null,null,"Minimum",null,null,null,null,"Fitting"]
[{"$f":"A6+1","v":3},{"$f":"IF(ISNUMBER(B!C7),B!G$2+B!G$3*B!C7+B!G$4*B!C7^2,\"\")","v":155.91536611223998},{"$f":"IF(ISNUMBER(B!C7),IF(B!C7<(B!H$3/(-2*B!H$4)),B!H$2+B!H$3*B!C7+B!H$4*B!C7^2,B!H$2+B!H$3*(B!H$3/(-2*B!H$4))+B!H$4*(B!H$3/(-2*B!H$4))^2),\"\")","v":156.50963921700571},{"$f":"IF(ISNUMBER(B!C7),B!I$2+B!I$3*EXP(B!I$4*B!C7),\"\")","v":157.56359362970593},{"$f":"IF(ISNUMBER(B!C7),IF((B!J$2+B!J$3*B!C7)<B!J$4,B!J$2+B!J$3*B!C7,B!J$4),\"\")","v":152.49996313452965},{"$f":"IF(ISNUMBER(B!C7),IF(B!C7<B!K$4,B!K$2+B!K$3*(3*B!C7/(2*B!K$4)-0.5*(B!C7/B!K$4)^3),B!K$3+B!K$2),\"\")","v":155.37866734283739},{"$f":"IF(ISNUMBER(B!$C7),(B7-B!$D7)^2,\"\")","v":0.83789511943733508},{"$f":"IF(ISNUMBER(B!$C7),(C7-B!$D7)^2,\"\")","v":2.279010565521622},{"$f":"IF(ISNUMBER(B!$C7),(D7-B!$D7)^2,\"\")","v":6.5720122982688478},{"$f":"IF(ISNUMBER(B!$C7),(E7-B!$D7)^2,\"\")","v":6.2501843287108096},{"$f":"IF(ISNUMBER(B!$C7),(F7-B!$D7)^2,\"\")","v":0.14338895653152853},null,null,"Q","QP","M","LP","S ","Q","QP","M","LP","S ","Tolerance"]
[4,{"$f":"IF(ISNUMBER(B!C8),B!G$2+B!G$3*B!C8+B!G$4*B!C8^2,\"\")","v":172.79300764076768},{"$f":"IF(ISNUMBER(B!C8),IF(B!C8<(B!H$3/(-2*B!H$4)),B!H$2+B!H$3*B!C8+B!H$4*B!C8^2,B!H$2+B!H$3*(B!H$3/(-2*B!H$4))+B!H$4*(B!H$3/(-2*B!H$4))^2),\"\")","v":173.11288044734039},{"$f":"IF(ISNUMBER(B!C8),B!I$2+B!I$3*EXP(B!I$4*B!C8),\"\")","v":171.00603972064209},{"$f":"IF(ISNUMBER(B!C8),IF((B!J$2+B!J$3*B!C8)<B!J$4,B!J$2+B!J$3*B!C8,B!J$4),\"\")","v":177.49996975213179},{"$f":"IF(ISNUMBER(B!C8),IF(B!C8<B!K$4,B!K$2+B!K$3*(3*B!C8/(2*B!K$4)-0.5*(B!C8/B!K$4)^3),B!K$3+B!K$2),\"\")","v":174.14897089850257},{"$f":"IF(ISNUMBER(B!$C8),(B8-B!$D8)^2,\"\")","v":4.8708152737098258},{"$f":"IF(ISNUMBER(B!$C8),(C8-B!$D8)^2,\"\")","v":3.5612202060302161},{"$f":"IF(ISNUMBER(B!$C8),(D8-B!$D8)^2,\"\")","v":15.95171871308869},{"$f":"IF(ISNUMBER(B!$C8),(E8-B!$D8)^2,\"\")","v":6.2498487615738831},{"$f":"IF(ISNUMBER(B!$C8),(F8-B!$D8)^2,\"\")","v":0.72425053159552533},null,"A",{"$f":"(1+X8)*MIN(B!D5:D44)","v":112.5},{"$f":"N8","v":112.5},{"$f":"(1+X8)*MAX(B!D5:D44)","v":286.5},{"$f":"N8","v":112.5},{"$f":"N8","v":112.5},{"$f":"MAX((1-X8)*MIN(B!D5:D44)-(1+X8)*MIN(B!C5:C44)*(1/O20),0.5*MIN(B!D5:D44))","v":37.5},{"$f":"S8","v":37.5},{"$f":"(1-X8)*MAX(B!D5:D44)","v":95.5},{"$f":"S8","v":37.5},{"$f":"S8","v":37.5},0.5]
[5,{"$f":"IF(ISNUMBER(B!C9),B!G$2+B!G$3*B!C9+B!G$4*B!C9^2,\"\")","v":184.46065286607003},{"$f":"IF(ISNUMBER(B!C9),IF(B!C9<(B!H$3/(-2*B!H$4)),B!H$2+B!H$3*B!C9+B!H$4*B!C9^2,B!H$2+B!H$3*(B!H$3/(-2*B!H$4))+B!H$4*(B!H$3/(-2*B!H$4))^2),\"\")","v":184.2032438682437},{"$f":"IF(ISNUMBER(B!C9),B!I$2+B!I$3*EXP(B!I$4*B!C9),\"\")","v":180.41320156239306},{"$f":"IF(ISNUMBER(B!C9),IF((B!J$2+B!J$3*B!C9)<B!J$4,B!J$2+B!J$3*B!C9,B!J$4),\"\")","v":188.75000559732251},{"$f":"IF(ISNUMBER(B!C9),IF(B!C9<B!K$4,B!K$2+B!K$3*(3*B!C9/(2*B!K$4)-0.5*(B!C9/B!K$4)^3),B!K$3+B!K$2),\"\")","v":186.1726906524444},{"$f":"IF(ISNUMBER(B!$C9),(B9-B!$D9)^2,\"\")","v":0.29089533087846775},{"$f":"IF(ISNUMBER(B!$C9),(C9-B!$D9)^2,\"\")","v":0.63482033349125733},{"$f":"IF(ISNUMBER(B!$C9),(D9-B!$D9)^2,\"\")","v":21.038719907233506},{"$f":"IF(ISNUMBER(B!$C9),(E9-B!$D9)^2,\"\")","v":14.062541979950177},{"$f":"IF(ISNUMBER(B!$C9),(F9-B!$D9)^2,\"\")","v":1.3752033663304768},null,"B",{"$f":"O21*(1+X9)/O20","v":1.5369230769230771},{"$f":"N9","v":1.5369230769230771},{"$f":"MIN(-0.0000001,N8-U8)","v":-9.9999999999999995E-8},{"$f":"O21*(1+0.5*X9)/O20","v":1.2807692307692307},{"$f":"-1*U9","v":153.5},0,0,{"$f":"S8-Q10","v":-153.5},{"$f":"S9","v":0},{"$f":"-1*P9","v":9.9999999999999995E-8},0.5]
[6,{"$f":"IF(ISNUMBER(B!C10),B!G$2+B!G$3*B!C10+B!G$4*B!C10^2,\"\")","v":190.91830178814701},{"$f":"IF(ISNUMBER(B!C10),IF(B!C10<(B!H$3/(-2*B!H$4)),B!H$2+B!H$3*B!C10+B!H$4*B!C10^2,B!H$2+B!H$3*(B!H$3/(-2*B!H$4))+B!H$4*(B!H$3/(-2*B!H$4))^2),\"\")","v":189.78072947971577},{"$f":"IF(ISNUMBER(B!C10),B!I$2+B!I$3*EXP(B!I$4*B!C10),\"\")","v":186.99643004017474},{"$f":"IF(ISNUMBER(B!C10),IF((B!J$2+B!J$3*B!C10)<B!J$4,B!J$2+B!J$3*B!C10,B!J$4),\"\")","v":188.75000559732251},{"$f":"IF(ISNUMBER(B!C10),IF(B!C10<B!K$4,B!K$2+B!K$3*(3*B!C10/(2*B!K$4)-0.5*(B!C10/B!K$4)^3),B!K$3+B!K$2),\"\")","v":189.83341386770974},{"$f":"IF(ISNUMBER(B!$C10),(B10-B!$D10)^2,\"\")","v":0.84327817411398687},{"$f":"IF(ISNUMBER(B!$C10),(C10-B!$D10)^2,\"\")","v":4.8079561065715266E-2},{"$f":"IF(ISNUMBER(B!$C10),(D10-B!$D10)^2,\"\")","v":9.0214325035646912},{"$f":"IF(ISNUMBER(B!$C10),(E10-B!$D10)^2,\"\")","v":1.5624860067250474},{"$f":"IF(ISNUMBER(B!$C10),(F10-B!$D10)^2,\"\")","v":2.7750939471428961E-2},null,"C",-9.9999999999999995E-8,-9.9999999999999995E-8,-9.9999999999999995E-8,{"$f":"MAX(B!D5:D44)","v":191},{"$f":"M51","v":2285},-1,-1,{"$f":"(O21*(1+X10)/O20)/AVERAGE(P9,U9)","v":-1.7355048848628634E-2},{"$f":"(1-X8)*MAX(B!D5:D44)","v":95.5},0,0.3]
[7,{"$f":"IF(ISNUMBER(B!C11),B!G$2+B!G$3*B!C11+B!G$4*B!C11^2,\"\")","v":192.16595440699854},{"$f":"IF(ISNUMBER(B!C11),IF(B!C11<(B!H$3/(-2*B!H$4)),B!H$2+B!H$3*B!C11+B!H$4*B!C11^2,B!H$2+B!H$3*(B!H$3/(-2*B!H$4))+B!H$4*(B!H$3/(-2*B!H$4))^2),\"\")","v":190.50252169031825},{"$f":"IF(ISNUMBER(B!C11),B!I$2+B!I$3*EXP(B!I$4*B!C11),\"\")","v":191.6034409452416},{"$f":"IF(ISNUMBER(B!C11),IF((B!J$2+B!J$3*B!C11)<B!J$4,B!J$2+B!J$3*B!C11,B!J$4),\"\")","v":188.75000559732251},{"$f":"IF(ISNUMBER(B!C11),IF(B!C11<B!K$4,B!K$2+B!K$3*(3*B!C11/(2*B!K$4)-0.5*(B!C11/B!K$4)^3),B!K$3+B!K$2),\"\")","v":189.83341386770974},{"$f":"IF(ISNUMBER(B!$C11),(B11-B!$D11)^2,\"\")","v":1.3594496791993107},{"$f":"IF(ISNUMBER(B!$C11),(C11-B!$D11)^2,\"\")","v":0.24748466860381435},{"$f":"IF(ISNUMBER(B!$C11),(D11-B!$D11)^2,\"\")","v":0.36414097439407739},{"$f":"IF(ISNUMBER(B!$C11),(E11-B!$D11)^2,\"\")","v":5.0624748120800209},{"$f":"IF(ISNUMBER(B!$C11),(F11-B!$D11)^2,\"\")","v":1.3609232040519548}]
[8,{"$f":"IF(ISNUMBER(B!C12),B!G$2+B!G$3*B!C12+B!G$4*B!C12^2,\"\")","v":188.20361072262477},{"$f":"IF(ISNUMBER(B!C12),IF(B!C12<(B!H$3/(-2*B!H$4)),B!H$2+B!H$3*B!C12+B!H$4*B!C12^2,B!H$2+B!H$3*(B!H$3/(-2*B!H$4))+B!H$4*(B!H$3/(-2*B!H$4))^2),\"\")","v":190.50252169031825},{"$f":"IF(ISNUMBER(B!C12),B!I$2+B!I$3*EXP(B!I$4*B!C12),\"\")","v":194.82747449519928},{"$f":"IF(ISNUMBER(B!C12),IF((B!J$2+B!J$3*B!C12)<B!J$4,B!J$2+B!J$3*B!C12,B!J$4),\"\")","v":188.75000559732251},{"$f":"IF(ISNUMBER(B!C12),IF(B!C12<B!K$4,B!K$2+B!K$3*(3*B!C12/(2*B!K$4)-0.5*(B!C12/B!K$4)^3),B!K$3+B!K$2),\"\")","v":189.83341386770974},{"$f":"IF(ISNUMBER(B!$C12),(B12-B!$D12)^2,\"\")","v":0.63423588111823526},{"$f":"IF(ISNUMBER(B!$C12),(C12-B!$D12)^2,\"\")","v":2.2575714298768017},{"$f":"IF(ISNUMBER(B!$C12),(D12-B!$D12)^2,\"\")","v":33.959458992198137},{"$f":"IF(ISNUMBER(B!$C12),(E12-B!$D12)^2,\"\")","v":6.2497201370073502E-2},{"$f":"IF(ISNUMBER(B!$C12),(F12-B!$D12)^2,\"\")","v":0.69457867489090319}]
[9,{"$f":"IF(ISNUMBER(B!C13),B!G$2+B!G$3*B!C13+B!G$4*B!C13^2,\"\")","v":""},{"$f":"IF(ISNUMBER(B!C13),IF(B!C13<(B!H$3/(-2*B!H$4)),B!H$2+B!H$3*B!C13+B!H$4*B!C13^2,B!H$2+B!H$3*(B!H$3/(-2*B!H$4))+B!H$4*(B!H$3/(-2*B!H$4))^2),\"\")","v":""},{"$f":"IF(ISNUMBER(B!C13),B!I$2+B!I$3*EXP(B!I$4*B!C13),\"\")","v":""},{"$f":"IF(ISNUMBER(B!C13),IF((B!J$2+B!J$3*B!C13)<B!J$4,B!J$2+B!J$3*B!C13,B!J$4),\"\")","v":""},{"$f":"IF(ISNUMBER(B!C13),IF(B!C13<B!K$4,B!K$2+B!K$3*(3*B!C13/(2*B!K$4)-0.5*(B!C13/B!K$4)^3),B!K$3+B!K$2),\"\")","v":""},{"$f":"IF(ISNUMBER(B!$C13),(B13-B!$D13)^2,\"\")","v":""},{"$f":"IF(ISNUMBER(B!$C13),(C13-B!$D13)^2,\"\")","v":""},{"$f":"IF(ISNUMBER(B!$C13),(D13-B!$D13)^2,\"\")","v":""},{"$f":"IF(ISNUMBER(B!$C13),(E13-B!$D13)^2,\"\")","v":""},{"$f":"IF(ISNUMBER(B!$C13),(F13-B!$D13)^2,\"\")","v":""},null,null,"Data for Graph:"]
[10,{"$f":"IF(ISNUMBER(B!C14),B!G$2+B!G$3*B!C14+B!G$4*B!C14^2,\"\")","v":""},{"$f":"IF(ISNUMBER(B!C14),IF(B!C14<(B!H$3/(-2*B!H$4)),B!H$2+B!H$3*B!C14+B!H$4*B!C14^2,B!H$2+B!H$3*(B!H$3/(-2*B!H$4))+B!H$4*(B!H$3/(-2*B!H$4))^2),\"\")","v":""},{"$f":"IF(ISNUMBER(B!C14),B!I$2+B!I$3*EXP(B!I$4*B!C14),\"\")","v":""},{"$f":"IF(ISNUMBER(B!C14),IF((B!J$2+B!J$3*B!C14)<B!J$4,B!J$2+B!J$3*B!C14,B!J$4),\"\")","v":""},{"$f":"IF(ISNUMBER(B!C14),IF(B!C14<B!K$4,B!K$2+B!K$3*(3*B!C14/(2*B!K$4)-0.5*(B!C14/B!K$4)^3),B!K$3+B!K$2),\"\")","v":""},{"$f":"IF(ISNUMBER(B!$C14),(B14-B!$D14)^2,\"\")","v":""},{"$f":"IF(ISNUMBER(B!$C14),(C14-B!$D14)^2,\"\")","v":""},{"$f":"IF(ISNUMBER(B!$C14),(D14-B!$D14)^2,\"\")","v":""},{"$f":"IF(ISNUMBER(B!$C14),(E14-B!$D14)^2,\"\")","v":""},{"$f":"IF(ISNUMBER(B!$C14),(F14-B!$D14)^2,\"\")","v":""},null,null,"Most Economic Rate",null,null,null,null,"Yield at Most Economic Rate",null,null,null,null,"Mean","Mean"]
[11,{"$f":"IF(ISNUMBER(B!C15),B!G$2+B!G$3*B!C15+B!G$4*B!C15^2,\"\")","v":""},{"$f":"IF(ISNUMBER(B!C15),IF(B!C15<(B!H$3/(-2*B!H$4)),B!H$2+B!H$3*B!C15+B!H$4*B!C15^2,B!H$2+B!H$3*(B!H$3/(-2*B!H$4))+B!H$4*(B!H$3/(-2*B!H$4))^2),\"\")","v":""},{"$f":"IF(ISNUMBER(B!C15),B!I$2+B!I$3*EXP(B!I$4*B!C15),\"\")","v":""},{"$f":"IF(ISNUMBER(B!C15),IF((B!J$2+B!J$3*B!C15)<B!J$4,B!J$2+B!J$3*B!C15,B!J$4),\"\")","v":""},{"$f":"IF(ISNUMBER(B!C15),IF(B!C15<B!K$4,B!K$2+B!K$3*(3*B!C15/(2*B!K$4)-0.5*(B!C15/B!K$4)^3),B!K$3+B!K$2),\"\")","v":""},{"$f":"IF(ISNUMBER(B!$C15),(B15-B!$D15)^2,\"\")","v":""},{"$f":"IF(ISNUMBER(B!$C15),(C15-B!$D15)^2,\"\")","v":""},{"$f":"IF(ISNUMBER(B!$C15),(D15-B!$D15)^2,\"\")","v":""},{"$f":"IF(ISNUMBER(B!$C15),(E15-B!$D15)^2,\"\")","v":""},{"$f":"IF(ISNUMBER(B!$C15),(F15-B!$D15)^2,\"\")","v":""},null,null,"Q","QP","M","LP","S ","Q","QP","M","LP","S ","MERN","Y@mern"]
[12,{"$f":"IF(ISNUMBER(B!C16),B!G$2+B!G$3*B!C16+B!G$4*B!C16^2,\"\")","v":""},{"$f":"IF(ISNUMBER(B!C16),IF(B!C16<(B!H$3/(-2*B!H$4)),B!H$2+B!H$3*B!C16+B!H$4*B!C16^2,B!H$2+B!H$3*(B!H$3/(-2*B!H$4))+B!H$4*(B!H$3/(-2*B!H$4))^2),\"\")","v":""},{"$f":"IF(ISNUMBER(B!C16),B!I$2+B!I$3*EXP(B!I$4*B!C16),\"\")","v":""},{"$f":"IF(ISNUMBER(B!C16),IF((B!J$2+B!J$3*B!C16)<B!J$4,B!J$2+B!J$3*B!C16,B!J$4),\"\")","v":""},{"$f":"IF(ISNUMBER(B!C16),IF(B!C16<B!K$4,B!K$2+B!K$3*(3*B!C16/(2*B!K$4)-0.5*(B!C16/B!K$4)^3),B!K$3+B!K$2),\"\")","v":""},{"$f":"IF(ISNUMBER(B!$C16),(B16-B!$D16)^2,\"\")","v":""},{"$f":"IF(ISNUMBER(B!$C16),(C16-B!$D16)^2,\"\")","v":""},{"$f":"IF(ISNUMBER(B!$C16),(D16-B!$D16)^2,\"\")","v":""},{"$f":"IF(ISNUMBER(B!$C16),(E16-B!$D16)^2,\"\")","v":""},{"$f":"IF(ISNUMBER(B!$C16),(F16-B!$D16)^2,\"\")","v":""},null,null,{"$f":"B!G6","v":180.5910797119034},{"$f":"B!H6","v":174.94481833977346},{"$f":"B!I6","v":211.85299092021617},{"$f":"B!J6","v":133.50003944071327},{"$f":"B!K6","v":164.71117098679085},0,0,0,0,0,{"$f":"B!$F$6","v":165.75182996574563},0]
[13,{"$f":"IF(ISNUMBER(B!C17),B!G$2+B!G$3*B!C17+B!G$4*B!C17^2,\"\")","v":""},{"$f":"IF(ISNUMBER(B!C17),IF(B!C17<(B!H$3/(-2*B!H$4)),B!H$2+B!H$3*B!C17+B!H$4*B!C17^2,B!H$2+B!H$3*(B!H$3/(-2*B!H$4))+B!H$4*(B!H$3/(-2*B!H$4))^2),\"\")","v":""},{"$f":"IF(ISNUMBER(B!C17),B!I$2+B!I$3*EXP(B!I$4*B!C17),\"\")","v":""},{"$f":"IF(ISNUMBER(B!C17),IF((B!J$2+B!J$3*B!C17)<B!J$4,B!J$2+B!J$3*B!C17,B!J$4),\"\")","v":""},{"$f":"IF(ISNUMBER(B!C17),IF(B!C17<B!K$4,B!K$2+B!K$3*(3*B!C17/(2*B!K$4)-0.5*(B!C17/B!K$4)^3),B!K$3+B!K$2),\"\")","v":""},{"$f":"IF(ISNUMBER(B!$C17),(B17-B!$D17)^2,\"\")","v":""},{"$f":"IF(ISNUMBER(B!$C17),(C17-B!$D17)^2,\"\")","v":""},{"$f":"IF(ISNUMBER(B!$C17),(D17-B!$D17)^2,\"\")","v":""},{"$f":"IF(ISNUMBER(B!$C17),(E17-B!$D17)^2,\"\")","v":""},{"$f":"IF(ISNUMBER(B!$C17),(F17-B!$D17)^2,\"\")","v":""},null,null,{"$f":"N16","v":180.5910797119034},{"$f":"B!H6","v":174.94481833977346},{"$f":"B!I6","v":211.85299092021617},{"$f":"B!J6","v":133.50003944071327},{"$f":"B!K6","v":164.71117098679085},{"$f":"B!G7","v":190.99319799859882},{"$f":"B!H7","v":189.22709889970764},{"$f":"B!I7","v":191.83763701438409},{"$f":"B!J7","v":188.75000559732251},{"$f":"B!K7","v":189.09183054390306},{"$f":"X16","v":165.75182996574563},{"$f":"B!$F$7","v":188.30968546780824}]
[14,{"$f":"IF(ISNUMBER(B!C18),B!G$2+B!G$3*B!C18+B!G$4*B!C18^2,\"\")","v":""},{"$f":"IF(ISNUMBER(B!C18),IF(B!C18<(B!H$3/(-2*B!H$4)),B!H$2+B!H$3*B!C18+B!H$4*B!C18^2,B!H$2+B!H$3*(B!H$3/(-2*B!H$4))+B!H$4*(B!H$3/(-2*B!H$4))^2),\"\")","v":""},{"$f":"IF(ISNUMBER(B!C18),B!I$2+B!I$3*EXP(B!I$4*B!C18),\"\")","v":""},{"$f":"IF(ISNUMBER(B!C18),IF((B!J$2+B!J$3*B!C18)<B!J$4,B!J$2+B!J$3*B!C18,B!J$4),\"\")","v":""},{"$f":"IF(ISNUMBER(B!C18),IF(B!C18<B!K$4,B!K$2+B!K$3*(3*B!C18/(2*B!K$4)-0.5*(B!C18/B!K$4)^3),B!K$3+B!K$2),\"\")","v":""},{"$f":"IF(ISNUMBER(B!$C18),(B18-B!$D18)^2,\"\")","v":""},{"$f":"IF(ISNUMBER(B!$C18),(C18-B!$D18)^2,\"\")","v":""},{"$f":"IF(ISNUMBER(B!$C18),(D18-B!$D18)^2,\"\")","v":""},{"$f":"IF(ISNUMBER(B!$C18),(E18-B!$D18)^2,\"\")","v":""},{"$f":"IF(ISNUMBER(B!$C18),(F18-B!$D18)^2,\"\")","v":""}]
[15,{"$f":"IF(ISNUMBER(B!C19),B!G$2+B!G$3*B!C19+B!G$4*B!C19^2,\"\")","v":""},{"$f":"IF(ISNUMBER(B!C19),IF(B!C19<(B!H$3/(-2*B!H$4)),B!H$2+B!H$3*B!C19+B!H$4*B!C19^2,B!H$2+B!H$3*(B!H$3/(-2*B!H$4))+B!H$4*(B!H$3/(-2*B!H$4))^2),\"\")","v":""},{"$f":"IF(ISNUMBER(B!C19),B!I$2+B!I$3*EXP(B!I$4*B!C19),\"\")","v":""},{"$f":"IF(ISNUMBER(B!C19),IF((B!J$2+B!J$3*B!C19)<B!J$4,B!J$2+B!J$3*B!C19,B!J$4),\"\")","v":""},{"$f":"IF(ISNUMBER(B!C19),IF(B!C19<B!K$4,B!K$2+B!K$3*(3*B!C19/(2*B!K$4)-0.5*(B!C19/B!K$4)^3),B!K$3+B!K$2),\"\")","v":""},{"$f":"IF(ISNUMBER(B!$C19),(B19-B!$D19)^2,\"\")","v":""},{"$f":"IF(ISNUMBER(B!$C19),(C19-B!$D19)^2,\"\")","v":""},{"$f":"IF(ISNUMBER(B!$C19),(D19-B!$D19)^2,\"\")","v":""},{"$f":"IF(ISNUMBER(B!$C19),(E19-B!$D19)^2,\"\")","v":""},{"$f":"IF(ISNUMBER(B!$C19),(F19-B!$D19)^2,\"\")","v":""}]
[16,{"$f":"IF(ISNUMBER(B!C20),B!G$2+B!G$3*B!C20+B!G$4*B!C20^2,\"\")","v":""},{"$f":"IF(ISNUMBER(B!C20),IF(B!C20<(B!H$3/(-2*B!H$4)),B!H$2+B!H$3*B!C20+B!H$4*B!C20^2,B!H$2+B!H$3*(B!H$3/(-2*B!H$4))+B!H$4*(B!H$3/(-2*B!H$4))^2),\"\")","v":""},{"$f":"IF(ISNUMBER(B!C20),B!I$2+B!I$3*EXP(B!I$4*B!C20),\"\")","v":""},{"$f":"IF(ISNUMBER(B!C20),IF((B!J$2+B!J$3*B!C20)<B!J$4,B!J$2+B!J$3*B!C20,B!J$4),\"\")","v":""},{"$f":"IF(ISNUMBER(B!C20),IF(B!C20<B!K$4,B!K$2+B!K$3*(3*B!C20/(2*B!K$4)-0.5*(B!C20/B!K$4)^3),B!K$3+B!K$2),\"\")","v":""},{"$f":"IF(ISNUMBER(B!$C20),(B20-B!$D20)^2,\"\")","v":""},{"$f":"IF(ISNUMBER(B!$C20),(C20-B!$D20)^2,\"\")","v":""},{"$f":"IF(ISNUMBER(B!$C20),(D20-B!$D20)^2,\"\")","v":""},{"$f":"IF(ISNUMBER(B!$C20),(E20-B!$D20)^2,\"\")","v":""},{"$f":"IF(ISNUMBER(B!$C20),(F20-B!$D20)^2,\"\")","v":""},null,null,"Nutrient content (lb/bu):",{"$f":"B!B30","v":0.65},"These two cells, carried from page A, set constraints on initial slope "]
[17,{"$f":"IF(ISNUMBER(B!C21),B!G$2+B!G$3*B!C21+B!G$4*B!C21^2,\"\")","v":""},{"$f":"IF(ISNUMBER(B!C21),IF(B!C21<(B!H$3/(-2*B!H$4)),B!H$2+B!H$3*B!C21+B!H$4*B!C21^2,B!H$2+B!H$3*(B!H$3/(-2*B!H$4))+B!H$4*(B!H$3/(-2*B!H$4))^2),\"\")","v":""},{"$f":"IF(ISNUMBER(B!C21),B!I$2+B!I$3*EXP(B!I$4*B!C21),\"\")","v":""},{"$f":"IF(ISNUMBER(B!C21),IF((B!J$2+B!J$3*B!C21)<B!J$4,B!J$2+B!J$3*B!C21,B!J$4),\"\")","v":""},{"$f":"IF(ISNUMBER(B!C21),IF(B!C21<B!K$4,B!K$2+B!K$3*(3*B!C21/(2*B!K$4)-0.5*(B!C21/B!K$4)^3),B!K$3+B!K$2),\"\")","v":""},{"$f":"IF(ISNUMBER(B!$C21),(B21-B!$D21)^2,\"\")","v":""},{"$f":"IF(ISNUMBER(B!$C21),(C21-B!$D21)^2,\"\")","v":""},{"$f":"IF(ISNUMBER(B!$C21),(D21-B!$D21)^2,\"\")","v":""},{"$f":"IF(ISNUMBER(B!$C21),(E21-B!$D21)^2,\"\")","v":""},{"$f":"IF(ISNUMBER(B!$C21),(F21-B!$D21)^2,\"\")","v":""},null,null,"NHI:",{"$f":"B!B31","v":0.66600000000000004},"assuming maximum efficiency (REN) is 100% + fitting tolerance."]
[18,{"$f":"IF(ISNUMBER(B!C22),B!G$2+B!G$3*B!C22+B!G$4*B!C22^2,\"\")","v":""},{"$f":"IF(ISNUMBER(B!C22),IF(B!C22<(B!H$3/(-2*B!H$4)),B!H$2+B!H$3*B!C22+B!H$4*B!C22^2,B!H$2+B!H$3*(B!H$3/(-2*B!H$4))+B!H$4*(B!H$3/(-2*B!H$4))^2),\"\")","v":""},{"$f":"IF(ISNUMBER(B!C22),B!I$2+B!I$3*EXP(B!I$4*B!C22),\"\")","v":""},{"$f":"IF(ISNUMBER(B!C22),IF((B!J$2+B!J$3*B!C22)<B!J$4,B!J$2+B!J$3*B!C22,B!J$4),\"\")","v":""},{"$f":"IF(ISNUMBER(B!C22),IF(B!C22<B!K$4,B!K$2+B!K$3*(3*B!C22/(2*B!K$4)-0.5*(B!C22/B!K$4)^3),B!K$3+B!K$2),\"\")","v":""},{"$f":"IF(ISNUMBER(B!$C22),(B22-B!$D22)^2,\"\")","v":""},{"$f":"IF(ISNUMBER(B!$C22),(C22-B!$D22)^2,\"\")","v":""},{"$f":"IF(ISNUMBER(B!$C22),(D22-B!$D22)^2,\"\")","v":""},{"$f":"IF(ISNUMBER(B!$C22),(E22-B!$D22)^2,\"\")","v":""},{"$f":"IF(ISNUMBER(B!$C22),(F22-B!$D22)^2,\"\")","v":""}]
[19,{"$f":"IF(ISNUMBER(B!C23),B!G$2+B!G$3*B!C23+B!G$4*B!C23^2,\"\")","v":""},{"$f":"IF(ISNUMBER(B!C23),IF(B!C23<(B!H$3/(-2*B!H$4)),B!H$2+B!H$3*B!C23+B!H$4*B!C23^2,B!H$2+B!H$3*(B!H$3/(-2*B!H$4))+B!H$4*(B!H$3/(-2*B!H$4))^2),\"\")","v":""},{"$f":"IF(ISNUMBER(B!C23),B!I$2+B!I$3*EXP(B!I$4*B!C23),\"\")","v":""},{"$f":"IF(ISNUMBER(B!C23),IF((B!J$2+B!J$3*B!C23)<B!J$4,B!J$2+B!J$3*B!C23,B!J$4),\"\")","v":""},{"$f":"IF(ISNUMBER(B!C23),IF(B!C23<B!K$4,B!K$2+B!K$3*(3*B!C23/(2*B!K$4)-0.5*(B!C23/B!K$4)^3),B!K$3+B!K$2),\"\")","v":""},{"$f":"IF(ISNUMBER(B!$C23),(B23-B!$D23)^2,\"\")","v":""},{"$f":"IF(ISNUMBER(B!$C23),(C23-B!$D23)^2,\"\")","v":""},{"$f":"IF(ISNUMBER(B!$C23),(D23-B!$D23)^2,\"\")","v":""},{"$f":"IF(ISNUMBER(B!$C23),(E23-B!$D23)^2,\"\")","v":""},{"$f":"IF(ISNUMBER(B!$C23),(F23-B!$D23)^2,\"\")","v":""}]
[20,{"$f":"IF(ISNUMBER(B!C24),B!G$2+B!G$3*B!C24+B!G$4*B!C24^2,\"\")","v":""},{"$f":"IF(ISNUMBER(B!C24),IF(B!C24<(B!H$3/(-2*B!H$4)),B!H$2+B!H$3*B!C24+B!H$4*B!C24^2,B!H$2+B!H$3*(B!H$3/(-2*B!H$4))+B!H$4*(B!H$3/(-2*B!H$4))^2),\"\")","v":""},{"$f":"IF(ISNUMBER(B!C24),B!I$2+B!I$3*EXP(B!I$4*B!C24),\"\")","v":""},{"$f":"IF(ISNUMBER(B!C24),IF((B!J$2+B!J$3*B!C24)<B!J$4,B!J$2+B!J$3*B!C24,B!J$4),\"\")","v":""},{"$f":"IF(ISNUMBER(B!C24),IF(B!C24<B!K$4,B!K$2+B!K$3*(3*B!C24/(2*B!K$4)-0.5*(B!C24/B!K$4)^3),B!K$3+B!K$2),\"\")","v":""},{"$f":"IF(ISNUMBER(B!$C24),(B24-B!$D24)^2,\"\")","v":""},{"$f":"IF(ISNUMBER(B!$C24),(C24-B!$D24)^2,\"\")","v":""},{"$f":"IF(ISNUMBER(B!$C24),(D24-B!$D24)^2,\"\")","v":""},{"$f":"IF(ISNUMBER(B!$C24),(E24-B!$D24)^2,\"\")","v":""},{"$f":"IF(ISNUMBER(B!$C24),(F24-B!$D24)^2,\"\")","v":""}]
[21,{"$f":"IF(ISNUMBER(B!C25),B!G$2+B!G$3*B!C25+B!G$4*B!C25^2,\"\")","v":""},{"$f":"IF(ISNUMBER(B!C25),IF(B!C25<(B!H$3/(-2*B!H$4)),B!H$2+B!H$3*B!C25+B!H$4*B!C25^2,B!H$2+B!H$3*(B!H$3/(-2*B!H$4))+B!H$4*(B!H$3/(-2*B!H$4))^2),\"\")","v":""},{"$f":"IF(ISNUMBER(B!C25),B!I$2+B!I$3*EXP(B!I$4*B!C25),\"\")","v":""},{"$f":"IF(ISNUMBER(B!C25),IF((B!J$2+B!J$3*B!C25)<B!J$4,B!J$2+B!J$3*B!C25,B!J$4),\"\")","v":""},{"$f":"IF(ISNUMBER(B!C25),IF(B!C25<B!K$4,B!K$2+B!K$3*(3*B!C25/(2*B!K$4)-0.5*(B!C25/B!K$4)^3),B!K$3+B!K$2),\"\")","v":""},{"$f":"IF(ISNUMBER(B!$C25),(B25-B!$D25)^2,\"\")","v":""},{"$f":"IF(ISNUMBER(B!$C25),(C25-B!$D25)^2,\"\")","v":""},{"$f":"IF(ISNUMBER(B!$C25),(D25-B!$D25)^2,\"\")","v":""},{"$f":"IF(ISNUMBER(B!$C25),(E25-B!$D25)^2,\"\")","v":""},{"$f":"IF(ISNUMBER(B!$C25),(F25-B!$D25)^2,\"\")","v":""},null,null,"Initialization"]
[22,{"$f":"IF(ISNUMBER(B!C26),B!G$2+B!G$3*B!C26+B!G$4*B!C26^2,\"\")","v":""},{"$f":"IF(ISNUMBER(B!C26),IF(B!C26<(B!H$3/(-2*B!H$4)),B!H$2+B!H$3*B!C26+B!H$4*B!C26^2,B!H$2+B!H$3*(B!H$3/(-2*B!H$4))+B!H$4*(B!H$3/(-2*B!H$4))^2),\"\")","v":""},{"$f":"IF(ISNUMBER(B!C26),B!I$2+B!I$3*EXP(B!I$4*B!C26),\"\")","v":""},{"$f":"IF(ISNUMBER(B!C26),IF((B!J$2+B!J$3*B!C26)<B!J$4,B!J$2+B!J$3*B!C26,B!J$4),\"\")","v":""},{"$f":"IF(ISNUMBER(B!C26),IF(B!C26<B!K$4,B!K$2+B!K$3*(3*B!C26/(2*B!K$4)-0.5*(B!C26/B!K$4)^3),B!K$3+B!K$2),\"\")","v":""},{"$f":"IF(ISNUMBER(B!$C26),(B26-B!$D26)^2,\"\")","v":""},{"$f":"IF(ISNUMBER(B!$C26),(C26-B!$D26)^2,\"\")","v":""},{"$f":"IF(ISNUMBER(B!$C26),(D26-B!$D26)^2,\"\")","v":""},{"$f":"IF(ISNUMBER(B!$C26),(E26-B!$D26)^2,\"\")","v":""},{"$f":"IF(ISNUMBER(B!$C26),(F26-B!$D26)^2,\"\")","v":""},null,null,"Mean"]
[23,{"$f":"IF(ISNUMBER(B!C27),B!G$2+B!G$3*B!C27+B!G$4*B!C27^2,\"\")","v":""},{"$f":"IF(ISNUMBER(B!C27),IF(B!C27<(B!H$3/(-2*B!H$4)),B!H$2+B!H$3*B!C27+B!H$4*B!C27^2,B!H$2+B!H$3*(B!H$3/(-2*B!H$4))+B!H$4*(B!H$3/(-2*B!H$4))^2),\"\")","v":""},{"$f":"IF(ISNUMBER(B!C27),B!I$2+B!I$3*EXP(B!I$4*B!C27),\"\")","v":""},{"$f":"IF(ISNUMBER(B!C27),IF((B!J$2+B!J$3*B!C27)<B!J$4,B!J$2+B!J$3*B!C27,B!J$4),\"\")","v":""},{"$f":"IF(ISNUMBER(B!C27),IF(B!C27<B!K$4,B!K$2+B!K$3*(3*B!C27/(2*B!K$4)-0.5*(B!C27/B!K$4)^3),B!K$3+B!K$2),\"\")","v":""},{"$f":"IF(ISNUMBER(B!$C27),(B27-B!$D27)^2,\"\")","v":""},{"$f":"IF(ISNUMBER(B!$C27),(C27-B!$D27)^2,\"\")","v":""},{"$f":"IF(ISNUMBER(B!$C27),(D27-B!$D27)^2,\"\")","v":""},{"$f":"IF(ISNUMBER(B!$C27),(E27-B!$D27)^2,\"\")","v":""},{"$f":"IF(ISNUMBER(B!$C27),(F27-B!$D27)^2,\"\")","v":""},null,null,"Q","QP","M","LP","S "]
[24,{"$f":"IF(ISNUMBER(B!C28),B!G$2+B!G$3*B!C28+B!G$4*B!C28^2,\"\")","v":""},{"$f":"IF(ISNUMBER(B!C28),IF(B!C28<(B!H$3/(-2*B!H$4)),B!H$2+B!H$3*B!C28+B!H$4*B!C28^2,B!H$2+B!H$3*(B!H$3/(-2*B!H$4))+B!H$4*(B!H$3/(-2*B!H$4))^2),\"\")","v":""},{"$f":"IF(ISNUMBER(B!C28),B!I$2+B!I$3*EXP(B!I$4*B!C28),\"\")","v":""},{"$f":"IF(ISNUMBER(B!C28),IF((B!J$2+B!J$3*B!C28)<B!J$4,B!J$2+B!J$3*B!C28,B!J$4),\"\")","v":""},{"$f":"IF(ISNUMBER(B!C28),IF(B!C28<B!K$4,B!K$2+B!K$3*(3*B!C28/(2*B!K$4)-0.5*(B!C28/B!K$4)^3),B!K$3+B!K$2),\"\")","v":""},{"$f":"IF(ISNUMBER(B!$C28),(B28-B!$D28)^2,\"\")","v":""},{"$f":"IF(ISNUMBER(B!$C28),(C28-B!$D28)^2,\"\")","v":""},{"$f":"IF(ISNUMBER(B!$C28),(D28-B!$D28)^2,\"\")","v":""},{"$f":"IF(ISNUMBER(B!$C28),(E28-B!$D28)^2,\"\")","v":""},{"$f":"IF(ISNUMBER(B!$C28),(F28-B!$D28)^2,\"\")","v":""},null,"A",{"$f":"AVERAGE(N8,S8)","v":75},{"$f":"N28","v":75},{"$f":"AVERAGE(P8,U8)","v":191},75,75]
[25,{"$f":"IF(ISNUMBER(B!C29),B!G$2+B!G$3*B!C29+B!G$4*B!C29^2,\"\")","v":""},{"$f":"IF(ISNUMBER(B!C29),IF(B!C29<(B!H$3/(-2*B!H$4)),B!H$2+B!H$3*B!C29+B!H$4*B!C29^2,B!H$2+B!H$3*(B!H$3/(-2*B!H$4))+B!H$4*(B!H$3/(-2*B!H$4))^2),\"\")","v":""},{"$f":"IF(ISNUMBER(B!C29),B!I$2+B!I$3*EXP(B!I$4*B!C29),\"\")","v":""},{"$f":"IF(ISNUMBER(B!C29),IF((B!J$2+B!J$3*B!C29)<B!J$4,B!J$2+B!J$3*B!C29,B!J$4),\"\")","v":""},{"$f":"IF(ISNUMBER(B!C29),IF(B!C29<B!K$4,B!K$2+B!K$3*(3*B!C29/(2*B!K$4)-0.5*(B!C29/B!K$4)^3),B!K$3+B!K$2),\"\")","v":""},{"$f":"IF(ISNUMBER(B!$C29),(B29-B!$D29)^2,\"\")","v":""},{"$f":"IF(ISNUMBER(B!$C29),(C29-B!$D29)^2,\"\")","v":""},{"$f":"IF(ISNUMBER(B!$C29),(D29-B!$D29)^2,\"\")","v":""},{"$f":"IF(ISNUMBER(B!$C29),(E29-B!$D29)^2,\"\")","v":""},{"$f":"IF(ISNUMBER(B!$C29),(F29-B!$D29)^2,\"\")","v":""},null,"B",{"$f":"AVERAGE(N9,S9)","v":0.76846153846153853},{"$f":"N29","v":0.76846153846153853},-76.750000049999997,0.64038461538461533,76.750000049999997]
[26,{"$f":"IF(ISNUMBER(B!C30),B!G$2+B!G$3*B!C30+B!G$4*B!C30^2,\"\")","v":""},{"$f":"IF(ISNUMBER(B!C30),IF(B!C30<(B!H$3/(-2*B!H$4)),B!H$2+B!H$3*B!C30+B!H$4*B!C30^2,B!H$2+B!H$3*(B!H$3/(-2*B!H$4))+B!H$4*(B!H$3/(-2*B!H$4))^2),\"\")","v":""},{"$f":"IF(ISNUMBER(B!C30),B!I$2+B!I$3*EXP(B!I$4*B!C30),\"\")","v":""},{"$f":"IF(ISNUMBER(B!C30),IF((B!J$2+B!J$3*B!C30)<B!J$4,B!J$2+B!J$3*B!C30,B!J$4),\"\")","v":""},{"$f":"IF(ISNUMBER(B!C30),IF(B!C30<B!K$4,B!K$2+B!K$3*(3*B!C30/(2*B!K$4)-0.5*(B!C30/B!K$4)^3),B!K$3+B!K$2),\"\")","v":""},{"$f":"IF(ISNUMBER(B!$C30),(B30-B!$D30)^2,\"\")","v":""},{"$f":"IF(ISNUMBER(B!$C30),(C30-B!$D30)^2,\"\")","v":""},{"$f":"IF(ISNUMBER(B!$C30),(D30-B!$D30)^2,\"\")","v":""},{"$f":"IF(ISNUMBER(B!$C30),(E30-B!$D30)^2,\"\")","v":""},{"$f":"IF(ISNUMBER(B!$C30),(F30-B!$D30)^2,\"\")","v":""},null,"C",{"$f":"AVERAGE(N10,S10)/10","v":-5.0000005E-2},{"$f":"N30","v":-5.0000005E-2},{"$f":"AVERAGE(P10,U10)","v":-8.6775744243143167E-3},{"$f":"AVERAGE(Q10,V10)","v":143.25},{"$f":"M48","v":240}]
[27,{"$f":"IF(ISNUMBER(B!C31),B!G$2+B!G$3*B!C31+B!G$4*B!C31^2,\"\")","v":""},{"$f":"IF(ISNUMBER(B!C31),IF(B!C31<(B!H$3/(-2*B!H$4)),B!H$2+B!H$3*B!C31+B!H$4*B!C31^2,B!H$2+B!H$3*(B!H$3/(-2*B!H$4))+B!H$4*(B!H$3/(-2*B!H$4))^2),\"\")","v":""},{"$f":"IF(ISNUMBER(B!C31),B!I$2+B!I$3*EXP(B!I$4*B!C31),\"\")","v":""},{"$f":"IF(ISNUMBER(B!C31),IF((B!J$2+B!J$3*B!C31)<B!J$4,B!J$2+B!J$3*B!C31,B!J$4),\"\")","v":""},{"$f":"IF(ISNUMBER(B!C31),IF(B!C31<B!K$4,B!K$2+B!K$3*(3*B!C31/(2*B!K$4)-0.5*(B!C31/B!K$4)^3),B!K$3+B!K$2),\"\")","v":""},{"$f":"IF(ISNUMBER(B!$C31),(B31-B!$D31)^2,\"\")","v":""},{"$f":"IF(ISNUMBER(B!$C31),(C31-B!$D31)^2,\"\")","v":""},{"$f":"IF(ISNUMBER(B!$C31),(D31-B!$D31)^2,\"\")","v":""},{"$f":"IF(ISNUMBER(B!$C31),(E31-B!$D31)^2,\"\")","v":""},{"$f":"IF(ISNUMBER(B!$C31),(F31-B!$D31)^2,\"\")","v":""}]
[28,{"$f":"IF(ISNUMBER(B!C32),B!G$2+B!G$3*B!C32+B!G$4*B!C32^2,\"\")","v":""},{"$f":"IF(ISNUMBER(B!C32),IF(B!C32<(B!H$3/(-2*B!H$4)),B!H$2+B!H$3*B!C32+B!H$4*B!C32^2,B!H$2+B!H$3*(B!H$3/(-2*B!H$4))+B!H$4*(B!H$3/(-2*B!H$4))^2),\"\")","v":""},{"$f":"IF(ISNUMBER(B!C32),B!I$2+B!I$3*EXP(B!I$4*B!C32),\"\")","v":""},{"$f":"IF(ISNUMBER(B!C32),IF((B!J$2+B!J$3*B!C32)<B!J$4,B!J$2+B!J$3*B!C32,B!J$4),\"\")","v":""},{"$f":"IF(ISNUMBER(B!C32),IF(B!C32<B!K$4,B!K$2+B!K$3*(3*B!C32/(2*B!K$4)-0.5*(B!C32/B!K$4)^3),B!K$3+B!K$2),\"\")","v":""},{"$f":"IF(ISNUMBER(B!$C32),(B32-B!$D32)^2,\"\")","v":""},{"$f":"IF(ISNUMBER(B!$C32),(C32-B!$D32)^2,\"\")","v":""},{"$f":"IF(ISNUMBER(B!$C32),(D32-B!$D32)^2,\"\")","v":""},{"$f":"IF(ISNUMBER(B!$C32),(E32-B!$D32)^2,\"\")","v":""},{"$f":"IF(ISNUMBER(B!$C32),(F32-B!$D32)^2,\"\")","v":""}]
[29,{"$f":"IF(ISNUMBER(B!C33),B!G$2+B!G$3*B!C33+B!G$4*B!C33^2,\"\")","v":""},{"$f":"IF(ISNUMBER(B!C33),IF(B!C33<(B!H$3/(-2*B!H$4)),B!H$2+B!H$3*B!C33+B!H$4*B!C33^2,B!H$2+B!H$3*(B!H$3/(-2*B!H$4))+B!H$4*(B!H$3/(-2*B!H$4))^2),\"\")","v":""},{"$f":"IF(ISNUMBER(B!C33),B!I$2+B!I$3*EXP(B!I$4*B!C33),\"\")","v":""},{"$f":"IF(ISNUMBER(B!C33),IF((B!J$2+B!J$3*B!C33)<B!J$4,B!J$2+B!J$3*B!C33,B!J$4),\"\")","v":""},{"$f":"IF(ISNUMBER(B!C33),IF(B!C33<B!K$4,B!K$2+B!K$3*(3*B!C33/(2*B!K$4)-0.5*(B!C33/B!K$4)^3),B!K$3+B!K$2),\"\")","v":""},{"$f":"IF(ISNUMBER(B!$C33),(B33-B!$D33)^2,\"\")","v":""},{"$f":"IF(ISNUMBER(B!$C33),(C33-B!$D33)^2,\"\")","v":""},{"$f":"IF(ISNUMBER(B!$C33),(D33-B!$D33)^2,\"\")","v":""},{"$f":"IF(ISNUMBER(B!$C33),(E33-B!$D33)^2,\"\")","v":""},{"$f":"IF(ISNUMBER(B!$C33),(F33-B!$D33)^2,\"\")","v":""}]
[30,{"$f":"IF(ISNUMBER(B!C34),B!G$2+B!G$3*B!C34+B!G$4*B!C34^2,\"\")","v":""},{"$f":"IF(ISNUMBER(B!C34),IF(B!C34<(B!H$3/(-2*B!H$4)),B!H$2+B!H$3*B!C34+B!H$4*B!C34^2,B!H$2+B!H$3*(B!H$3/(-2*B!H$4))+B!H$4*(B!H$3/(-2*B!H$4))^2),\"\")","v":""},{"$f":"IF(ISNUMBER(B!C34),B!I$2+B!I$3*EXP(B!I$4*B!C34),\"\")","v":""},{"$f":"IF(ISNUMBER(B!C34),IF((B!J$2+B!J$3*B!C34)<B!J$4,B!J$2+B!J$3*B!C34,B!J$4),\"\")","v":""},{"$f":"IF(ISNUMBER(B!C34),IF(B!C34<B!K$4,B!K$2+B!K$3*(3*B!C34/(2*B!K$4)-0.5*(B!C34/B!K$4)^3),B!K$3+B!K$2),\"\")","v":""},{"$f":"IF(ISNUMBER(B!$C34),(B34-B!$D34)^2,\"\")","v":""},{"$f":"IF(ISNUMBER(B!$C34),(C34-B!$D34)^2,\"\")","v":""},{"$f":"IF(ISNUMBER(B!$C34),(D34-B!$D34)^2,\"\")","v":""},{"$f":"IF(ISNUMBER(B!$C34),(E34-B!$D34)^2,\"\")","v":""},{"$f":"IF(ISNUMBER(B!$C34),(F34-B!$D34)^2,\"\")","v":""}]
[31,{"$f":"IF(ISNUMBER(B!C35),B!G$2+B!G$3*B!C35+B!G$4*B!C35^2,\"\")","v":""},{"$f":"IF(ISNUMBER(B!C35),IF(B!C35<(B!H$3/(-2*B!H$4)),B!H$2+B!H$3*B!C35+B!H$4*B!C35^2,B!H$2+B!H$3*(B!H$3/(-2*B!H$4))+B!H$4*(B!H$3/(-2*B!H$4))^2),\"\")","v":""},{"$f":"IF(ISNUMBER(B!C35),B!I$2+B!I$3*EXP(B!I$4*B!C35),\"\")","v":""},{"$f":"IF(ISNUMBER(B!C35),IF((B!J$2+B!J$3*B!C35)<B!J$4,B!J$2+B!J$3*B!C35,B!J$4),\"\")","v":""},{"$f":"IF(ISNUMBER(B!C35),IF(B!C35<B!K$4,B!K$2+B!K$3*(3*B!C35/(2*B!K$4)-0.5*(B!C35/B!K$4)^3),B!K$3+B!K$2),\"\")","v":""},{"$f":"IF(ISNUMBER(B!$C35),(B35-B!$D35)^2,\"\")","v":""},{"$f":"IF(ISNUMBER(B!$C35),(C35-B!$D35)^2,\"\")","v":""},{"$f":"IF(ISNUMBER(B!$C35),(D35-B!$D35)^2,\"\")","v":""},{"$f":"IF(ISNUMBER(B!$C35),(E35-B!$D35)^2,\"\")","v":""},{"$f":"IF(ISNUMBER(B!$C35),(F35-B!$D35)^2,\"\")","v":""}]
[32,{"$f":"IF(ISNUMBER(B!C36),B!G$2+B!G$3*B!C36+B!G$4*B!C36^2,\"\")","v":""},{"$f":"IF(ISNUMBER(B!C36),IF(B!C36<(B!H$3/(-2*B!H$4)),B!H$2+B!H$3*B!C36+B!H$4*B!C36^2,B!H$2+B!H$3*(B!H$3/(-2*B!H$4))+B!H$4*(B!H$3/(-2*B!H$4))^2),\"\")","v":""},{"$f":"IF(ISNUMBER(B!C36),B!I$2+B!I$3*EXP(B!I$4*B!C36),\"\")","v":""},{"$f":"IF(ISNUMBER(B!C36),IF((B!J$2+B!J$3*B!C36)<B!J$4,B!J$2+B!J$3*B!C36,B!J$4),\"\")","v":""},{"$f":"IF(ISNUMBER(B!C36),IF(B!C36<B!K$4,B!K$2+B!K$3*(3*B!C36/(2*B!K$4)-0.5*(B!C36/B!K$4)^3),B!K$3+B!K$2),\"\")","v":""},{"$f":"IF(ISNUMBER(B!$C36),(B36-B!$D36)^2,\"\")","v":""},{"$f":"IF(ISNUMBER(B!$C36),(C36-B!$D36)^2,\"\")","v":""},{"$f":"IF(ISNUMBER(B!$C36),(D36-B!$D36)^2,\"\")","v":""},{"$f":"IF(ISNUMBER(B!$C36),(E36-B!$D36)^2,\"\")","v":""},{"$f":"IF(ISNUMBER(B!$C36),(F36-B!$D36)^2,\"\")","v":""}]
[33,{"$f":"IF(ISNUMBER(B!C37),B!G$2+B!G$3*B!C37+B!G$4*B!C37^2,\"\")","v":""},{"$f":"IF(ISNUMBER(B!C37),IF(B!C37<(B!H$3/(-2*B!H$4)),B!H$2+B!H$3*B!C37+B!H$4*B!C37^2,B!H$2+B!H$3*(B!H$3/(-2*B!H$4))+B!H$4*(B!H$3/(-2*B!H$4))^2),\"\")","v":""},{"$f":"IF(ISNUMBER(B!C37),B!I$2+B!I$3*EXP(B!I$4*B!C37),\"\")","v":""},{"$f":"IF(ISNUMBER(B!C37),IF((B!J$2+B!J$3*B!C37)<B!J$4,B!J$2+B!J$3*B!C37,B!J$4),\"\")","v":""},{"$f":"IF(ISNUMBER(B!C37),IF(B!C37<B!K$4,B!K$2+B!K$3*(3*B!C37/(2*B!K$4)-0.5*(B!C37/B!K$4)^3),B!K$3+B!K$2),\"\")","v":""},{"$f":"IF(ISNUMBER(B!$C37),(B37-B!$D37)^2,\"\")","v":""},{"$f":"IF(ISNUMBER(B!$C37),(C37-B!$D37)^2,\"\")","v":""},{"$f":"IF(ISNUMBER(B!$C37),(D37-B!$D37)^2,\"\")","v":""},{"$f":"IF(ISNUMBER(B!$C37),(E37-B!$D37)^2,\"\")","v":""},{"$f":"IF(ISNUMBER(B!$C37),(F37-B!$D37)^2,\"\")","v":""}]
[34,{"$f":"IF(ISNUMBER(B!C38),B!G$2+B!G$3*B!C38+B!G$4*B!C38^2,\"\")","v":""},{"$f":"IF(ISNUMBER(B!C38),IF(B!C38<(B!H$3/(-2*B!H$4)),B!H$2+B!H$3*B!C38+B!H$4*B!C38^2,B!H$2+B!H$3*(B!H$3/(-2*B!H$4))+B!H$4*(B!H$3/(-2*B!H$4))^2),\"\")","v":""},{"$f":"IF(ISNUMBER(B!C38),B!I$2+B!I$3*EXP(B!I$4*B!C38),\"\")","v":""},{"$f":"IF(ISNUMBER(B!C38),IF((B!J$2+B!J$3*B!C38)<B!J$4,B!J$2+B!J$3*B!C38,B!J$4),\"\")","v":""},{"$f":"IF(ISNUMBER(B!C38),IF(B!C38<B!K$4,B!K$2+B!K$3*(3*B!C38/(2*B!K$4)-0.5*(B!C38/B!K$4)^3),B!K$3+B!K$2),\"\")","v":""},{"$f":"IF(ISNUMBER(B!$C38),(B38-B!$D38)^2,\"\")","v":""},{"$f":"IF(ISNUMBER(B!$C38),(C38-B!$D38)^2,\"\")","v":""},{"$f":"IF(ISNUMBER(B!$C38),(D38-B!$D38)^2,\"\")","v":""},{"$f":"IF(ISNUMBER(B!$C38),(E38-B!$D38)^2,\"\")","v":""},{"$f":"IF(ISNUMBER(B!$C38),(F38-B!$D38)^2,\"\")","v":""}]
[35,{"$f":"IF(ISNUMBER(B!C39),B!G$2+B!G$3*B!C39+B!G$4*B!C39^2,\"\")","v":""},{"$f":"IF(ISNUMBER(B!C39),IF(B!C39<(B!H$3/(-2*B!H$4)),B!H$2+B!H$3*B!C39+B!H$4*B!C39^2,B!H$2+B!H$3*(B!H$3/(-2*B!H$4))+B!H$4*(B!H$3/(-2*B!H$4))^2),\"\")","v":""},{"$f":"IF(ISNUMBER(B!C39),B!I$2+B!I$3*EXP(B!I$4*B!C39),\"\")","v":""},{"$f":"IF(ISNUMBER(B!C39),IF((B!J$2+B!J$3*B!C39)<B!J$4,B!J$2+B!J$3*B!C39,B!J$4),\"\")","v":""},{"$f":"IF(ISNUMBER(B!C39),IF(B!C39<B!K$4,B!K$2+B!K$3*(3*B!C39/(2*B!K$4)-0.5*(B!C39/B!K$4)^3),B!K$3+B!K$2),\"\")","v":""},{"$f":"IF(ISNUMBER(B!$C39),(B39-B!$D39)^2,\"\")","v":""},{"$f":"IF(ISNUMBER(B!$C39),(C39-B!$D39)^2,\"\")","v":""},{"$f":"IF(ISNUMBER(B!$C39),(D39-B!$D39)^2,\"\")","v":""},{"$f":"IF(ISNUMBER(B!$C39),(E39-B!$D39)^2,\"\")","v":""},{"$f":"IF(ISNUMBER(B!$C39),(F39-B!$D39)^2,\"\")","v":""}]
[36,{"$f":"IF(ISNUMBER(B!C40),B!G$2+B!G$3*B!C40+B!G$4*B!C40^2,\"\")","v":""},{"$f":"IF(ISNUMBER(B!C40),IF(B!C40<(B!H$3/(-2*B!H$4)),B!H$2+B!H$3*B!C40+B!H$4*B!C40^2,B!H$2+B!H$3*(B!H$3/(-2*B!H$4))+B!H$4*(B!H$3/(-2*B!H$4))^2),\"\")","v":""},{"$f":"IF(ISNUMBER(B!C40),B!I$2+B!I$3*EXP(B!I$4*B!C40),\"\")","v":""},{"$f":"IF(ISNUMBER(B!C40),IF((B!J$2+B!J$3*B!C40)<B!J$4,B!J$2+B!J$3*B!C40,B!J$4),\"\")","v":""},{"$f":"IF(ISNUMBER(B!C40),IF(B!C40<B!K$4,B!K$2+B!K$3*(3*B!C40/(2*B!K$4)-0.5*(B!C40/B!K$4)^3),B!K$3+B!K$2),\"\")","v":""},{"$f":"IF(ISNUMBER(B!$C40),(B40-B!$D40)^2,\"\")","v":""},{"$f":"IF(ISNUMBER(B!$C40),(C40-B!$D40)^2,\"\")","v":""},{"$f":"IF(ISNUMBER(B!$C40),(D40-B!$D40)^2,\"\")","v":""},{"$f":"IF(ISNUMBER(B!$C40),(E40-B!$D40)^2,\"\")","v":""},{"$f":"IF(ISNUMBER(B!$C40),(F40-B!$D40)^2,\"\")","v":""}]
[37,{"$f":"IF(ISNUMBER(B!C41),B!G$2+B!G$3*B!C41+B!G$4*B!C41^2,\"\")","v":""},{"$f":"IF(ISNUMBER(B!C41),IF(B!C41<(B!H$3/(-2*B!H$4)),B!H$2+B!H$3*B!C41+B!H$4*B!C41^2,B!H$2+B!H$3*(B!H$3/(-2*B!H$4))+B!H$4*(B!H$3/(-2*B!H$4))^2),\"\")","v":""},{"$f":"IF(ISNUMBER(B!C41),B!I$2+B!I$3*EXP(B!I$4*B!C41),\"\")","v":""},{"$f":"IF(ISNUMBER(B!C41),IF((B!J$2+B!J$3*B!C41)<B!J$4,B!J$2+B!J$3*B!C41,B!J$4),\"\")","v":""},{"$f":"IF(ISNUMBER(B!C41),IF(B!C41<B!K$4,B!K$2+B!K$3*(3*B!C41/(2*B!K$4)-0.5*(B!C41/B!K$4)^3),B!K$3+B!K$2),\"\")","v":""},{"$f":"IF(ISNUMBER(B!$C41),(B41-B!$D41)^2,\"\")","v":""},{"$f":"IF(ISNUMBER(B!$C41),(C41-B!$D41)^2,\"\")","v":""},{"$f":"IF(ISNUMBER(B!$C41),(D41-B!$D41)^2,\"\")","v":""},{"$f":"IF(ISNUMBER(B!$C41),(E41-B!$D41)^2,\"\")","v":""},{"$f":"IF(ISNUMBER(B!$C41),(F41-B!$D41)^2,\"\")","v":""}]
[38,{"$f":"IF(ISNUMBER(B!C42),B!G$2+B!G$3*B!C42+B!G$4*B!C42^2,\"\")","v":""},{"$f":"IF(ISNUMBER(B!C42),IF(B!C42<(B!H$3/(-2*B!H$4)),B!H$2+B!H$3*B!C42+B!H$4*B!C42^2,B!H$2+B!H$3*(B!H$3/(-2*B!H$4))+B!H$4*(B!H$3/(-2*B!H$4))^2),\"\")","v":""},{"$f":"IF(ISNUMBER(B!C42),B!I$2+B!I$3*EXP(B!I$4*B!C42),\"\")","v":""},{"$f":"IF(ISNUMBER(B!C42),IF((B!J$2+B!J$3*B!C42)<B!J$4,B!J$2+B!J$3*B!C42,B!J$4),\"\")","v":""},{"$f":"IF(ISNUMBER(B!C42),IF(B!C42<B!K$4,B!K$2+B!K$3*(3*B!C42/(2*B!K$4)-0.5*(B!C42/B!K$4)^3),B!K$3+B!K$2),\"\")","v":""},{"$f":"IF(ISNUMBER(B!$C42),(B42-B!$D42)^2,\"\")","v":""},{"$f":"IF(ISNUMBER(B!$C42),(C42-B!$D42)^2,\"\")","v":""},{"$f":"IF(ISNUMBER(B!$C42),(D42-B!$D42)^2,\"\")","v":""},{"$f":"IF(ISNUMBER(B!$C42),(E42-B!$D42)^2,\"\")","v":""},{"$f":"IF(ISNUMBER(B!$C42),(F42-B!$D42)^2,\"\")","v":""}]
[39,{"$f":"IF(ISNUMBER(B!C43),B!G$2+B!G$3*B!C43+B!G$4*B!C43^2,\"\")","v":""},{"$f":"IF(ISNUMBER(B!C43),IF(B!C43<(B!H$3/(-2*B!H$4)),B!H$2+B!H$3*B!C43+B!H$4*B!C43^2,B!H$2+B!H$3*(B!H$3/(-2*B!H$4))+B!H$4*(B!H$3/(-2*B!H$4))^2),\"\")","v":""},{"$f":"IF(ISNUMBER(B!C43),B!I$2+B!I$3*EXP(B!I$4*B!C43),\"\")","v":""},{"$f":"IF(ISNUMBER(B!C43),IF((B!J$2+B!J$3*B!C43)<B!J$4,B!J$2+B!J$3*B!C43,B!J$4),\"\")","v":""},{"$f":"IF(ISNUMBER(B!C43),IF(B!C43<B!K$4,B!K$2+B!K$3*(3*B!C43/(2*B!K$4)-0.5*(B!C43/B!K$4)^3),B!K$3+B!K$2),\"\")","v":""},{"$f":"IF(ISNUMBER(B!$C43),(B43-B!$D43)^2,\"\")","v":""},{"$f":"IF(ISNUMBER(B!$C43),(C43-B!$D43)^2,\"\")","v":""},{"$f":"IF(ISNUMBER(B!$C43),(D43-B!$D43)^2,\"\")","v":""},{"$f":"IF(ISNUMBER(B!$C43),(E43-B!$D43)^2,\"\")","v":""},{"$f":"IF(ISNUMBER(B!$C43),(F43-B!$D43)^2,\"\")","v":""}]
[40,{"$f":"IF(ISNUMBER(B!C44),B!G$2+B!G$3*B!C44+B!G$4*B!C44^2,\"\")","v":""},{"$f":"IF(ISNUMBER(B!C44),IF(B!C44<(B!H$3/(-2*B!H$4)),B!H$2+B!H$3*B!C44+B!H$4*B!C44^2,B!H$2+B!H$3*(B!H$3/(-2*B!H$4))+B!H$4*(B!H$3/(-2*B!H$4))^2),\"\")","v":""},{"$f":"IF(ISNUMBER(B!C44),B!I$2+B!I$3*EXP(B!I$4*B!C44),\"\")","v":""},{"$f":"IF(ISNUMBER(B!C44),IF((B!J$2+B!J$3*B!C44)<B!J$4,B!J$2+B!J$3*B!C44,B!J$4),\"\")","v":""},{"$f":"IF(ISNUMBER(B!C44),IF(B!C44<B!K$4,B!K$2+B!K$3*(3*B!C44/(2*B!K$4)-0.5*(B!C44/B!K$4)^3),B!K$3+B!K$2),\"\")","v":""},{"$f":"IF(ISNUMBER(B!$C44),(B44-B!$D44)^2,\"\")","v":""},{"$f":"IF(ISNUMBER(B!$C44),(C44-B!$D44)^2,\"\")","v":""},{"$f":"IF(ISNUMBER(B!$C44),(D44-B!$D44)^2,\"\")","v":""},{"$f":"IF(ISNUMBER(B!$C44),(E44-B!$D44)^2,\"\")","v":""},{"$f":"IF(ISNUMBER(B!$C44),(F44-B!$D44)^2,\"\")","v":""}]
["WEIGHTS",{"$f":"(0.0001+(B!G5-MIN(B!$G5:$K5)))/(0.0001+(MAX(B!$G5:$K5)-MIN(B!$G5:$K5)))","v":0.94458290267144229},{"$f":"(0.0001+(B!H5-MIN(B!$G5:$K5)))/(0.0001+(MAX(B!$G5:$K5)-MIN(B!$G5:$K5)))","v":0.92985800477442959},{"$f":"(0.0001+(B!I5-MIN(B!$G5:$K5)))/(0.0001+(MAX(B!$G5:$K5)-MIN(B!$G5:$K5)))","v":1.2186555082142475E-2},{"$f":"(0.0001+(B!J5-MIN(B!$G5:$K5)))/(0.0001+(MAX(B!$G5:$K5)-MIN(B!$G5:$K5)))","v":0.68480634485411296},{"$f":"(0.0001+(B!K5-MIN(B!$G5:$K5)))/(0.0001+(MAX(B!$G5:$K5)-MIN(B!$G5:$K5)))","v":1}]
[]
[null,"Nrate","Q yield","QP yield","M yield","LP yield","S yield","mean yield",null,null,null,null,"Maximum rate for curves"]
[0,{"$f":"IF(A48<MAX($M$48),A48,MAX($M$48))","v":0},{"$f":"B!G$2+B!G$3*B48+B!G$4*B48^2","v":74.022463707304553},{"$f":"IF(B48<(B!H$3/(-2*B!H$4)),B!H$2+B!H$3*B48+B!H$4*B48^2,B!H$2+B!H$3*(B!H$3/(-2*B!H$4))+B!H$3*B!H$3/(4*B!H$4))","v":73.622648669414204},{"$f":"B!I$2+B!I$3*EXP(B!I$4*B48)","v":71.683762888274828},{"$f":"IF((B!J$2+B!J$3*B48)<B!J$4,B!J$2+B!J$3*B48,B!J$4)","v":77.499943281723219},{"$f":"IF(B48<B!K$4,B!K$2+B!K$3*(3*B48/(2*B!K$4)-0.5*(B48/B!K$4)^3),B!K$3+B!K$2)","v":75.45471336981025},{"$f":"(C48*B$45+D!D48*C$45+D!E48*D$45+D!F48*E$45+D!G48*F$45)/SUM(B$45:F$45)","v":74.978208095552617},null,null,null,null,{"$f":"MAX(B!C5:C44,B!G6:K6)","v":240}]
[2,{"$f":"IF(A49<MAX($M$48),A49,MAX($M$48))","v":2},{"$f":"B!G$2+B!G$3*B49+B!G$4*B49^2","v":76.351727843729606},{"$f":"IF(B49<(B!H$3/(-2*B!H$4)),B!H$2+B!H$3*B49+B!H$4*B49^2,B!H$2+B!H$3*(B!H$3/(-2*B!H$4))+B!H$3*B!H$3/(4*B!H$4))","v":76.003618734060638},{"$f":"B!I$2+B!I$3*EXP(B!I$4*B49)","v":74.756290180839869},{"$f":"IF((B!J$2+B!J$3*B49)<B!J$4,B!J$2+B!J$3*B49,B!J$4)","v":79.16661038956336},{"$f":"IF(B49<B!K$4,B!K$2+B!K$3*(3*B49/(2*B!K$4)-0.5*(B49/B!K$4)^3),B!K$3+B!K$2)","v":77.399382539762556},{"$f":"(C49*B$45+D!D49*C$45+D!E49*D$45+D!F49*E$45+D!G49*F$45)/SUM(B$45:F$45)","v":77.088734137078461}]
[4,4,{"$f":"B!G$2+B!G$3*B50+B!G$4*B50^2","v":78.657836441029204},{"$f":"IF(B50<(B!H$3/(-2*B!H$4)),B!H$2+B!H$3*B50+B!H$4*B50^2,B!H$2+B!H$3*(B!H$3/(-2*B!H$4))+B!H$3*B!H$3/(4*B!H$4))","v":78.360087119554024},{"$f":"B!I$2+B!I$3*EXP(B!I$4*B50)","v":77.756565458856272},{"$f":"IF((B!J$2+B!J$3*B50)<B!J$4,B!J$2+B!J$3*B50,B!J$4)","v":80.8332774974035},{"$f":"IF(B50<B!K$4,B!K$2+B!K$3*(3*B50/(2*B!K$4)-0.5*(B50/B!K$4)^3),B!K$3+B!K$2)","v":79.343551962766583},{"$f":"(C50*B$45+D!D50*C$45+D!E50*D$45+D!F50*E$45+D!G50*F$45)/SUM(B$45:F$45)","v":79.186370212994646}]
[6,6,{"$f":"B!G$2+B!G$3*B51+B!G$4*B51^2","v":80.940789499203348},{"$f":"IF(B51<(B!H$3/(-2*B!H$4)),B!H$2+B!H$3*B51+B!H$4*B51^2,B!H$2+B!H$3*(B!H$3/(-2*B!H$4))+B!H$3*B!H$3/(4*B!H$4))","v":80.692053825894391},{"$f":"B!I$2+B!I$3*EXP(B!I$4*B51)","v":80.686287764548609},{"$f":"IF((B!J$2+B!J$3*B51)<B!J$4,B!J$2+B!J$3*B51,B!J$4)","v":82.499944605243655},{"$f":"IF(B51<B!K$4,B!K$2+B!K$3*(3*B51/(2*B!K$4)-0.5*(B51/B!K$4)^3),B!K$3+B!K$2)","v":81.286721891874066},{"$f":"(C51*B$45+D!D51*C$45+D!E51*D$45+D!F51*E$45+D!G51*F$45)/SUM(B$45:F$45)","v":81.270982191884386},null,null,null,null,{"$f":"ROUND(SUM(B!C5:D44),0)","v":2285},"sum of yields and rates entered (to detect new data entry)"]
[8,8,{"$f":"B!G$2+B!G$3*B52+B!G$4*B52^2","v":83.200587018252065},{"$f":"IF(B52<(B!H$3/(-2*B!H$4)),B!H$2+B!H$3*B52+B!H$4*B52^2,B!H$2+B!H$3*(B!H$3/(-2*B!H$4))+B!H$3*B!H$3/(4*B!H$4))","v":82.999518853081739},{"$f":"B!I$2+B!I$3*EXP(B!I$4*B52)","v":83.547116186314639},{"$f":"IF((B!J$2+B!J$3*B52)<B!J$4,B!J$2+B!J$3*B52,B!J$4)","v":84.166611713083796},{"$f":"IF(B52<B!K$4,B!K$2+B!K$3*(3*B52/(2*B!K$4)-0.5*(B52/B!K$4)^3),B!K$3+B!K$2)","v":83.228392580136713},{"$f":"(C52*B$45+D!D52*C$45+D!E52*D$45+D!F52*E$45+D!G52*F$45)/SUM(B$45:F$45)","v":83.342435805999244},null,null,null,null,2285,"set by the FIT macro when finished"]
[10,10,{"$f":"B!G$2+B!G$3*B53+B!G$4*B53^2","v":85.437228998175328},{"$f":"IF(B53<(B!H$3/(-2*B!H$4)),B!H$2+B!H$3*B53+B!H$4*B53^2,B!H$2+B!H$3*(B!H$3/(-2*B!H$4))+B!H$3*B!H$3/(4*B!H$4))","v":85.282482201116053},{"$f":"B!I$2+B!I$3*EXP(B!I$4*B53)","v":86.340670798259424},{"$f":"IF((B!J$2+B!J$3*B53)<B!J$4,B!J$2+B!J$3*B53,B!J$4)","v":85.833278820923937},{"$f":"IF(B53<B!K$4,B!K$2+B!K$3*(3*B53/(2*B!K$4)-0.5*(B53/B!K$4)^3),B!K$3+B!K$2)","v":85.168064280606274},{"$f":"(C53*B$45+D!D53*C$45+D!E53*D$45+D!F53*E$45+D!G53*F$45)/SUM(B$45:F$45)","v":85.40059665446492},null,null,null,null,{"$f":"M51=M52","v":true},"detects whether the FIT macro has been run on the latest data entered."]
[12,12,{"$f":"B!G$2+B!G$3*B54+B!G$4*B54^2","v":87.650715438973137},{"$f":"IF(B54<(B!H$3/(-2*B!H$4)),B!H$2+B!H$3*B54+B!H$4*B54^2,B!H$2+B!H$3*(B!H$3/(-2*B!H$4))+B!H$3*B!H$3/(4*B!H$4))","v":87.540943869997335},{"$f":"B!I$2+B!I$3*EXP(B!I$4*B54)","v":89.068533577635918},{"$f":"IF((B!J$2+B!J$3*B54)<B!J$4,B!J$2+B!J$3*B54,B!J$4)","v":87.499945928764078},{"$f":"IF(B54<B!K$4,B!K$2+B!K$3*(3*B54/(2*B!K$4)-0.5*(B54/B!K$4)^3),B!K$3+B!K$2)","v":87.10523724633444},{"$f":"(C54*B$45+D!D54*C$45+D!E54*D$45+D!F54*E$45+D!G54*F$45)/SUM(B$45:F$45)","v":87.445330206411981}]
[14,14,{"$f":"B!G$2+B!G$3*B55+B!G$4*B55^2","v":89.841046340645505},{"$f":"IF(B55<(B!H$3/(-2*B!H$4)),B!H$2+B!H$3*B55+B!H$4*B55^2,B!H$2+B!H$3*(B!H$3/(-2*B!H$4))+B!H$3*B!H$3/(4*B!H$4))","v":89.774903859725597},{"$f":"B!I$2+B!I$3*EXP(B!I$4*B55)","v":91.732249300711487},{"$f":"IF((B!J$2+B!J$3*B55)<B!J$4,B!J$2+B!J$3*B55,B!J$4)","v":89.166613036604218},{"$f":"IF(B55<B!K$4,B!K$2+B!K$3*(3*B55/(2*B!K$4)-0.5*(B55/B!K$4)^3),B!K$3+B!K$2)","v":89.039411730372947},{"$f":"(C55*B$45+D!D55*C$45+D!E55*D$45+D!F55*E$45+D!G55*F$45)/SUM(B$45:F$45)","v":89.476501804032665}]
[16,16,{"$f":"B!G$2+B!G$3*B56+B!G$4*B56^2","v":92.008221703192433},{"$f":"IF(B56<(B!H$3/(-2*B!H$4)),B!H$2+B!H$3*B56+B!H$4*B56^2,B!H$2+B!H$3*(B!H$3/(-2*B!H$4))+B!H$3*B!H$3/(4*B!H$4))","v":91.984362170300827},{"$f":"B!I$2+B!I$3*EXP(B!I$4*B56)","v":94.333326417567733},{"$f":"IF((B!J$2+B!J$3*B56)<B!J$4,B!J$2+B!J$3*B56,B!J$4)","v":90.833280144444359},{"$f":"IF(B56<B!K$4,B!K$2+B!K$3*(3*B56/(2*B!K$4)-0.5*(B56/B!K$4)^3),B!K$3+B!K$2)","v":90.970087985773532},{"$f":"(C56*B$45+D!D56*C$45+D!E56*D$45+D!F56*E$45+D!G56*F$45)/SUM(B$45:F$45)","v":91.493976665565782}]
[18,18,{"$f":"B!G$2+B!G$3*B57+B!G$4*B57^2","v":94.152241526613906},{"$f":"IF(B57<(B!H$3/(-2*B!H$4)),B!H$2+B!H$3*B57+B!H$4*B57^2,B!H$2+B!H$3*(B!H$3/(-2*B!H$4))+B!H$3*B!H$3/(4*B!H$4))","v":94.169318801723023},{"$f":"B!I$2+B!I$3*EXP(B!I$4*B57)","v":96.873237906328811},{"$f":"IF((B!J$2+B!J$3*B57)<B!J$4,B!J$2+B!J$3*B57,B!J$4)","v":92.4999472522845},{"$f":"IF(B57<B!K$4,B!K$2+B!K$3*(3*B57/(2*B!K$4)-0.5*(B57/B!K$4)^3),B!K$3+B!K$2)","v":92.896766265587914},{"$f":"(C57*B$45+D!D57*C$45+D!E57*D$45+D!F57*E$45+D!G57*F$45)/SUM(B$45:F$45)","v":93.497619888211787}]
[20,20,{"$f":"B!G$2+B!G$3*B58+B!G$4*B58^2","v":96.273105810909954},{"$f":"IF(B58<(B!H$3/(-2*B!H$4)),B!H$2+B!H$3*B58+B!H$4*B58^2,B!H$2+B!H$3*(B!H$3/(-2*B!H$4))+B!H$3*B!H$3/(4*B!H$4))","v":96.3297737539922},{"$f":"B!I$2+B!I$3*EXP(B!I$4*B58)","v":99.353422107302308},{"$f":"IF((B!J$2+B!J$3*B58)<B!J$4,B!J$2+B!J$3*B58,B!J$4)","v":94.16661436012464},{"$f":"IF(B58<B!K$4,B!K$2+B!K$3*(3*B58/(2*B!K$4)-0.5*(B58/B!K$4)^3),B!K$3+B!K$2)","v":94.818946822867815},{"$f":"(C58*B$45+D!D58*C$45+D!E58*D$45+D!F58*E$45+D!G58*F$45)/SUM(B$45:F$45)","v":95.487296450978832}]
[22,22,{"$f":"B!G$2+B!G$3*B59+B!G$4*B59^2","v":98.370814556080518},{"$f":"IF(B59<(B!H$3/(-2*B!H$4)),B!H$2+B!H$3*B59+B!H$4*B59^2,B!H$2+B!H$3*(B!H$3/(-2*B!H$4))+B!H$3*B!H$3/(4*B!H$4))","v":98.465727027108343},{"$f":"B!I$2+B!I$3*EXP(B!I$4*B59)","v":101.77528353750475},{"$f":"IF((B!J$2+B!J$3*B59)<B!J$4,B!J$2+B!J$3*B59,B!J$4)","v":95.833281467964795},{"$f":"IF(B59<B!K$4,B!K$2+B!K$3*(3*B59/(2*B!K$4)-0.5*(B59/B!K$4)^3),B!K$3+B!K$2)","v":96.736129910664943},{"$f":"(C59*B$45+D!D59*C$45+D!E59*D$45+D!F59*E$45+D!G59*F$45)/SUM(B$45:F$45)","v":97.462871217462222}]
[24,24,{"$f":"B!G$2+B!G$3*B60+B!G$4*B60^2","v":100.44536776212567},{"$f":"IF(B60<(B!H$3/(-2*B!H$4)),B!H$2+B!H$3*B60+B!H$4*B60^2,B!H$2+B!H$3*(B!H$3/(-2*B!H$4))+B!H$3*B!H$3/(4*B!H$4))","v":100.57717862107147},{"$f":"B!I$2+B!I$3*EXP(B!I$4*B60)","v":104.14019368603321},{"$f":"IF((B!J$2+B!J$3*B60)<B!J$4,B!J$2+B!J$3*B60,B!J$4)","v":97.499948575804936},{"$f":"IF(B60<B!K$4,B!K$2+B!K$3*(3*B60/(2*B!K$4)-0.5*(B60/B!K$4)^3),B!K$3+B!K$2)","v":98.647815782031046},{"$f":"(C60*B$45+D!D60*C$45+D!E60*D$45+D!F60*E$45+D!G60*F$45)/SUM(B$45:F$45)","v":99.424208938558451}]
[26,26,{"$f":"B!G$2+B!G$3*B61+B!G$4*B61^2","v":102.49676542904537},{"$f":"IF(B61<(B!H$3/(-2*B!H$4)),B!H$2+B!H$3*B61+B!H$4*B61^2,B!H$2+B!H$3*(B!H$3/(-2*B!H$4))+B!H$3*B!H$3/(4*B!H$4))","v":102.66412853588155},{"$f":"B!I$2+B!I$3*EXP(B!I$4*B61)","v":106.4494917907334},{"$f":"IF((B!J$2+B!J$3*B61)<B!J$4,B!J$2+B!J$3*B61,B!J$4)","v":99.166615683645077},{"$f":"IF(B61<B!K$4,B!K$2+B!K$3*(3*B61/(2*B!K$4)-0.5*(B61/B!K$4)^3),B!K$3+B!K$2)","v":100.55350469001785},{"$f":"(C61*B$45+D!D61*C$45+D!E61*D$45+D!F61*E$45+D!G61*F$45)/SUM(B$45:F$45)","v":101.37117425511524}]
[28,28,{"$f":"B!G$2+B!G$3*B62+B!G$4*B62^2","v":104.5250075568396},{"$f":"IF(B62<(B!H$3/(-2*B!H$4)),B!H$2+B!H$3*B62+B!H$4*B62^2,B!H$2+B!H$3*(B!H$3/(-2*B!H$4))+B!H$3*B!H$3/(4*B!H$4))","v":104.72657677153862},{"$f":"B!I$2+B!I$3*EXP(B!I$4*B62)","v":108.70448559660385},{"$f":"IF((B!J$2+B!J$3*B62)<B!J$4,B!J$2+B!J$3*B62,B!J$4)","v":100.83328279148522},{"$f":"IF(B62<B!K$4,B!K$2+B!K$3*(3*B62/(2*B!K$4)-0.5*(B62/B!K$4)^3),B!K$3+B!K$2)","v":102.45269688767705},{"$f":"(C62*B$45+D!D62*C$45+D!E62*D$45+D!F62*E$45+D!G62*F$45)/SUM(B$45:F$45)","v":103.30363170051943}]
[30,30,{"$f":"B!G$2+B!G$3*B63+B!G$4*B63^2","v":106.5300941455084},{"$f":"IF(B63<(B!H$3/(-2*B!H$4)),B!H$2+B!H$3*B63+B!H$4*B63^2,B!H$2+B!H$3*(B!H$3/(-2*B!H$4))+B!H$3*B!H$3/(4*B!H$4))","v":106.76452332804266},{"$f":"B!I$2+B!I$3*EXP(B!I$4*B63)","v":110.90645209636601},{"$f":"IF((B!J$2+B!J$3*B63)<B!J$4,B!J$2+B!J$3*B63,B!J$4)","v":102.49994989932536},{"$f":"IF(B63<B!K$4,B!K$2+B!K$3*(3*B63/(2*B!K$4)-0.5*(B63/B!K$4)^3),B!K$3+B!K$2)","v":104.34489262806039},{"$f":"(C63*B$45+D!D63*C$45+D!E63*D$45+D!F63*E$45+D!G63*F$45)/SUM(B$45:F$45)","v":105.22144570322415}]
[32,32,{"$f":"B!G$2+B!G$3*B64+B!G$4*B64^2","v":108.51202519505176},{"$f":"IF(B64<(B!H$3/(-2*B!H$4)),B!H$2+B!H$3*B64+B!H$4*B64^2,B!H$2+B!H$3*(B!H$3/(-2*B!H$4))+B!H$3*B!H$3/(4*B!H$4))","v":108.77796820539365},{"$f":"B!I$2+B!I$3*EXP(B!I$4*B64)","v":113.05663825361944},{"$f":"IF((B!J$2+B!J$3*B64)<B!J$4,B!J$2+B!J$3*B64,B!J$4)","v":104.16661700716551},{"$f":"IF(B64<B!K$4,B!K$2+B!K$3*(3*B64/(2*B!K$4)-0.5*(B64/B!K$4)^3),B!K$3+B!K$2)","v":106.22959216421961},{"$f":"(C64*B$45+D!D64*C$45+D!E64*D$45+D!F64*E$45+D!G64*F$45)/SUM(B$45:F$45)","v":107.12448058921609}]
[34,34,{"$f":"B!G$2+B!G$3*B65+B!G$4*B65^2","v":110.47080070546967},{"$f":"IF(B65<(B!H$3/(-2*B!H$4)),B!H$2+B!H$3*B65+B!H$4*B65^2,B!H$2+B!H$3*(B!H$3/(-2*B!H$4))+B!H$3*B!H$3/(4*B!H$4))","v":110.76691140359164},{"$f":"B!I$2+B!I$3*EXP(B!I$4*B65)","v":115.15626170899155},{"$f":"IF((B!J$2+B!J$3*B65)<B!J$4,B!J$2+B!J$3*B65,B!J$4)","v":105.83328411500565},{"$f":"IF(B65<B!K$4,B!K$2+B!K$3*(3*B65/(2*B!K$4)-0.5*(B65/B!K$4)^3),B!K$3+B!K$2)","v":108.10629574920641},{"$f":"(C65*B$45+D!D65*C$45+D!E65*D$45+D!F65*E$45+D!G65*F$45)/SUM(B$45:F$45)","v":109.01260058442531}]
[36,36,{"$f":"B!G$2+B!G$3*B66+B!G$4*B66^2","v":112.40642067676214},{"$f":"IF(B66<(B!H$3/(-2*B!H$4)),B!H$2+B!H$3*B66+B!H$4*B66^2,B!H$2+B!H$3*(B!H$3/(-2*B!H$4))+B!H$3*B!H$3/(4*B!H$4))","v":112.73135292263659},{"$f":"B!I$2+B!I$3*EXP(B!I$4*B66)","v":117.20651146968197},{"$f":"IF((B!J$2+B!J$3*B66)<B!J$4,B!J$2+B!J$3*B66,B!J$4)","v":107.49995122284579},{"$f":"IF(B66<B!K$4,B!K$2+B!K$3*(3*B66/(2*B!K$4)-0.5*(B66/B!K$4)^3),B!K$3+B!K$2)","v":109.97450363607251},{"$f":"(C66*B$45+D!D66*C$45+D!E66*D$45+D!F66*E$45+D!G66*F$45)/SUM(B$45:F$45)","v":110.88566981707797}]
[38,38,{"$f":"B!G$2+B!G$3*B67+B!G$4*B67^2","v":114.31888510892914},{"$f":"IF(B67<(B!H$3/(-2*B!H$4)),B!H$2+B!H$3*B67+B!H$4*B67^2,B!H$2+B!H$3*(B!H$3/(-2*B!H$4))+B!H$3*B!H$3/(4*B!H$4))","v":114.67129276252852},{"$f":"B!I$2+B!I$3*EXP(B!I$4*B67)","v":119.20854858279195},{"$f":"IF((B!J$2+B!J$3*B67)<B!J$4,B!J$2+B!J$3*B67,B!J$4)","v":109.16661833068594},{"$f":"IF(B67<B!K$4,B!K$2+B!K$3*(3*B67/(2*B!K$4)-0.5*(B67/B!K$4)^3),B!K$3+B!K$2)","v":111.83371607786967},{"$f":"(C67*B$45+D!D67*C$45+D!E67*D$45+D!F67*E$45+D!G67*F$45)/SUM(B$45:F$45)","v":112.7435523199939}]
[40,40,{"$f":"B!G$2+B!G$3*B68+B!G$4*B68^2","v":116.20819400197071},{"$f":"IF(B68<(B!H$3/(-2*B!H$4)),B!H$2+B!H$3*B68+B!H$4*B68^2,B!H$2+B!H$3*(B!H$3/(-2*B!H$4))+B!H$3*B!H$3/(4*B!H$4))","v":116.58673092326742},{"$f":"B!I$2+B!I$3*EXP(B!I$4*B68)","v":121.16350679281994},{"$f":"IF((B!J$2+B!J$3*B68)<B!J$4,B!J$2+B!J$3*B68,B!J$4)","v":110.83328543852608},{"$f":"IF(B68<B!K$4,B!K$2+B!K$3*(3*B68/(2*B!K$4)-0.5*(B68/B!K$4)^3),B!K$3+B!K$2)","v":113.68343332764957},{"$f":"(C68*B$45+D!D68*C$45+D!E68*D$45+D!F68*E$45+D!G68*F$45)/SUM(B$45:F$45)","v":114.5861120328302}]
[42,42,{"$f":"B!G$2+B!G$3*B69+B!G$4*B69^2","v":118.07434735588684},{"$f":"IF(B69<(B!H$3/(-2*B!H$4)),B!H$2+B!H$3*B69+B!H$4*B69^2,B!H$2+B!H$3*(B!H$3/(-2*B!H$4))+B!H$3*B!H$3/(4*B!H$4))","v":118.47766740485328},{"$f":"B!I$2+B!I$3*EXP(B!I$4*B69)","v":123.07249318369608},{"$f":"IF((B!J$2+B!J$3*B69)<B!J$4,B!J$2+B!J$3*B69,B!J$4)","v":112.49995254636622},{"$f":"IF(B69<B!K$4,B!K$2+B!K$3*(3*B69/(2*B!K$4)-0.5*(B69/B!K$4)^3),B!K$3+B!K$2)","v":115.52315563846395},{"$f":"(C69*B$45+D!D69*C$45+D!E69*D$45+D!F69*E$45+D!G69*F$45)/SUM(B$45:F$45)","v":116.41321280427199}]
[44,44,{"$f":"B!G$2+B!G$3*B70+B!G$4*B70^2","v":119.91734517067751},{"$f":"IF(B70<(B!H$3/(-2*B!H$4)),B!H$2+B!H$3*B70+B!H$4*B70^2,B!H$2+B!H$3*(B!H$3/(-2*B!H$4))+B!H$3*B!H$3/(4*B!H$4))","v":120.34410220728611},{"$f":"B!I$2+B!I$3*EXP(B!I$4*B70)","v":124.93658880571867},{"$f":"IF((B!J$2+B!J$3*B70)<B!J$4,B!J$2+B!J$3*B70,B!J$4)","v":114.16661965420636},{"$f":"IF(B70<B!K$4,B!K$2+B!K$3*(3*B70/(2*B!K$4)-0.5*(B70/B!K$4)^3),B!K$3+B!K$2)","v":117.35238326336454},{"$f":"(C70*B$45+D!D70*C$45+D!E70*D$45+D!F70*E$45+D!G70*F$45)/SUM(B$45:F$45)","v":118.2247183941716}]
[46,46,{"$f":"B!G$2+B!G$3*B71+B!G$4*B71^2","v":121.73718744634274},{"$f":"IF(B71<(B!H$3/(-2*B!H$4)),B!H$2+B!H$3*B71+B!H$4*B71^2,B!H$2+B!H$3*(B!H$3/(-2*B!H$4))+B!H$3*B!H$3/(4*B!H$4))","v":122.18603533056591},{"$f":"B!I$2+B!I$3*EXP(B!I$4*B71)","v":126.75684928774808},{"$f":"IF((B!J$2+B!J$3*B71)<B!J$4,B!J$2+B!J$3*B71,B!J$4)","v":115.8332867620465},{"$f":"IF(B71<B!K$4,B!K$2+B!K$3*(3*B71/(2*B!K$4)-0.5*(B71/B!K$4)^3),B!K$3+B!K$2)","v":119.17061645540308},{"$f":"(C71*B$45+D!D71*C$45+D!E71*D$45+D!F71*E$45+D!G71*F$45)/SUM(B$45:F$45)","v":120.0204924756376}]
[48,48,{"$f":"B!G$2+B!G$3*B72+B!G$4*B72^2","v":123.53387418288254},{"$f":"IF(B72<(B!H$3/(-2*B!H$4)),B!H$2+B!H$3*B72+B!H$4*B72^2,B!H$2+B!H$3*(B!H$3/(-2*B!H$4))+B!H$3*B!H$3/(4*B!H$4))","v":124.00346677469271},{"$f":"B!I$2+B!I$3*EXP(B!I$4*B72)","v":128.53430543500457},{"$f":"IF((B!J$2+B!J$3*B72)<B!J$4,B!J$2+B!J$3*B72,B!J$4)","v":117.49995386988665},{"$f":"IF(B72<B!K$4,B!K$2+B!K$3*(3*B72/(2*B!K$4)-0.5*(B72/B!K$4)^3),B!K$3+B!K$2)","v":120.97735546763127},{"$f":"(C72*B$45+D!D72*C$45+D!E72*D$45+D!F72*E$45+D!G72*F$45)/SUM(B$45:F$45)","v":121.80039863707451}]
[50,50,{"$f":"B!G$2+B!G$3*B73+B!G$4*B73^2","v":125.3074053802969},{"$f":"IF(B73<(B!H$3/(-2*B!H$4)),B!H$2+B!H$3*B73+B!H$4*B73^2,B!H$2+B!H$3*(B!H$3/(-2*B!H$4))+B!H$3*B!H$3/(4*B!H$4))","v":125.79639653966646},{"$f":"B!I$2+B!I$3*EXP(B!I$4*B73)","v":130.2699638128085},{"$f":"IF((B!J$2+B!J$3*B73)<B!J$4,B!J$2+B!J$3*B73,B!J$4)","v":119.16662097772679},{"$f":"IF(B73<B!K$4,B!K$2+B!K$3*(3*B73/(2*B!K$4)-0.5*(B73/B!K$4)^3),B!K$3+B!K$2)","v":122.77210055310083},{"$f":"(C73*B$45+D!D73*C$45+D!E73*D$45+D!F73*E$45+D!G73*F$45)/SUM(B$45:F$45)","v":123.56430038417471}]
[52,52,{"$f":"B!G$2+B!G$3*B74+B!G$4*B74^2","v":127.05778103858577},{"$f":"IF(B74<(B!H$3/(-2*B!H$4)),B!H$2+B!H$3*B74+B!H$4*B74^2,B!H$2+B!H$3*(B!H$3/(-2*B!H$4))+B!H$3*B!H$3/(4*B!H$4))","v":127.5648246254872},{"$f":"B!I$2+B!I$3*EXP(B!I$4*B74)","v":131.96480731659392},{"$f":"IF((B!J$2+B!J$3*B74)<B!J$4,B!J$2+B!J$3*B74,B!J$4)","v":120.83328808556693},{"$f":"IF(B74<B!K$4,B!K$2+B!K$3*(3*B74/(2*B!K$4)-0.5*(B74/B!K$4)^3),B!K$3+B!K$2)","v":124.5543519648635},{"$f":"(C74*B$45+D!D74*C$45+D!E74*D$45+D!F74*E$45+D!G74*F$45)/SUM(B$45:F$45)","v":125.31206114186367}]
[54,54,{"$f":"B!G$2+B!G$3*B75+B!G$4*B75^2","v":128.78500115774921},{"$f":"IF(B75<(B!H$3/(-2*B!H$4)),B!H$2+B!H$3*B75+B!H$4*B75^2,B!H$2+B!H$3*(B!H$3/(-2*B!H$4))+B!H$3*B!H$3/(4*B!H$4))","v":129.30875103215487},{"$f":"B!I$2+B!I$3*EXP(B!I$4*B75)","v":133.61979572851749},{"$f":"IF((B!J$2+B!J$3*B75)<B!J$4,B!J$2+B!J$3*B75,B!J$4)","v":122.49995519340708},{"$f":"IF(B75<B!K$4,B!K$2+B!K$3*(3*B75/(2*B!K$4)-0.5*(B75/B!K$4)^3),B!K$3+B!K$2)","v":126.32360995597099},{"$f":"(C75*B$45+D!D75*C$45+D!E75*D$45+D!F75*E$45+D!G75*F$45)/SUM(B$45:F$45)","v":127.04354425619876}]
[56,56,{"$f":"B!G$2+B!G$3*B76+B!G$4*B76^2","v":130.4890657377872},{"$f":"IF(B76<(B!H$3/(-2*B!H$4)),B!H$2+B!H$3*B76+B!H$4*B76^2,B!H$2+B!H$3*(B!H$3/(-2*B!H$4))+B!H$3*B!H$3/(4*B!H$4))","v":131.02817575966958},{"$f":"B!I$2+B!I$3*EXP(B!I$4*B76)","v":135.23586626097898},{"$f":"IF((B!J$2+B!J$3*B76)<B!J$4,B!J$2+B!J$3*B76,B!J$4)","v":124.16662230124723},{"$f":"IF(B76<B!K$4,B!K$2+B!K$3*(3*B76/(2*B!K$4)-0.5*(B76/B!K$4)^3),B!K$3+B!K$2)","v":128.07937477947505},{"$f":"(C76*B$45+D!D76*C$45+D!E76*D$45+D!F76*E$45+D!G76*F$45)/SUM(B$45:F$45)","v":128.75861299622434}]
[58,58,{"$f":"B!G$2+B!G$3*B77+B!G$4*B77^2","v":132.16997477869978},{"$f":"IF(B77<(B!H$3/(-2*B!H$4)),B!H$2+B!H$3*B77+B!H$4*B77^2,B!H$2+B!H$3*(B!H$3/(-2*B!H$4))+B!H$3*B!H$3/(4*B!H$4))","v":132.72309880803121},{"$f":"B!I$2+B!I$3*EXP(B!I$4*B77)","v":136.81393408736011},{"$f":"IF((B!J$2+B!J$3*B77)<B!J$4,B!J$2+B!J$3*B77,B!J$4)","v":125.83328940908737},{"$f":"IF(B77<B!K$4,B!K$2+B!K$3*(3*B77/(2*B!K$4)-0.5*(B77/B!K$4)^3),B!K$3+B!K$2)","v":129.82114668842738},{"$f":"(C77*B$45+D!D77*C$45+D!E77*D$45+D!F77*E$45+D!G77*F$45)/SUM(B$45:F$45)","v":130.45713055578247}]
[60,60,{"$f":"B!G$2+B!G$3*B78+B!G$4*B78^2","v":133.82772828048687},{"$f":"IF(B78<(B!H$3/(-2*B!H$4)),B!H$2+B!H$3*B78+B!H$4*B78^2,B!H$2+B!H$3*(B!H$3/(-2*B!H$4))+B!H$3*B!H$3/(4*B!H$4))","v":134.39352017723985},{"$f":"B!I$2+B!I$3*EXP(B!I$4*B78)","v":138.3548928602834},{"$f":"IF((B!J$2+B!J$3*B78)<B!J$4,B!J$2+B!J$3*B78,B!J$4)","v":127.49995651692751},{"$f":"IF(B78<B!K$4,B!K$2+B!K$3*(3*B78/(2*B!K$4)-0.5*(B78/B!K$4)^3),B!K$3+B!K$2)","v":131.54842593587972},{"$f":"(C78*B$45+D!D78*C$45+D!E78*D$45+D!F78*E$45+D!G78*F$45)/SUM(B$45:F$45)","v":132.13896005528144}]
[62,62,{"$f":"B!G$2+B!G$3*B79+B!G$4*B79^2","v":135.46232624314857},{"$f":"IF(B79<(B!H$3/(-2*B!H$4)),B!H$2+B!H$3*B79+B!H$4*B79^2,B!H$2+B!H$3*(B!H$3/(-2*B!H$4))+B!H$3*B!H$3/(4*B!H$4))","v":136.03943986729541},{"$f":"B!I$2+B!I$3*EXP(B!I$4*B79)","v":139.8596152176834},{"$f":"IF((B!J$2+B!J$3*B79)<B!J$4,B!J$2+B!J$3*B79,B!J$4)","v":129.16662362476765},{"$f":"IF(B79<B!K$4,B!K$2+B!K$3*(3*B79/(2*B!K$4)-0.5*(B79/B!K$4)^3),B!K$3+B!K$2)","v":133.26071277488379},{"$f":"(C79*B$45+D!D79*C$45+D!E79*D$45+D!F79*E$45+D!G79*F$45)/SUM(B$45:F$45)","v":133.80396454342258}]
[64,64,{"$f":"B!G$2+B!G$3*B80+B!G$4*B80^2","v":137.07376866668477},{"$f":"IF(B80<(B!H$3/(-2*B!H$4)),B!H$2+B!H$3*B80+B!H$4*B80^2,B!H$2+B!H$3*(B!H$3/(-2*B!H$4))+B!H$3*B!H$3/(4*B!H$4))","v":137.66085787819799},{"$f":"B!I$2+B!I$3*EXP(B!I$4*B80)","v":141.3289532769775},{"$f":"IF((B!J$2+B!J$3*B80)<B!J$4,B!J$2+B!J$3*B80,B!J$4)","v":130.83329073260779},{"$f":"IF(B80<B!K$4,B!K$2+B!K$3*(3*B80/(2*B!K$4)-0.5*(B80/B!K$4)^3),B!K$3+B!K$2)","v":134.95750745849128},{"$f":"(C80*B$45+D!D80*C$45+D!E80*D$45+D!F80*E$45+D!G80*F$45)/SUM(B$45:F$45)","v":135.4520069988865}]
[66,66,{"$f":"B!G$2+B!G$3*B81+B!G$4*B81^2","v":138.66205555109553},{"$f":"IF(B81<(B!H$3/(-2*B!H$4)),B!H$2+B!H$3*B81+B!H$4*B81^2,B!H$2+B!H$3*(B!H$3/(-2*B!H$4))+B!H$3*B!H$3/(4*B!H$4))","v":139.25777420994751},{"$f":"B!I$2+B!I$3*EXP(B!I$4*B81)","v":142.76373911761635},{"$f":"IF((B!J$2+B!J$3*B81)<B!J$4,B!J$2+B!J$3*B81,B!J$4)","v":132.49995784044793},{"$f":"IF(B81<B!K$4,B!K$2+B!K$3*(3*B81/(2*B!K$4)-0.5*(B81/B!K$4)^3),B!K$3+B!K$2)","v":136.63831023975396},{"$f":"(C81*B$45+D!D81*C$45+D!E81*D$45+D!F81*E$45+D!G81*F$45)/SUM(B$45:F$45)","v":137.08295033197962}]
[68,68,{"$f":"B!G$2+B!G$3*B82+B!G$4*B82^2","v":140.22718689638086},{"$f":"IF(B82<(B!H$3/(-2*B!H$4)),B!H$2+B!H$3*B82+B!H$4*B82^2,B!H$2+B!H$3*(B!H$3/(-2*B!H$4))+B!H$3*B!H$3/(4*B!H$4))","v":140.83018886254399},{"$f":"B!I$2+B!I$3*EXP(B!I$4*B82)","v":144.16478525228644},{"$f":"IF((B!J$2+B!J$3*B82)<B!J$4,B!J$2+B!J$3*B82,B!J$4)","v":134.16662494828807},{"$f":"IF(B82<B!K$4,B!K$2+B!K$3*(3*B82/(2*B!K$4)-0.5*(B82/B!K$4)^3),B!K$3+B!K$2)","v":138.30262137172355},{"$f":"(C82*B$45+D!D82*C$45+D!E82*D$45+D!F82*E$45+D!G82*F$45)/SUM(B$45:F$45)","v":138.69665738624212}]
[70,70,{"$f":"B!G$2+B!G$3*B83+B!G$4*B83^2","v":141.76916270254074},{"$f":"IF(B83<(B!H$3/(-2*B!H$4)),B!H$2+B!H$3*B83+B!H$4*B83^2,B!H$2+B!H$3*(B!H$3/(-2*B!H$4))+B!H$3*B!H$3/(4*B!H$4))","v":142.37810183598751},{"$f":"B!I$2+B!I$3*EXP(B!I$4*B83)","v":145.53288508703255},{"$f":"IF((B!J$2+B!J$3*B83)<B!J$4,B!J$2+B!J$3*B83,B!J$4)","v":135.83329205612822},{"$f":"IF(B83<B!K$4,B!K$2+B!K$3*(3*B83/(2*B!K$4)-0.5*(B83/B!K$4)^3),B!K$3+B!K$2)","v":139.94994110745176},{"$f":"(C83*B$45+D!D83*C$45+D!E83*D$45+D!F83*E$45+D!G83*F$45)/SUM(B$45:F$45)","v":140.29299094001783}]
[72,72,{"$f":"B!G$2+B!G$3*B84+B!G$4*B84^2","v":143.28798296957518},{"$f":"IF(B84<(B!H$3/(-2*B!H$4)),B!H$2+B!H$3*B84+B!H$4*B84^2,B!H$2+B!H$3*(B!H$3/(-2*B!H$4))+B!H$3*B!H$3/(4*B!H$4))","v":143.90151313027792},{"$f":"B!I$2+B!I$3*EXP(B!I$4*B84)","v":146.86881337055982},{"$f":"IF((B!J$2+B!J$3*B84)<B!J$4,B!J$2+B!J$3*B84,B!J$4)","v":137.49995916396836},{"$f":"IF(B84<B!K$4,B!K$2+B!K$3*(3*B84/(2*B!K$4)-0.5*(B84/B!K$4)^3),B!K$3+B!K$2)","v":141.57976969999032},{"$f":"(C84*B$45+D!D84*C$45+D!E84*D$45+D!F84*E$45+D!G84*F$45)/SUM(B$45:F$45)","v":141.87181370798751}]
[74,74,{"$f":"B!G$2+B!G$3*B85+B!G$4*B85^2","v":144.78364769748416},{"$f":"IF(B85<(B!H$3/(-2*B!H$4)),B!H$2+B!H$3*B85+B!H$4*B85^2,B!H$2+B!H$3*(B!H$3/(-2*B!H$4))+B!H$3*B!H$3/(4*B!H$4))","v":145.40042274541537},{"$f":"B!I$2+B!I$3*EXP(B!I$4*B85)","v":148.17332663297043},{"$f":"IF((B!J$2+B!J$3*B85)<B!J$4,B!J$2+B!J$3*B85,B!J$4)","v":139.16662627180852},{"$f":"IF(B85<B!K$4,B!K$2+B!K$3*(3*B85/(2*B!K$4)-0.5*(B85/B!K$4)^3),B!K$3+B!K$2)","v":143.19160740239093},{"$f":"(C85*B$45+D!D85*C$45+D!E85*D$45+D!F85*E$45+D!G85*F$45)/SUM(B$45:F$45)","v":143.43298834266577}]
[76,76,{"$f":"B!G$2+B!G$3*B86+B!G$4*B86^2","v":146.25615688626769},{"$f":"IF(B86<(B!H$3/(-2*B!H$4)),B!H$2+B!H$3*B86+B!H$4*B86^2,B!H$2+B!H$3*(B!H$3/(-2*B!H$4))+B!H$3*B!H$3/(4*B!H$4))","v":146.87483068139974},{"$f":"B!I$2+B!I$3*EXP(B!I$4*B86)","v":149.44716361418324},{"$f":"IF((B!J$2+B!J$3*B86)<B!J$4,B!J$2+B!J$3*B86,B!J$4)","v":140.83329337964864},{"$f":"IF(B86<B!K$4,B!K$2+B!K$3*(3*B86/(2*B!K$4)-0.5*(B86/B!K$4)^3),B!K$3+B!K$2)","v":144.78495446770535},{"$f":"(C86*B$45+D!D86*C$45+D!E86*D$45+D!F86*E$45+D!G86*F$45)/SUM(B$45:F$45)","v":144.9763774358631}]
[78,78,{"$f":"B!G$2+B!G$3*B87+B!G$4*B87^2","v":147.70551053592578},{"$f":"IF(B87<(B!H$3/(-2*B!H$4)),B!H$2+B!H$3*B87+B!H$4*B87^2,B!H$2+B!H$3*(B!H$3/(-2*B!H$4))+B!H$3*B!H$3/(4*B!H$4))","v":148.32473693823113},{"$f":"B!I$2+B!I$3*EXP(B!I$4*B87)","v":150.69104568227883},{"$f":"IF((B!J$2+B!J$3*B87)<B!J$4,B!J$2+B!J$3*B87,B!J$4)","v":142.49996048748881},{"$f":"IF(B87<B!K$4,B!K$2+B!K$3*(3*B87/(2*B!K$4)-0.5*(B87/B!K$4)^3),B!K$3+B!K$2)","v":146.35931114898528},{"$f":"(C87*B$45+D!D87*C$45+D!E87*D$45+D!F87*E$45+D!G87*F$45)/SUM(B$45:F$45)","v":146.50184352011323}]
[80,80,{"$f":"B!G$2+B!G$3*B88+B!G$4*B88^2","v":149.13170864645843},{"$f":"IF(B88<(B!H$3/(-2*B!H$4)),B!H$2+B!H$3*B88+B!H$4*B88^2,B!H$2+B!H$3*(B!H$3/(-2*B!H$4))+B!H$3*B!H$3/(4*B!H$4))","v":149.75014151590946},{"$f":"B!I$2+B!I$3*EXP(B!I$4*B88)","v":151.90567724200679},{"$f":"IF((B!J$2+B!J$3*B88)<B!J$4,B!J$2+B!J$3*B88,B!J$4)","v":144.16662759532892},{"$f":"IF(B88<B!K$4,B!K$2+B!K$3*(3*B88/(2*B!K$4)-0.5*(B88/B!K$4)^3),B!K$3+B!K$2)","v":147.91417769928245},{"$f":"(C88*B$45+D!D88*C$45+D!E88*D$45+D!F88*E$45+D!G88*F$45)/SUM(B$45:F$45)","v":148.00924907006709}]
[82,82,{"$f":"B!G$2+B!G$3*B89+B!G$4*B89^2","v":150.53475121786565},{"$f":"IF(B89<(B!H$3/(-2*B!H$4)),B!H$2+B!H$3*B89+B!H$4*B89^2,B!H$2+B!H$3*(B!H$3/(-2*B!H$4))+B!H$3*B!H$3/(4*B!H$4))","v":151.15104441443475},{"$f":"B!I$2+B!I$3*EXP(B!I$4*B89)","v":153.09174613368717},{"$f":"IF((B!J$2+B!J$3*B89)<B!J$4,B!J$2+B!J$3*B89,B!J$4)","v":145.83329470316909},{"$f":"IF(B89<B!K$4,B!K$2+B!K$3*(3*B89/(2*B!K$4)-0.5*(B89/B!K$4)^3),B!K$3+B!K$2)","v":149.44905437164863},{"$f":"(C89*B$45+D!D89*C$45+D!E89*D$45+D!F89*E$45+D!G89*F$45)/SUM(B$45:F$45)","v":149.49845650385399}]
[84,84,{"$f":"B!G$2+B!G$3*B90+B!G$4*B90^2","v":151.91463825014739},{"$f":"IF(B90<(B!H$3/(-2*B!H$4)),B!H$2+B!H$3*B90+B!H$4*B90^2,B!H$2+B!H$3*(B!H$3/(-2*B!H$4))+B!H$3*B!H$3/(4*B!H$4))","v":152.52744563380708},{"$f":"B!I$2+B!I$3*EXP(B!I$4*B90)","v":154.24992402273111},{"$f":"IF((B!J$2+B!J$3*B90)<B!J$4,B!J$2+B!J$3*B90,B!J$4)","v":147.49996181100923},{"$f":"IF(B90<B!K$4,B!K$2+B!K$3*(3*B90/(2*B!K$4)-0.5*(B90/B!K$4)^3),B!K$3+B!K$2)","v":150.96344141913545},{"$f":"(C90*B$45+D!D90*C$45+D!E90*D$45+D!F90*E$45+D!G90*F$45)/SUM(B$45:F$45)","v":150.96932818441067}]
[86,86,{"$f":"B!G$2+B!G$3*B91+B!G$4*B91^2","v":153.27136974330369},{"$f":"IF(B91<(B!H$3/(-2*B!H$4)),B!H$2+B!H$3*B91+B!H$4*B91^2,B!H$2+B!H$3*(B!H$3/(-2*B!H$4))+B!H$3*B!H$3/(4*B!H$4))","v":153.8793451740263},{"$f":"B!I$2+B!I$3*EXP(B!I$4*B91)","v":155.38086678000207},{"$f":"IF((B!J$2+B!J$3*B91)<B!J$4,B!J$2+B!J$3*B91,B!J$4)","v":149.16662891884937},{"$f":"IF(B91<B!K$4,B!K$2+B!K$3*(3*B91/(2*B!K$4)-0.5*(B91/B!K$4)^3),B!K$3+B!K$2)","v":152.4568390947947},{"$f":"(C91*B$45+D!D91*C$45+D!E91*D$45+D!F91*E$45+D!G91*F$45)/SUM(B$45:F$45)","v":152.42172642077932}]
[88,88,{"$f":"B!G$2+B!G$3*B92+B!G$4*B92^2","v":154.60494569733456},{"$f":"IF(B92<(B!H$3/(-2*B!H$4)),B!H$2+B!H$3*B92+B!H$4*B92^2,B!H$2+B!H$3*(B!H$3/(-2*B!H$4))+B!H$3*B!H$3/(4*B!H$4))","v":155.20674303509256},{"$f":"B!I$2+B!I$3*EXP(B!I$4*B92)","v":156.48521485323238},{"$f":"IF((B!J$2+B!J$3*B92)<B!J$4,B!J$2+B!J$3*B92,B!J$4)","v":150.83329602668951},{"$f":"IF(B92<B!K$4,B!K$2+B!K$3*(3*B92/(2*B!K$4)-0.5*(B92/B!K$4)^3),B!K$3+B!K$2)","v":153.92874765167812},{"$f":"(C92*B$45+D!D92*C$45+D!E92*D$45+D!F92*E$45+D!G92*F$45)/SUM(B$45:F$45)","v":153.85551346937476}]
[90,90,{"$f":"B!G$2+B!G$3*B93+B!G$4*B93^2","v":155.91536611223998},{"$f":"IF(B93<(B!H$3/(-2*B!H$4)),B!H$2+B!H$3*B93+B!H$4*B93^2,B!H$2+B!H$3*(B!H$3/(-2*B!H$4))+B!H$3*B!H$3/(4*B!H$4))","v":156.50963921700571},{"$f":"B!I$2+B!I$3*EXP(B!I$4*B93)","v":157.56359362970593},{"$f":"IF((B!J$2+B!J$3*B93)<B!J$4,B!J$2+B!J$3*B93,B!J$4)","v":152.49996313452965},{"$f":"IF(B93<B!K$4,B!K$2+B!K$3*(3*B93/(2*B!K$4)-0.5*(B93/B!K$4)^3),B!K$3+B!K$2)","v":155.37866734283739},{"$f":"(C93*B$45+D!D93*C$45+D!E93*D$45+D!F93*E$45+D!G93*F$45)/SUM(B$45:F$45)","v":155.27055153522218}]
[92,92,{"$f":"B!G$2+B!G$3*B94+B!G$4*B94^2","v":157.20263098801993},{"$f":"IF(B94<(B!H$3/(-2*B!H$4)),B!H$2+B!H$3*B94+B!H$4*B94^2,B!H$2+B!H$3*(B!H$3/(-2*B!H$4))+B!H$3*B!H$3/(4*B!H$4))","v":157.78803371976591},{"$f":"B!I$2+B!I$3*EXP(B!I$4*B94)","v":158.6166137904122},{"$f":"IF((B!J$2+B!J$3*B94)<B!J$4,B!J$2+B!J$3*B94,B!J$4)","v":154.16663024236979},{"$f":"IF(B94<B!K$4,B!K$2+B!K$3*(3*B94/(2*B!K$4)-0.5*(B94/B!K$4)^3),B!K$3+B!K$2)","v":156.80609842132424},{"$f":"(C94*B$45+D!D94*C$45+D!E94*D$45+D!F94*E$45+D!G94*F$45)/SUM(B$45:F$45)","v":156.66670277316544}]
[94,94,{"$f":"B!G$2+B!G$3*B95+B!G$4*B95^2","v":158.46674032467448},{"$f":"IF(B95<(B!H$3/(-2*B!H$4)),B!H$2+B!H$3*B95+B!H$4*B95^2,B!H$2+B!H$3*(B!H$3/(-2*B!H$4))+B!H$3*B!H$3/(4*B!H$4))","v":159.04192654337305},{"$f":"B!I$2+B!I$3*EXP(B!I$4*B95)","v":159.64487165587195},{"$f":"IF((B!J$2+B!J$3*B95)<B!J$4,B!J$2+B!J$3*B95,B!J$4)","v":155.83329735020993},{"$f":"IF(B95<B!K$4,B!K$2+B!K$3*(3*B95/(2*B!K$4)-0.5*(B95/B!K$4)^3),B!K$3+B!K$2)","v":158.2105411401904},{"$f":"(C95*B$45+D!D95*C$45+D!E95*D$45+D!F95*E$45+D!G95*F$45)/SUM(B$45:F$45)","v":158.04382928904712}]
[96,96,{"$f":"B!G$2+B!G$3*B96+B!G$4*B96^2","v":159.70769412220355},{"$f":"IF(B96<(B!H$3/(-2*B!H$4)),B!H$2+B!H$3*B96+B!H$4*B96^2,B!H$2+B!H$3*(B!H$3/(-2*B!H$4))+B!H$3*B!H$3/(4*B!H$4))","v":160.27131768782712},{"$f":"B!I$2+B!I$3*EXP(B!I$4*B96)","v":160.64894952383105},{"$f":"IF((B!J$2+B!J$3*B96)<B!J$4,B!J$2+B!J$3*B96,B!J$4)","v":157.4999644580501},{"$f":"IF(B96<B!K$4,B!K$2+B!K$3*(3*B96/(2*B!K$4)-0.5*(B96/B!K$4)^3),B!K$3+B!K$2)","v":159.59149575248762},{"$f":"(C96*B$45+D!D96*C$45+D!E96*D$45+D!F96*E$45+D!G96*F$45)/SUM(B$45:F$45)","v":159.40179314086106}]
[98,98,{"$f":"B!G$2+B!G$3*B97+B!G$4*B97^2","v":160.92549238060718},{"$f":"IF(B97<(B!H$3/(-2*B!H$4)),B!H$2+B!H$3*B97+B!H$4*B97^2,B!H$2+B!H$3*(B!H$3/(-2*B!H$4))+B!H$3*B!H$3/(4*B!H$4))","v":161.47620715312826},{"$f":"B!I$2+B!I$3*EXP(B!I$4*B97)","v":161.62941599901285},{"$f":"IF((B!J$2+B!J$3*B97)<B!J$4,B!J$2+B!J$3*B97,B!J$4)","v":159.16663156589021},{"$f":"IF(B97<B!K$4,B!K$2+B!K$3*(3*B97/(2*B!K$4)-0.5*(B97/B!K$4)^3),B!K$3+B!K$2)","v":160.94846251126756},{"$f":"(C97*B$45+D!D97*C$45+D!E97*D$45+D!F97*E$45+D!G97*F$45)/SUM(B$45:F$45)","v":160.74045633987711}]
[100,100,{"$f":"B!G$2+B!G$3*B98+B!G$4*B98^2","v":162.12013509988537},{"$f":"IF(B98<(B!H$3/(-2*B!H$4)),B!H$2+B!H$3*B98+B!H$4*B98^2,B!H$2+B!H$3*(B!H$3/(-2*B!H$4))+B!H$3*B!H$3/(4*B!H$4))","v":162.65659493927629},{"$f":"B!I$2+B!I$3*EXP(B!I$4*B98)","v":162.5868263151165},{"$f":"IF((B!J$2+B!J$3*B98)<B!J$4,B!J$2+B!J$3*B98,B!J$4)","v":160.83329867373038},{"$f":"IF(B98<B!K$4,B!K$2+B!K$3*(3*B98/(2*B!K$4)-0.5*(B98/B!K$4)^3),B!K$3+B!K$2)","v":162.28094166958201},{"$f":"(C98*B$45+D!D98*C$45+D!E98*D$45+D!F98*E$45+D!G98*F$45)/SUM(B$45:F$45)","v":162.05968085174027}]
[102,102,{"$f":"B!G$2+B!G$3*B99+B!G$4*B99^2","v":163.2916222800381},{"$f":"IF(B99<(B!H$3/(-2*B!H$4)),B!H$2+B!H$3*B99+B!H$4*B99^2,B!H$2+B!H$3*(B!H$3/(-2*B!H$4))+B!H$3*B!H$3/(4*B!H$4))","v":163.81248104627136},{"$f":"B!I$2+B!I$3*EXP(B!I$4*B99)","v":163.52172264924329},{"$f":"IF((B!J$2+B!J$3*B99)<B!J$4,B!J$2+B!J$3*B99,B!J$4)","v":162.49996578157049},{"$f":"IF(B99<B!K$4,B!K$2+B!K$3*(3*B99/(2*B!K$4)-0.5*(B99/B!K$4)^3),B!K$3+B!K$2)","v":163.58843348048268},{"$f":"(C99*B$45+D!D99*C$45+D!E99*D$45+D!F99*E$45+D!G99*F$45)/SUM(B$45:F$45)","v":163.35932859754337}]
[104,104,{"$f":"B!G$2+B!G$3*B100+B!G$4*B100^2","v":164.43995392106541},{"$f":"IF(B100<(B!H$3/(-2*B!H$4)),B!H$2+B!H$3*B100+B!H$4*B100^2,B!H$2+B!H$3*(B!H$3/(-2*B!H$4))+B!H$3*B!H$3/(4*B!H$4))","v":164.94386547411332},{"$f":"B!I$2+B!I$3*EXP(B!I$4*B100)","v":164.43463442892912},{"$f":"IF((B!J$2+B!J$3*B100)<B!J$4,B!J$2+B!J$3*B100,B!J$4)","v":164.16663288941066},{"$f":"IF(B100<B!K$4,B!K$2+B!K$3*(3*B100/(2*B!K$4)-0.5*(B100/B!K$4)^3),B!K$3+B!K$2)","v":164.87043819702126},{"$f":"(C100*B$45+D!D100*C$45+D!E100*D$45+D!F100*E$45+D!G100*F$45)/SUM(B$45:F$45)","v":164.63926145487474}]
[106,106,{"$f":"B!G$2+B!G$3*B101+B!G$4*B101^2","v":165.56513002296725},{"$f":"IF(B101<(B!H$3/(-2*B!H$4)),B!H$2+B!H$3*B101+B!H$4*B101^2,B!H$2+B!H$3*(B!H$3/(-2*B!H$4))+B!H$3*B!H$3/(4*B!H$4))","v":166.0507482228023},{"$f":"B!I$2+B!I$3*EXP(B!I$4*B101)","v":165.32607863195676},{"$f":"IF((B!J$2+B!J$3*B101)<B!J$4,B!J$2+B!J$3*B101,B!J$4)","v":165.83329999725078},{"$f":"IF(B101<B!K$4,B!K$2+B!K$3*(3*B101/(2*B!K$4)-0.5*(B101/B!K$4)^3),B!K$3+B!K$2)","v":166.12645607224951},{"$f":"(C101*B$45+D!D101*C$45+D!E101*D$45+D!F101*E$45+D!G101*F$45)/SUM(B$45:F$45)","v":165.89934125884136}]
[108,108,{"$f":"B!G$2+B!G$3*B102+B!G$4*B102^2","v":166.66715058574366},{"$f":"IF(B102<(B!H$3/(-2*B!H$4)),B!H$2+B!H$3*B102+B!H$4*B102^2,B!H$2+B!H$3*(B!H$3/(-2*B!H$4))+B!H$3*B!H$3/(4*B!H$4))","v":167.13312929233825},{"$f":"B!I$2+B!I$3*EXP(B!I$4*B102)","v":166.19656007911814},{"$f":"IF((B!J$2+B!J$3*B102)<B!J$4,B!J$2+B!J$3*B102,B!J$4)","v":167.49996710509095},{"$f":"IF(B102<B!K$4,B!K$2+B!K$3*(3*B102/(2*B!K$4)-0.5*(B102/B!K$4)^3),B!K$3+B!K$2)","v":167.35598735921917},{"$f":"(C102*B$45+D!D102*C$45+D!E102*D$45+D!F102*E$45+D!G102*F$45)/SUM(B$45:F$45)","v":167.13942980306774}]
[110,110,{"$f":"B!G$2+B!G$3*B103+B!G$4*B103^2","v":167.74601560939462},{"$f":"IF(B103<(B!H$3/(-2*B!H$4)),B!H$2+B!H$3*B103+B!H$4*B103^2,B!H$2+B!H$3*(B!H$3/(-2*B!H$4))+B!H$3*B!H$3/(4*B!H$4))","v":168.19100868272116},{"$f":"B!I$2+B!I$3*EXP(B!I$4*B103)","v":167.046571720092},{"$f":"IF((B!J$2+B!J$3*B103)<B!J$4,B!J$2+B!J$3*B103,B!J$4)","v":169.16663421293109},{"$f":"IF(B103<B!K$4,B!K$2+B!K$3*(3*B103/(2*B!K$4)-0.5*(B103/B!K$4)^3),B!K$3+B!K$2)","v":168.55853231098189},{"$f":"(C103*B$45+D!D103*C$45+D!E103*D$45+D!F103*E$45+D!G103*F$45)/SUM(B$45:F$45)","v":168.35938884067133}]
[112,112,{"$f":"B!G$2+B!G$3*B104+B!G$4*B104^2","v":168.80172509392011},{"$f":"IF(B104<(B!H$3/(-2*B!H$4)),B!H$2+B!H$3*B104+B!H$4*B104^2,B!H$2+B!H$3*(B!H$3/(-2*B!H$4))+B!H$3*B!H$3/(4*B!H$4))","v":169.22438639395108},{"$f":"B!I$2+B!I$3*EXP(B!I$4*B104)","v":167.8765949125991},{"$f":"IF((B!J$2+B!J$3*B104)<B!J$4,B!J$2+B!J$3*B104,B!J$4)","v":170.83330132077123},{"$f":"IF(B104<B!K$4,B!K$2+B!K$3*(3*B104/(2*B!K$4)-0.5*(B104/B!K$4)^3),B!K$3+B!K$2)","v":169.73359118058949},{"$f":"(C104*B$45+D!D104*C$45+D!E104*D$45+D!F104*E$45+D!G104*F$45)/SUM(B$45:F$45)","v":169.5590800852153}]
[114,114,{"$f":"B!G$2+B!G$3*B105+B!G$4*B105^2","v":169.83427903932017},{"$f":"IF(B105<(B!H$3/(-2*B!H$4)),B!H$2+B!H$3*B105+B!H$4*B105^2,B!H$2+B!H$3*(B!H$3/(-2*B!H$4))+B!H$3*B!H$3/(4*B!H$4))","v":170.23326242602792},{"$f":"B!I$2+B!I$3*EXP(B!I$4*B105)","v":168.68709969499287},{"$f":"IF((B!J$2+B!J$3*B105)<B!J$4,B!J$2+B!J$3*B105,B!J$4)","v":172.49996842861137},{"$f":"IF(B105<B!K$4,B!K$2+B!K$3*(3*B105/(2*B!K$4)-0.5*(B105/B!K$4)^3),B!K$3+B!K$2)","v":170.88066422109358},{"$f":"(C105*B$45+D!D105*C$45+D!E105*D$45+D!F105*E$45+D!G105*F$45)/SUM(B$45:F$45)","v":170.73836521163832}]
[116,116,{"$f":"B!G$2+B!G$3*B106+B!G$4*B106^2","v":170.84367744559481},{"$f":"IF(B106<(B!H$3/(-2*B!H$4)),B!H$2+B!H$3*B106+B!H$4*B106^2,B!H$2+B!H$3*(B!H$3/(-2*B!H$4))+B!H$3*B!H$3/(4*B!H$4))","v":171.21763677895177},{"$f":"B!I$2+B!I$3*EXP(B!I$4*B106)","v":169.47854505243993},{"$f":"IF((B!J$2+B!J$3*B106)<B!J$4,B!J$2+B!J$3*B106,B!J$4)","v":174.16663553645151},{"$f":"IF(B106<B!K$4,B!K$2+B!K$3*(3*B106/(2*B!K$4)-0.5*(B106/B!K$4)^3),B!K$3+B!K$2)","v":171.999251685546},{"$f":"(C106*B$45+D!D106*C$45+D!E106*D$45+D!F106*E$45+D!G106*F$45)/SUM(B$45:F$45)","v":171.89710585716333}]
[118,118,{"$f":"B!G$2+B!G$3*B107+B!G$4*B107^2","v":171.82992031274398},{"$f":"IF(B107<(B!H$3/(-2*B!H$4)),B!H$2+B!H$3*B107+B!H$4*B107^2,B!H$2+B!H$3*(B!H$3/(-2*B!H$4))+B!H$3*B!H$3/(4*B!H$4))","v":172.17750945272257},{"$f":"B!I$2+B!I$3*EXP(B!I$4*B107)","v":170.25137917684148},{"$f":"IF((B!J$2+B!J$3*B107)<B!J$4,B!J$2+B!J$3*B107,B!J$4)","v":175.83330264429165},{"$f":"IF(B107<B!K$4,B!K$2+B!K$3*(3*B107/(2*B!K$4)-0.5*(B107/B!K$4)^3),B!K$3+B!K$2)","v":173.08885382699839},{"$f":"(C107*B$45+D!D107*C$45+D!E107*D$45+D!F107*E$45+D!G107*F$45)/SUM(B$45:F$45)","v":173.03516362218386}]
[120,120,{"$f":"B!G$2+B!G$3*B108+B!G$4*B108^2","v":172.79300764076768},{"$f":"IF(B108<(B!H$3/(-2*B!H$4)),B!H$2+B!H$3*B108+B!H$4*B108^2,B!H$2+B!H$3*(B!H$3/(-2*B!H$4))+B!H$3*B!H$3/(4*B!H$4))","v":173.11288044734039},{"$f":"B!I$2+B!I$3*EXP(B!I$4*B108)","v":171.00603972064209},{"$f":"IF((B!J$2+B!J$3*B108)<B!J$4,B!J$2+B!J$3*B108,B!J$4)","v":177.49996975213179},{"$f":"IF(B108<B!K$4,B!K$2+B!K$3*(3*B108/(2*B!K$4)-0.5*(B108/B!K$4)^3),B!K$3+B!K$2)","v":174.14897089850257},{"$f":"(C108*B$45+D!D108*C$45+D!E108*D$45+D!F108*E$45+D!G108*F$45)/SUM(B$45:F$45)","v":174.15240007113064}]
[122,122,{"$f":"B!G$2+B!G$3*B109+B!G$4*B109^2","v":173.73293942966598},{"$f":"IF(B109<(B!H$3/(-2*B!H$4)),B!H$2+B!H$3*B109+B!H$4*B109^2,B!H$2+B!H$3*(B!H$3/(-2*B!H$4))+B!H$3*B!H$3/(4*B!H$4))","v":174.0237497628051},{"$f":"B!I$2+B!I$3*EXP(B!I$4*B109)","v":171.74295404467048},{"$f":"IF((B!J$2+B!J$3*B109)<B!J$4,B!J$2+B!J$3*B109,B!J$4)","v":179.16663685997196},{"$f":"IF(B109<B!K$4,B!K$2+B!K$3*(3*B109/(2*B!K$4)-0.5*(B109/B!K$4)^3),B!K$3+B!K$2)","v":175.17910315311013},{"$f":"(C109*B$45+D!D109*C$45+D!E109*D$45+D!F109*E$45+D!G109*F$45)/SUM(B$45:F$45)","v":175.24867673331681}]
[124,124,{"$f":"B!G$2+B!G$3*B110+B!G$4*B110^2","v":174.6497156794388},{"$f":"IF(B110<(B!H$3/(-2*B!H$4)),B!H$2+B!H$3*B110+B!H$4*B110^2,B!H$2+B!H$3*(B!H$3/(-2*B!H$4))+B!H$3*B!H$3/(4*B!H$4))","v":174.91011739911681},{"$f":"B!I$2+B!I$3*EXP(B!I$4*B110)","v":172.46253946015196},{"$f":"IF((B!J$2+B!J$3*B110)<B!J$4,B!J$2+B!J$3*B110,B!J$4)","v":180.83330396781207},{"$f":"IF(B110<B!K$4,B!K$2+B!K$3*(3*B110/(2*B!K$4)-0.5*(B110/B!K$4)^3),B!K$3+B!K$2)","v":176.1787508438729},{"$f":"(C110*B$45+D!D110*C$45+D!E110*D$45+D!F110*E$45+D!G110*F$45)/SUM(B$45:F$45)","v":176.32385510376409}]
[126,126,{"$f":"B!G$2+B!G$3*B111+B!G$4*B111^2","v":175.54333639008621},{"$f":"IF(B111<(B!H$3/(-2*B!H$4)),B!H$2+B!H$3*B111+B!H$4*B111^2,B!H$2+B!H$3*(B!H$3/(-2*B!H$4))+B!H$3*B!H$3/(4*B!H$4))","v":175.77198335627554},{"$f":"B!I$2+B!I$3*EXP(B!I$4*B111)","v":173.16520346502978},{"$f":"IF((B!J$2+B!J$3*B111)<B!J$4,B!J$2+B!J$3*B111,B!J$4)","v":182.49997107565224},{"$f":"IF(B111<B!K$4,B!K$2+B!K$3*(3*B111/(2*B!K$4)-0.5*(B111/B!K$4)^3),B!K$3+B!K$2)","v":177.14741422384259},{"$f":"(C111*B$45+D!D111*C$45+D!E111*D$45+D!F111*E$45+D!G111*F$45)/SUM(B$45:F$45)","v":177.37779664400909}]
[128,128,{"$f":"B!G$2+B!G$3*B112+B!G$4*B112^2","v":176.41380156160812},{"$f":"IF(B112<(B!H$3/(-2*B!H$4)),B!H$2+B!H$3*B112+B!H$4*B112^2,B!H$2+B!H$3*(B!H$3/(-2*B!H$4))+B!H$3*B!H$3/(4*B!H$4))","v":176.60934763428116},{"$f":"B!I$2+B!I$3*EXP(B!I$4*B112)","v":173.8513439747295},{"$f":"IF((B!J$2+B!J$3*B112)<B!J$4,B!J$2+B!J$3*B112,B!J$4)","v":184.16663818349235},{"$f":"IF(B112<B!K$4,B!K$2+B!K$3*(3*B112/(2*B!K$4)-0.5*(B112/B!K$4)^3),B!K$3+B!K$2)","v":178.08459354607086},{"$f":"(C112*B$45+D!D112*C$45+D!E112*D$45+D!F112*E$45+D!G112*F$45)/SUM(B$45:F$45)","v":178.41036278289036}]
[130,{"$f":"IF(A113<MAX($M$48),A113,MAX($M$48))","v":130},{"$f":"B!G$2+B!G$3*B113+B!G$4*B113^2","v":177.26111119400463},{"$f":"IF(B113<(B!H$3/(-2*B!H$4)),B!H$2+B!H$3*B113+B!H$4*B113^2,B!H$2+B!H$3*(B!H$3/(-2*B!H$4))+B!H$3*B!H$3/(4*B!H$4))","v":177.42221023313385},{"$f":"B!I$2+B!I$3*EXP(B!I$4*B113)","v":174.52134954749664},{"$f":"IF((B!J$2+B!J$3*B113)<B!J$4,B!J$2+B!J$3*B113,B!J$4)","v":185.83330529133252},{"$f":"IF(B113<B!K$4,B!K$2+B!K$3*(3*B113/(2*B!K$4)-0.5*(B113/B!K$4)^3),B!K$3+B!K$2)","v":178.98978906360952},{"$f":"(C113*B$45+D!D113*C$45+D!E113*D$45+D!F113*E$45+D!G113*F$45)/SUM(B$45:F$45)","v":179.42141491731797}]
[132,132,{"$f":"B!G$2+B!G$3*B114+B!G$4*B114^2","v":178.08526528727569},{"$f":"IF(B114<(B!H$3/(-2*B!H$4)),B!H$2+B!H$3*B114+B!H$4*B114^2,B!H$2+B!H$3*(B!H$3/(-2*B!H$4))+B!H$3*B!H$3/(4*B!H$4))","v":178.21057115283344},{"$f":"B!I$2+B!I$3*EXP(B!I$4*B114)","v":175.17559960443535},{"$f":"IF((B!J$2+B!J$3*B114)<B!J$4,B!J$2+B!J$3*B114,B!J$4)","v":187.49997239917263},{"$f":"IF(B114<B!K$4,B!K$2+B!K$3*(3*B114/(2*B!K$4)-0.5*(B114/B!K$4)^3),B!K$3+B!K$2)","v":179.86250102951021},{"$f":"(C114*B$45+D!D114*C$45+D!E114*D$45+D!F114*E$45+D!G114*F$45)/SUM(B$45:F$45)","v":180.41081441302364}]
[134,134,{"$f":"B!G$2+B!G$3*B115+B!G$4*B115^2","v":178.88626384142128},{"$f":"IF(B115<(B!H$3/(-2*B!H$4)),B!H$2+B!H$3*B115+B!H$4*B115^2,B!H$2+B!H$3*(B!H$3/(-2*B!H$4))+B!H$3*B!H$3/(4*B!H$4))","v":178.97443039338006},{"$f":"B!I$2+B!I$3*EXP(B!I$4*B115)","v":175.814464644373},{"$f":"IF((B!J$2+B!J$3*B115)<B!J$4,B!J$2+B!J$3*B115,B!J$4)","v":188.75000559732251},{"$f":"IF(B115<B!K$4,B!K$2+B!K$3*(3*B115/(2*B!K$4)-0.5*(B115/B!K$4)^3),B!K$3+B!K$2)","v":180.70222969682473},{"$f":"(C115*B$45+D!D115*C$45+D!E115*D$45+D!F115*E$45+D!G115*F$45)/SUM(B$45:F$45)","v":181.29853492986072}]
[136,136,{"$f":"B!G$2+B!G$3*B116+B!G$4*B116^2","v":179.66410685644146},{"$f":"IF(B116<(B!H$3/(-2*B!H$4)),B!H$2+B!H$3*B116+B!H$4*B116^2,B!H$2+B!H$3*(B!H$3/(-2*B!H$4))+B!H$3*B!H$3/(4*B!H$4))","v":179.71378795477358},{"$f":"B!I$2+B!I$3*EXP(B!I$4*B116)","v":176.43830645367183},{"$f":"IF((B!J$2+B!J$3*B116)<B!J$4,B!J$2+B!J$3*B116,B!J$4)","v":188.75000559732251},{"$f":"IF(B116<B!K$4,B!K$2+B!K$3*(3*B116/(2*B!K$4)-0.5*(B116/B!K$4)^3),B!K$3+B!K$2)","v":181.50847531860478},{"$f":"(C116*B$45+D!D116*C$45+D!E116*D$45+D!F116*E$45+D!G116*F$45)/SUM(B$45:F$45)","v":181.92463721391604}]
[138,138,{"$f":"B!G$2+B!G$3*B117+B!G$4*B117^2","v":180.41879433233615},{"$f":"IF(B117<(B!H$3/(-2*B!H$4)),B!H$2+B!H$3*B117+B!H$4*B117^2,B!H$2+B!H$3*(B!H$3/(-2*B!H$4))+B!H$3*B!H$3/(4*B!H$4))","v":180.42864383701408},{"$f":"B!I$2+B!I$3*EXP(B!I$4*B117)","v":177.04747831110708},{"$f":"IF((B!J$2+B!J$3*B117)<B!J$4,B!J$2+B!J$3*B117,B!J$4)","v":188.75000559732251},{"$f":"IF(B117<B!K$4,B!K$2+B!K$3*(3*B117/(2*B!K$4)-0.5*(B117/B!K$4)^3),B!K$3+B!K$2)","v":182.28073814790201},{"$f":"(C117*B$45+D!D117*C$45+D!E117*D$45+D!F117*E$45+D!G117*F$45)/SUM(B$45:F$45)","v":182.52867077662282}]
[140,140,{"$f":"B!G$2+B!G$3*B118+B!G$4*B118^2","v":181.15032626910539},{"$f":"IF(B118<(B!H$3/(-2*B!H$4)),B!H$2+B!H$3*B118+B!H$4*B118^2,B!H$2+B!H$3*(B!H$3/(-2*B!H$4))+B!H$3*B!H$3/(4*B!H$4))","v":181.11899804010162},{"$f":"B!I$2+B!I$3*EXP(B!I$4*B118)","v":177.64232518792701},{"$f":"IF((B!J$2+B!J$3*B118)<B!J$4,B!J$2+B!J$3*B118,B!J$4)","v":188.75000559732251},{"$f":"IF(B118<B!K$4,B!K$2+B!K$3*(3*B118/(2*B!K$4)-0.5*(B118/B!K$4)^3),B!K$3+B!K$2)","v":183.01851843776828},{"$f":"(C118*B$45+D!D118*C$45+D!E118*D$45+D!F118*E$45+D!G118*F$45)/SUM(B$45:F$45)","v":183.1104968661619}]
[142,142,{"$f":"B!G$2+B!G$3*B119+B!G$4*B119^2","v":181.85870266674925},{"$f":"IF(B119<(B!H$3/(-2*B!H$4)),B!H$2+B!H$3*B119+B!H$4*B119^2,B!H$2+B!H$3*(B!H$3/(-2*B!H$4))+B!H$3*B!H$3/(4*B!H$4))","v":181.78485056403608},{"$f":"B!I$2+B!I$3*EXP(B!I$4*B119)","v":178.2231839432086},{"$f":"IF((B!J$2+B!J$3*B119)<B!J$4,B!J$2+B!J$3*B119,B!J$4)","v":188.75000559732251},{"$f":"IF(B119<B!K$4,B!K$2+B!K$3*(3*B119/(2*B!K$4)-0.5*(B119/B!K$4)^3),B!K$3+B!K$2)","v":183.72131644125523},{"$f":"(C119*B$45+D!D119*C$45+D!E119*D$45+D!F119*E$45+D!G119*F$45)/SUM(B$45:F$45)","v":183.66997670303388}]
[144,144,{"$f":"B!G$2+B!G$3*B120+B!G$4*B120^2","v":182.54392352526759},{"$f":"IF(B120<(B!H$3/(-2*B!H$4)),B!H$2+B!H$3*B120+B!H$4*B120^2,B!H$2+B!H$3*(B!H$3/(-2*B!H$4))+B!H$3*B!H$3/(4*B!H$4))","v":182.42620140881755},{"$f":"B!I$2+B!I$3*EXP(B!I$4*B120)","v":178.79038351461935},{"$f":"IF((B!J$2+B!J$3*B120)<B!J$4,B!J$2+B!J$3*B120,B!J$4)","v":188.75000559732251},{"$f":"IF(B120<B!K$4,B!K$2+B!K$3*(3*B120/(2*B!K$4)-0.5*(B120/B!K$4)^3),B!K$3+B!K$2)","v":184.38863241141456},{"$f":"(C120*B$45+D!D120*C$45+D!E120*D$45+D!F120*E$45+D!G120*F$45)/SUM(B$45:F$45)","v":184.20697148070946}]
[146,146,{"$f":"B!G$2+B!G$3*B121+B!G$4*B121^2","v":183.20598884466051},{"$f":"IF(B121<(B!H$3/(-2*B!H$4)),B!H$2+B!H$3*B121+B!H$4*B121^2,B!H$2+B!H$3*(B!H$3/(-2*B!H$4))+B!H$3*B!H$3/(4*B!H$4))","v":183.04305057444594},{"$f":"B!I$2+B!I$3*EXP(B!I$4*B121)","v":179.34424510469316},{"$f":"IF((B!J$2+B!J$3*B121)<B!J$4,B!J$2+B!J$3*B121,B!J$4)","v":188.75000559732251},{"$f":"IF(B121<B!K$4,B!K$2+B!K$3*(3*B121/(2*B!K$4)-0.5*(B121/B!K$4)^3),B!K$3+B!K$2)","v":185.01996660129808},{"$f":"(C121*B$45+D!D121*C$45+D!E121*D$45+D!F121*E$45+D!G121*F$45)/SUM(B$45:F$45)","v":184.72134236626522}]
[148,148,{"$f":"B!G$2+B!G$3*B122+B!G$4*B122^2","v":183.84489862492802},{"$f":"IF(B122<(B!H$3/(-2*B!H$4)),B!H$2+B!H$3*B122+B!H$4*B122^2,B!H$2+B!H$3*(B!H$3/(-2*B!H$4))+B!H$3*B!H$3/(4*B!H$4))","v":183.63539806092137},{"$f":"B!I$2+B!I$3*EXP(B!I$4*B122)","v":179.88508236272577},{"$f":"IF((B!J$2+B!J$3*B122)<B!J$4,B!J$2+B!J$3*B122,B!J$4)","v":188.75000559732251},{"$f":"IF(B122<B!K$4,B!K$2+B!K$3*(3*B122/(2*B!K$4)-0.5*(B122/B!K$4)^3),B!K$3+B!K$2)","v":185.61481926395743},{"$f":"(C122*B$45+D!D122*C$45+D!E122*D$45+D!F122*E$45+D!G122*F$45)/SUM(B$45:F$45)","v":185.2129505010046}]
[150,150,{"$f":"B!G$2+B!G$3*B123+B!G$4*B123^2","v":184.46065286607003},{"$f":"IF(B123<(B!H$3/(-2*B!H$4)),B!H$2+B!H$3*B123+B!H$4*B123^2,B!H$2+B!H$3*(B!H$3/(-2*B!H$4))+B!H$3*B!H$3/(4*B!H$4))","v":184.2032438682437},{"$f":"B!I$2+B!I$3*EXP(B!I$4*B123)","v":180.41320156239306},{"$f":"IF((B!J$2+B!J$3*B123)<B!J$4,B!J$2+B!J$3*B123,B!J$4)","v":188.75000559732251},{"$f":"IF(B123<B!K$4,B!K$2+B!K$3*(3*B123/(2*B!K$4)-0.5*(B123/B!K$4)^3),B!K$3+B!K$2)","v":186.1726906524444},{"$f":"(C123*B$45+D!D123*C$45+D!E123*D$45+D!F123*E$45+D!G123*F$45)/SUM(B$45:F$45)","v":185.68165700106351}]
[152,152,{"$f":"B!G$2+B!G$3*B124+B!G$4*B124^2","v":185.05325156808664},{"$f":"IF(B124<(B!H$3/(-2*B!H$4)),B!H$2+B!H$3*B124+B!H$4*B124^2,B!H$2+B!H$3*(B!H$3/(-2*B!H$4))+B!H$3*B!H$3/(4*B!H$4))","v":184.74658799641301},{"$f":"B!I$2+B!I$3*EXP(B!I$4*B124)","v":180.92890177519243},{"$f":"IF((B!J$2+B!J$3*B124)<B!J$4,B!J$2+B!J$3*B124,B!J$4)","v":188.75000559732251},{"$f":"IF(B124<B!K$4,B!K$2+B!K$3*(3*B124/(2*B!K$4)-0.5*(B124/B!K$4)^3),B!K$3+B!K$2)","v":186.69308101981068},{"$f":"(C124*B$45+D!D124*C$45+D!E124*D$45+D!F124*E$45+D!G124*F$45)/SUM(B$45:F$45)","v":186.12732295800242}]
[154,154,{"$f":"B!G$2+B!G$3*B125+B!G$4*B125^2","v":185.62269473097777},{"$f":"IF(B125<(B!H$3/(-2*B!H$4)),B!H$2+B!H$3*B125+B!H$4*B125^2,B!H$2+B!H$3*(B!H$3/(-2*B!H$4))+B!H$3*B!H$3/(4*B!H$4))","v":185.26543044542933},{"$f":"B!I$2+B!I$3*EXP(B!I$4*B125)","v":181.4324750398055},{"$f":"IF((B!J$2+B!J$3*B125)<B!J$4,B!J$2+B!J$3*B125,B!J$4)","v":188.75000559732251},{"$f":"IF(B125<B!K$4,B!K$2+B!K$3*(3*B125/(2*B!K$4)-0.5*(B125/B!K$4)^3),B!K$3+B!K$2)","v":187.17549061910796},{"$f":"(C125*B$45+D!D125*C$45+D!E125*D$45+D!F125*E$45+D!G125*F$45)/SUM(B$45:F$45)","v":186.54980943938432}]
[156,156,{"$f":"B!G$2+B!G$3*B126+B!G$4*B126^2","v":186.16898235474349},{"$f":"IF(B126<(B!H$3/(-2*B!H$4)),B!H$2+B!H$3*B126+B!H$4*B126^2,B!H$2+B!H$3*(B!H$3/(-2*B!H$4))+B!H$3*B!H$3/(4*B!H$4))","v":185.7597712152926},{"$f":"B!I$2+B!I$3*EXP(B!I$4*B126)","v":181.92420652747836},{"$f":"IF((B!J$2+B!J$3*B126)<B!J$4,B!J$2+B!J$3*B126,B!J$4)","v":188.75000559732251},{"$f":"IF(B126<B!K$4,B!K$2+B!K$3*(3*B126/(2*B!K$4)-0.5*(B126/B!K$4)^3),B!K$3+B!K$2)","v":187.61941970338808},{"$f":"(C126*B$45+D!D126*C$45+D!E126*D$45+D!F126*E$45+D!G126*F$45)/SUM(B$45:F$45)","v":186.94897748933877}]
[158,158,{"$f":"B!G$2+B!G$3*B127+B!G$4*B127^2","v":186.69211443938372},{"$f":"IF(B127<(B!H$3/(-2*B!H$4)),B!H$2+B!H$3*B127+B!H$4*B127^2,B!H$2+B!H$3*(B!H$3/(-2*B!H$4))+B!H$3*B!H$3/(4*B!H$4))","v":186.22961030600288},{"$f":"B!I$2+B!I$3*EXP(B!I$4*B127)","v":182.40437470351287},{"$f":"IF((B!J$2+B!J$3*B127)<B!J$4,B!J$2+B!J$3*B127,B!J$4)","v":188.75000559732251},{"$f":"IF(B127<B!K$4,B!K$2+B!K$3*(3*B127/(2*B!K$4)-0.5*(B127/B!K$4)^3),B!K$3+B!K$2)","v":188.02436852570261},{"$f":"(C127*B$45+D!D127*C$45+D!E127*D$45+D!F127*E$45+D!G127*F$45)/SUM(B$45:F$45)","v":187.32468812911313}]
[160,160,{"$f":"B!G$2+B!G$3*B128+B!G$4*B128^2","v":187.19209098489853},{"$f":"IF(B128<(B!H$3/(-2*B!H$4)),B!H$2+B!H$3*B128+B!H$4*B128^2,B!H$2+B!H$3*(B!H$3/(-2*B!H$4))+B!H$3*B!H$3/(4*B!H$4))","v":186.67494771756009},{"$f":"B!I$2+B!I$3*EXP(B!I$4*B128)","v":182.87325148496006},{"$f":"IF((B!J$2+B!J$3*B128)<B!J$4,B!J$2+B!J$3*B128,B!J$4)","v":188.75000559732251},{"$f":"IF(B128<B!K$4,B!K$2+B!K$3*(3*B128/(2*B!K$4)-0.5*(B128/B!K$4)^3),B!K$3+B!K$2)","v":188.38983733910339},{"$f":"(C128*B$45+D!D128*C$45+D!E128*D$45+D!F128*E$45+D!G128*F$45)/SUM(B$45:F$45)","v":187.67680235761074}]
[162,162,{"$f":"B!G$2+B!G$3*B129+B!G$4*B129^2","v":187.66891199128787},{"$f":"IF(B129<(B!H$3/(-2*B!H$4)),B!H$2+B!H$3*B129+B!H$4*B129^2,B!H$2+B!H$3*(B!H$3/(-2*B!H$4))+B!H$3*B!H$3/(4*B!H$4))","v":187.0957834499643},{"$f":"B!I$2+B!I$3*EXP(B!I$4*B129)","v":183.33110239460569},{"$f":"IF((B!J$2+B!J$3*B129)<B!J$4,B!J$2+B!J$3*B129,B!J$4)","v":188.75000559732251},{"$f":"IF(B129<B!K$4,B!K$2+B!K$3*(3*B129/(2*B!K$4)-0.5*(B129/B!K$4)^3),B!K$3+B!K$2)","v":188.7153263966421},{"$f":"(C129*B$45+D!D129*C$45+D!E129*D$45+D!F129*E$45+D!G129*F$45)/SUM(B$45:F$45)","v":188.00518115191613}]
[164,164,{"$f":"B!G$2+B!G$3*B130+B!G$4*B130^2","v":188.12257745855175},{"$f":"IF(B130<(B!H$3/(-2*B!H$4)),B!H$2+B!H$3*B130+B!H$4*B130^2,B!H$2+B!H$3*(B!H$3/(-2*B!H$4))+B!H$3*B!H$3/(4*B!H$4))","v":187.49211750321547},{"$f":"B!I$2+B!I$3*EXP(B!I$4*B130)","v":183.77818671133451},{"$f":"IF((B!J$2+B!J$3*B130)<B!J$4,B!J$2+B!J$3*B130,B!J$4)","v":188.75000559732251},{"$f":"IF(B130<B!K$4,B!K$2+B!K$3*(3*B130/(2*B!K$4)-0.5*(B130/B!K$4)^3),B!K$3+B!K$2)","v":189.00033595137046},{"$f":"(C130*B$45+D!D130*C$45+D!E130*D$45+D!F130*E$45+D!G130*F$45)/SUM(B$45:F$45)","v":188.30968546780824}]
[166,166,{"$f":"B!G$2+B!G$3*B131+B!G$4*B131^2","v":188.55308738669021},{"$f":"IF(B131<(B!H$3/(-2*B!H$4)),B!H$2+B!H$3*B131+B!H$4*B131^2,B!H$2+B!H$3*(B!H$3/(-2*B!H$4))+B!H$3*B!H$3/(4*B!H$4))","v":187.86394987731359},{"$f":"B!I$2+B!I$3*EXP(B!I$4*B131)","v":184.21475761695874},{"$f":"IF((B!J$2+B!J$3*B131)<B!J$4,B!J$2+B!J$3*B131,B!J$4)","v":188.75000559732251},{"$f":"IF(B131<B!K$4,B!K$2+B!K$3*(3*B131/(2*B!K$4)-0.5*(B131/B!K$4)^3),B!K$3+B!K$2)","v":189.24436625634024},{"$f":"(C131*B$45+D!D131*C$45+D!E131*D$45+D!F131*E$45+D!G131*F$45)/SUM(B$45:F$45)","v":188.59017624026131}]
[168,168,{"$f":"B!G$2+B!G$3*B132+B!G$4*B132^2","v":188.96044177570329},{"$f":"IF(B132<(B!H$3/(-2*B!H$4)),B!H$2+B!H$3*B132+B!H$4*B132^2,B!H$2+B!H$3*(B!H$3/(-2*B!H$4))+B!H$3*B!H$3/(4*B!H$4))","v":188.21128057225872},{"$f":"B!I$2+B!I$3*EXP(B!I$4*B132)","v":184.64106233959382},{"$f":"IF((B!J$2+B!J$3*B132)<B!J$4,B!J$2+B!J$3*B132,B!J$4)","v":188.75000559732251},{"$f":"IF(B132<B!K$4,B!K$2+B!K$3*(3*B132/(2*B!K$4)-0.5*(B132/B!K$4)^3),B!K$3+B!K$2)","v":189.4469175646031},{"$f":"(C132*B$45+D!D132*C$45+D!E132*D$45+D!F132*E$45+D!G132*F$45)/SUM(B$45:F$45)","v":188.84651438393436}]
[170,170,{"$f":"B!G$2+B!G$3*B133+B!G$4*B133^2","v":189.34464062559084},{"$f":"IF(B133<(B!H$3/(-2*B!H$4)),B!H$2+B!H$3*B133+B!H$4*B133^2,B!H$2+B!H$3*(B!H$3/(-2*B!H$4))+B!H$3*B!H$3/(4*B!H$4))","v":188.53410958805077},{"$f":"B!I$2+B!I$3*EXP(B!I$4*B133)","v":185.05734229366246},{"$f":"IF((B!J$2+B!J$3*B133)<B!J$4,B!J$2+B!J$3*B133,B!J$4)","v":188.75000559732251},{"$f":"IF(B133<B!K$4,B!K$2+B!K$3*(3*B133/(2*B!K$4)-0.5*(B133/B!K$4)^3),B!K$3+B!K$2)","v":189.60749012921076},{"$f":"(C133*B$45+D!D133*C$45+D!E133*D$45+D!F133*E$45+D!G133*F$45)/SUM(B$45:F$45)","v":189.07856079364856}]
[172,172,{"$f":"B!G$2+B!G$3*B134+B!G$4*B134^2","v":189.70568393635295},{"$f":"IF(B134<(B!H$3/(-2*B!H$4)),B!H$2+B!H$3*B134+B!H$4*B134^2,B!H$2+B!H$3*(B!H$3/(-2*B!H$4))+B!H$3*B!H$3/(4*B!H$4))","v":188.83243692468986},{"$f":"B!I$2+B!I$3*EXP(B!I$4*B134)","v":185.46383321660662},{"$f":"IF((B!J$2+B!J$3*B134)<B!J$4,B!J$2+B!J$3*B134,B!J$4)","v":188.75000559732251},{"$f":"IF(B134<B!K$4,B!K$2+B!K$3*(3*B134/(2*B!K$4)-0.5*(B134/B!K$4)^3),B!K$3+B!K$2)","v":189.72558420321502},{"$f":"(C134*B$45+D!D134*C$45+D!E134*D$45+D!F134*E$45+D!G134*F$45)/SUM(B$45:F$45)","v":189.28617634485417}]
[174,174,{"$f":"B!G$2+B!G$3*B135+B!G$4*B135^2","v":190.04357170798968},{"$f":"IF(B135<(B!H$3/(-2*B!H$4)),B!H$2+B!H$3*B135+B!H$4*B135^2,B!H$2+B!H$3*(B!H$3/(-2*B!H$4))+B!H$3*B!H$3/(4*B!H$4))","v":189.10626258217587},{"$f":"B!I$2+B!I$3*EXP(B!I$4*B135)","v":185.86076530238458},{"$f":"IF((B!J$2+B!J$3*B135)<B!J$4,B!J$2+B!J$3*B135,B!J$4)","v":188.75000559732251},{"$f":"IF(B135<B!K$4,B!K$2+B!K$3*(3*B135/(2*B!K$4)-0.5*(B135/B!K$4)^3),B!K$3+B!K$2)","v":189.80070003966756},{"$f":"(C135*B$45+D!D135*C$45+D!E135*D$45+D!F135*E$45+D!G135*F$45)/SUM(B$45:F$45)","v":189.46922189408548}]
[176,176,{"$f":"B!G$2+B!G$3*B136+B!G$4*B136^2","v":190.35830394050089},{"$f":"IF(B136<(B!H$3/(-2*B!H$4)),B!H$2+B!H$3*B136+B!H$4*B136^2,B!H$2+B!H$3*(B!H$3/(-2*B!H$4))+B!H$3*B!H$3/(4*B!H$4))","v":189.35558656050887},{"$f":"B!I$2+B!I$3*EXP(B!I$4*B136)","v":186.24836333182853},{"$f":"IF((B!J$2+B!J$3*B136)<B!J$4,B!J$2+B!J$3*B136,B!J$4)","v":188.75000559732251},{"$f":"IF(B136<B!K$4,B!K$2+B!K$3*(3*B136/(2*B!K$4)-0.5*(B136/B!K$4)^3),B!K$3+B!K$2)","v":189.83233789162011},{"$f":"(C136*B$45+D!D136*C$45+D!E136*D$45+D!F136*E$45+D!G136*F$45)/SUM(B$45:F$45)","v":189.62755827940612}]
[178,178,{"$f":"B!G$2+B!G$3*B137+B!G$4*B137^2","v":190.64988063388668},{"$f":"IF(B137<(B!H$3/(-2*B!H$4)),B!H$2+B!H$3*B137+B!H$4*B137^2,B!H$2+B!H$3*(B!H$3/(-2*B!H$4))+B!H$3*B!H$3/(4*B!H$4))","v":189.58040885968882},{"$f":"B!I$2+B!I$3*EXP(B!I$4*B137)","v":186.62684679993723},{"$f":"IF((B!J$2+B!J$3*B137)<B!J$4,B!J$2+B!J$3*B137,B!J$4)","v":188.75000559732251},{"$f":"IF(B137<B!K$4,B!K$2+B!K$3*(3*B137/(2*B!K$4)-0.5*(B137/B!K$4)^3),B!K$3+B!K$2)","v":189.83341386770974},{"$f":"(C137*B$45+D!D137*C$45+D!E137*D$45+D!F137*E$45+D!G137*F$45)/SUM(B$45:F$45)","v":189.76480275490005}]
[180,180,{"$f":"B!G$2+B!G$3*B138+B!G$4*B138^2","v":190.91830178814701},{"$f":"IF(B138<(B!H$3/(-2*B!H$4)),B!H$2+B!H$3*B138+B!H$4*B138^2,B!H$2+B!H$3*(B!H$3/(-2*B!H$4))+B!H$3*B!H$3/(4*B!H$4))","v":189.78072947971577},{"$f":"B!I$2+B!I$3*EXP(B!I$4*B138)","v":186.99643004017474},{"$f":"IF((B!J$2+B!J$3*B138)<B!J$4,B!J$2+B!J$3*B138,B!J$4)","v":188.75000559732251},{"$f":"IF(B138<B!K$4,B!K$2+B!K$3*(3*B138/(2*B!K$4)-0.5*(B138/B!K$4)^3),B!K$3+B!K$2)","v":189.83341386770974},{"$f":"(C138*B$45+D!D138*C$45+D!E138*D$45+D!F138*E$45+D!G138*F$45)/SUM(B$45:F$45)","v":189.88921209175496}]
[182,182,{"$f":"B!G$2+B!G$3*B139+B!G$4*B139^2","v":191.16356740328189},{"$f":"IF(B139<(B!H$3/(-2*B!H$4)),B!H$2+B!H$3*B139+B!H$4*B139^2,B!H$2+B!H$3*(B!H$3/(-2*B!H$4))+B!H$3*B!H$3/(4*B!H$4))","v":189.95654842058968},{"$f":"B!I$2+B!I$3*EXP(B!I$4*B139)","v":187.35732234584671},{"$f":"IF((B!J$2+B!J$3*B139)<B!J$4,B!J$2+B!J$3*B139,B!J$4)","v":188.75000559732251},{"$f":"IF(B139<B!K$4,B!K$2+B!K$3*(3*B139/(2*B!K$4)-0.5*(B139/B!K$4)^3),B!K$3+B!K$2)","v":189.83341386770974},{"$f":"(C139*B$45+D!D139*C$45+D!E139*D$45+D!F139*E$45+D!G139*F$45)/SUM(B$45:F$45)","v":190.00108827699128}]
[184,184,{"$f":"B!G$2+B!G$3*B140+B!G$4*B140^2","v":191.38567747929136},{"$f":"IF(B140<(B!H$3/(-2*B!H$4)),B!H$2+B!H$3*B140+B!H$4*B140^2,B!H$2+B!H$3*(B!H$3/(-2*B!H$4))+B!H$3*B!H$3/(4*B!H$4))","v":190.10786568231055},{"$f":"B!I$2+B!I$3*EXP(B!I$4*B140)","v":187.70972808862206},{"$f":"IF((B!J$2+B!J$3*B140)<B!J$4,B!J$2+B!J$3*B140,B!J$4)","v":188.75000559732251},{"$f":"IF(B140<B!K$4,B!K$2+B!K$3*(3*B140/(2*B!K$4)-0.5*(B140/B!K$4)^3),B!K$3+B!K$2)","v":189.83341386770974},{"$f":"(C140*B$45+D!D140*C$45+D!E140*D$45+D!F140*E$45+D!G140*F$45)/SUM(B$45:F$45)","v":190.10043200797227}]
[186,186,{"$f":"B!G$2+B!G$3*B141+B!G$4*B141^2","v":191.58463201617533},{"$f":"IF(B141<(B!H$3/(-2*B!H$4)),B!H$2+B!H$3*B141+B!H$4*B141^2,B!H$2+B!H$3*(B!H$3/(-2*B!H$4))+B!H$3*B!H$3/(4*B!H$4))","v":190.23468126487847},{"$f":"B!I$2+B!I$3*EXP(B!I$4*B141)","v":188.05384683426783},{"$f":"IF((B!J$2+B!J$3*B141)<B!J$4,B!J$2+B!J$3*B141,B!J$4)","v":188.75000559732251},{"$f":"IF(B141<B!K$4,B!K$2+B!K$3*(3*B141/(2*B!K$4)-0.5*(B141/B!K$4)^3),B!K$3+B!K$2)","v":189.83341386770974},{"$f":"(C141*B$45+D!D141*C$45+D!E141*D$45+D!F141*E$45+D!G141*F$45)/SUM(B$45:F$45)","v":190.18724396566222}]
[188,188,{"$f":"B!G$2+B!G$3*B142+B!G$4*B142^2","v":191.7604310139339},{"$f":"IF(B142<(B!H$3/(-2*B!H$4)),B!H$2+B!H$3*B142+B!H$4*B142^2,B!H$2+B!H$3*(B!H$3/(-2*B!H$4))+B!H$3*B!H$3/(4*B!H$4))","v":190.33699516829327},{"$f":"B!I$2+B!I$3*EXP(B!I$4*B142)","v":188.38987345566233},{"$f":"IF((B!J$2+B!J$3*B142)<B!J$4,B!J$2+B!J$3*B142,B!J$4)","v":188.75000559732251},{"$f":"IF(B142<B!K$4,B!K$2+B!K$3*(3*B142/(2*B!K$4)-0.5*(B142/B!K$4)^3),B!K$3+B!K$2)","v":189.83341386770974},{"$f":"(C142*B$45+D!D142*C$45+D!E142*D$45+D!F142*E$45+D!G142*F$45)/SUM(B$45:F$45)","v":190.26152481501239}]
[190,190,{"$f":"B!G$2+B!G$3*B143+B!G$4*B143^2","v":191.91307447256702},{"$f":"IF(B143<(B!H$3/(-2*B!H$4)),B!H$2+B!H$3*B143+B!H$4*B143^2,B!H$2+B!H$3*(B!H$3/(-2*B!H$4))+B!H$3*B!H$3/(4*B!H$4))","v":190.4148073925551},{"$f":"B!I$2+B!I$3*EXP(B!I$4*B143)","v":188.71799824315076},{"$f":"IF((B!J$2+B!J$3*B143)<B!J$4,B!J$2+B!J$3*B143,B!J$4)","v":188.75000559732251},{"$f":"IF(B143<B!K$4,B!K$2+B!K$3*(3*B143/(2*B!K$4)-0.5*(B143/B!K$4)^3),B!K$3+B!K$2)","v":189.83341386770974},{"$f":"(C143*B$45+D!D143*C$45+D!E143*D$45+D!F143*E$45+D!G143*F$45)/SUM(B$45:F$45)","v":190.32327520533724}]
[192,192,{"$f":"B!G$2+B!G$3*B144+B!G$4*B144^2","v":192.04256239207467},{"$f":"IF(B144<(B!H$3/(-2*B!H$4)),B!H$2+B!H$3*B144+B!H$4*B144^2,B!H$2+B!H$3*(B!H$3/(-2*B!H$4))+B!H$3*B!H$3/(4*B!H$4))","v":190.46811793766386},{"$f":"B!I$2+B!I$3*EXP(B!I$4*B144)","v":189.03840701230575},{"$f":"IF((B!J$2+B!J$3*B144)<B!J$4,B!J$2+B!J$3*B144,B!J$4)","v":188.75000559732251},{"$f":"IF(B144<B!K$4,B!K$2+B!K$3*(3*B144/(2*B!K$4)-0.5*(B144/B!K$4)^3),B!K$3+B!K$2)","v":189.83341386770974},{"$f":"(C144*B$45+D!D144*C$45+D!E144*D$45+D!F144*E$45+D!G144*F$45)/SUM(B$45:F$45)","v":190.37249577068229}]
[194,194,{"$f":"B!G$2+B!G$3*B145+B!G$4*B145^2","v":192.14889477245691},{"$f":"IF(B145<(B!H$3/(-2*B!H$4)),B!H$2+B!H$3*B145+B!H$4*B145^2,B!H$2+B!H$3*(B!H$3/(-2*B!H$4))+B!H$3*B!H$3/(4*B!H$4))","v":190.49692680361957},{"$f":"B!I$2+B!I$3*EXP(B!I$4*B145)","v":189.35128120915394},{"$f":"IF((B!J$2+B!J$3*B145)<B!J$4,B!J$2+B!J$3*B145,B!J$4)","v":188.75000559732251},{"$f":"IF(B145<B!K$4,B!K$2+B!K$3*(3*B145/(2*B!K$4)-0.5*(B145/B!K$4)^3),B!K$3+B!K$2)","v":189.83341386770974},{"$f":"(C145*B$45+D!D145*C$45+D!E145*D$45+D!F145*E$45+D!G145*F$45)/SUM(B$45:F$45)","v":190.40918713018326}]
[196,196,{"$f":"B!G$2+B!G$3*B146+B!G$4*B146^2","v":192.23207161371371},{"$f":"IF(B146<(B!H$3/(-2*B!H$4)),B!H$2+B!H$3*B146+B!H$4*B146^2,B!H$2+B!H$3*(B!H$3/(-2*B!H$4))+B!H$3*B!H$3/(4*B!H$4))","v":190.50252169031825},{"$f":"B!I$2+B!I$3*EXP(B!I$4*B146)","v":189.65679801292791},{"$f":"IF((B!J$2+B!J$3*B146)<B!J$4,B!J$2+B!J$3*B146,B!J$4)","v":188.75000559732251},{"$f":"IF(B146<B!K$4,B!K$2+B!K$3*(3*B146/(2*B!K$4)-0.5*(B146/B!K$4)^3),B!K$3+B!K$2)","v":189.83341386770974},{"$f":"(C146*B$45+D!D146*C$45+D!E146*D$45+D!F146*E$45+D!G146*F$45)/SUM(B$45:F$45)","v":190.43368515378063}]
[198,198,{"$f":"B!G$2+B!G$3*B147+B!G$4*B147^2","v":192.29209291584505},{"$f":"IF(B147<(B!H$3/(-2*B!H$4)),B!H$2+B!H$3*B147+B!H$4*B147^2,B!H$2+B!H$3*(B!H$3/(-2*B!H$4))+B!H$3*B!H$3/(4*B!H$4))","v":190.50252169031825},{"$f":"B!I$2+B!I$3*EXP(B!I$4*B147)","v":189.95513043640216},{"$f":"IF((B!J$2+B!J$3*B147)<B!J$4,B!J$2+B!J$3*B147,B!J$4)","v":188.75000559732251},{"$f":"IF(B147<B!K$4,B!K$2+B!K$3*(3*B147/(2*B!K$4)-0.5*(B147/B!K$4)^3),B!K$3+B!K$2)","v":189.83341386770974},{"$f":"(C147*B$45+D!D147*C$45+D!E147*D$45+D!F147*E$45+D!G147*F$45)/SUM(B$45:F$45)","v":190.45057773629918}]
[200,200,{"$f":"B!G$2+B!G$3*B148+B!G$4*B148^2","v":192.32895867885088},{"$f":"IF(B148<(B!H$3/(-2*B!H$4)),B!H$2+B!H$3*B148+B!H$4*B148^2,B!H$2+B!H$3*(B!H$3/(-2*B!H$4))+B!H$3*B!H$3/(4*B!H$4))","v":190.50252169031825},{"$f":"B!I$2+B!I$3*EXP(B!I$4*B148)","v":190.24644742386926},{"$f":"IF((B!J$2+B!J$3*B148)<B!J$4,B!J$2+B!J$3*B148,B!J$4)","v":188.75000559732251},{"$f":"IF(B148<B!K$4,B!K$2+B!K$3*(3*B148/(2*B!K$4)-0.5*(B148/B!K$4)^3),B!K$3+B!K$2)","v":189.83341386770974},{"$f":"(C148*B$45+D!D148*C$45+D!E148*D$45+D!F148*E$45+D!G148*F$45)/SUM(B$45:F$45)","v":190.46132213813129}]
[202,202,{"$f":"B!G$2+B!G$3*B149+B!G$4*B149^2","v":192.3426689027313},{"$f":"IF(B149<(B!H$3/(-2*B!H$4)),B!H$2+B!H$3*B149+B!H$4*B149^2,B!H$2+B!H$3*(B!H$3/(-2*B!H$4))+B!H$3*B!H$3/(4*B!H$4))","v":190.50252169031825},{"$f":"B!I$2+B!I$3*EXP(B!I$4*B149)","v":190.53091394681235},{"$f":"IF((B!J$2+B!J$3*B149)<B!J$4,B!J$2+B!J$3*B149,B!J$4)","v":188.75000559732251},{"$f":"IF(B149<B!K$4,B!K$2+B!K$3*(3*B149/(2*B!K$4)-0.5*(B149/B!K$4)^3),B!K$3+B!K$2)","v":189.83341386770974},{"$f":"(C149*B$45+D!D149*C$45+D!E149*D$45+D!F149*E$45+D!G149*F$45)/SUM(B$45:F$45)","v":190.46591892219772}]
[204,204,{"$f":"B!G$2+B!G$3*B150+B!G$4*B150^2","v":192.33322358748632},{"$f":"IF(B150<(B!H$3/(-2*B!H$4)),B!H$2+B!H$3*B150+B!H$4*B150^2,B!H$2+B!H$3*(B!H$3/(-2*B!H$4))+B!H$3*B!H$3/(4*B!H$4))","v":190.50252169031825},{"$f":"B!I$2+B!I$3*EXP(B!I$4*B150)","v":190.80869109732774},{"$f":"IF((B!J$2+B!J$3*B150)<B!J$4,B!J$2+B!J$3*B150,B!J$4)","v":188.75000559732251},{"$f":"IF(B150<B!K$4,B!K$2+B!K$3*(3*B150/(2*B!K$4)-0.5*(B150/B!K$4)^3),B!K$3+B!K$2)","v":189.83341386770974},{"$f":"(C150*B$45+D!D150*C$45+D!E150*D$45+D!F150*E$45+D!G150*F$45)/SUM(B$45:F$45)","v":190.46436863818184}]
[206,206,{"$f":"B!G$2+B!G$3*B151+B!G$4*B151^2","v":192.30062273311583},{"$f":"IF(B151<(B!H$3/(-2*B!H$4)),B!H$2+B!H$3*B151+B!H$4*B151^2,B!H$2+B!H$3*(B!H$3/(-2*B!H$4))+B!H$3*B!H$3/(4*B!H$4))","v":190.50252169031825},{"$f":"B!I$2+B!I$3*EXP(B!I$4*B151)","v":191.07993617935054},{"$f":"IF((B!J$2+B!J$3*B151)<B!J$4,B!J$2+B!J$3*B151,B!J$4)","v":188.75000559732251},{"$f":"IF(B151<B!K$4,B!K$2+B!K$3*(3*B151/(2*B!K$4)-0.5*(B151/B!K$4)^3),B!K$3+B!K$2)","v":189.83341386770974},{"$f":"(C151*B$45+D!D151*C$45+D!E151*D$45+D!F151*E$45+D!G151*F$45)/SUM(B$45:F$45)","v":190.45667182284083}]
[208,208,{"$f":"B!G$2+B!G$3*B152+B!G$4*B152^2","v":192.24486633961993},{"$f":"IF(B152<(B!H$3/(-2*B!H$4)),B!H$2+B!H$3*B152+B!H$4*B152^2,B!H$2+B!H$3*(B!H$3/(-2*B!H$4))+B!H$3*B!H$3/(4*B!H$4))","v":190.50252169031825},{"$f":"B!I$2+B!I$3*EXP(B!I$4*B152)","v":191.3448027977353},{"$f":"IF((B!J$2+B!J$3*B152)<B!J$4,B!J$2+B!J$3*B152,B!J$4)","v":188.75000559732251},{"$f":"IF(B152<B!K$4,B!K$2+B!K$3*(3*B152/(2*B!K$4)-0.5*(B152/B!K$4)^3),B!K$3+B!K$2)","v":189.83341386770974},{"$f":"(C152*B$45+D!D152*C$45+D!E152*D$45+D!F152*E$45+D!G152*F$45)/SUM(B$45:F$45)","v":190.44282900030993}]
[210,210,{"$f":"B!G$2+B!G$3*B153+B!G$4*B153^2","v":192.16595440699854},{"$f":"IF(B153<(B!H$3/(-2*B!H$4)),B!H$2+B!H$3*B153+B!H$4*B153^2,B!H$2+B!H$3*(B!H$3/(-2*B!H$4))+B!H$3*B!H$3/(4*B!H$4))","v":190.50252169031825},{"$f":"B!I$2+B!I$3*EXP(B!I$4*B153)","v":191.6034409452416},{"$f":"IF((B!J$2+B!J$3*B153)<B!J$4,B!J$2+B!J$3*B153,B!J$4)","v":188.75000559732251},{"$f":"IF(B153<B!K$4,B!K$2+B!K$3*(3*B153/(2*B!K$4)-0.5*(B153/B!K$4)^3),B!K$3+B!K$2)","v":189.83341386770974},{"$f":"(C153*B$45+D!D153*C$45+D!E153*D$45+D!F153*E$45+D!G153*F$45)/SUM(B$45:F$45)","v":190.42284068239897}]
[212,212,{"$f":"B!G$2+B!G$3*B154+B!G$4*B154^2","v":192.06388693525182},{"$f":"IF(B154<(B!H$3/(-2*B!H$4)),B!H$2+B!H$3*B154+B!H$4*B154^2,B!H$2+B!H$3*(B!H$3/(-2*B!H$4))+B!H$3*B!H$3/(4*B!H$4))","v":190.50252169031825},{"$f":"B!I$2+B!I$3*EXP(B!I$4*B154)","v":191.85599708747438},{"$f":"IF((B!J$2+B!J$3*B154)<B!J$4,B!J$2+B!J$3*B154,B!J$4)","v":188.75000559732251},{"$f":"IF(B154<B!K$4,B!K$2+B!K$3*(3*B154/(2*B!K$4)-0.5*(B154/B!K$4)^3),B!K$3+B!K$2)","v":189.83341386770974},{"$f":"(C154*B$45+D!D154*C$45+D!E154*D$45+D!F154*E$45+D!G154*F$45)/SUM(B$45:F$45)","v":190.39670736888232}]
[214,214,{"$f":"B!G$2+B!G$3*B155+B!G$4*B155^2","v":191.93866392437957},{"$f":"IF(B155<(B!H$3/(-2*B!H$4)),B!H$2+B!H$3*B155+B!H$4*B155^2,B!H$2+B!H$3*(B!H$3/(-2*B!H$4))+B!H$3*B!H$3/(4*B!H$4))","v":190.50252169031825},{"$f":"B!I$2+B!I$3*EXP(B!I$4*B155)","v":192.10261424582666},{"$f":"IF((B!J$2+B!J$3*B155)<B!J$4,B!J$2+B!J$3*B155,B!J$4)","v":188.75000559732251},{"$f":"IF(B155<B!K$4,B!K$2+B!K$3*(3*B155/(2*B!K$4)-0.5*(B155/B!K$4)^3),B!K$3+B!K$2)","v":189.83341386770974},{"$f":"(C155*B$45+D!D155*C$45+D!E155*D$45+D!F155*E$45+D!G155*F$45)/SUM(B$45:F$45)","v":190.36442954778195}]
[216,216,{"$f":"B!G$2+B!G$3*B156+B!G$4*B156^2","v":191.79028537438185},{"$f":"IF(B156<(B!H$3/(-2*B!H$4)),B!H$2+B!H$3*B156+B!H$4*B156^2,B!H$2+B!H$3*(B!H$3/(-2*B!H$4))+B!H$3*B!H$3/(4*B!H$4))","v":190.50252169031825},{"$f":"B!I$2+B!I$3*EXP(B!I$4*B156)","v":192.34343207847192},{"$f":"IF((B!J$2+B!J$3*B156)<B!J$4,B!J$2+B!J$3*B156,B!J$4)","v":188.75000559732251},{"$f":"IF(B156<B!K$4,B!K$2+B!K$3*(3*B156/(2*B!K$4)-0.5*(B156/B!K$4)^3),B!K$3+B!K$2)","v":189.83341386770974},{"$f":"(C156*B$45+D!D156*C$45+D!E156*D$45+D!F156*E$45+D!G156*F$45)/SUM(B$45:F$45)","v":190.32600769564371}]
[218,218,{"$f":"B!G$2+B!G$3*B157+B!G$4*B157^2","v":191.61875128525875},{"$f":"IF(B157<(B!H$3/(-2*B!H$4)),B!H$2+B!H$3*B157+B!H$4*B157^2,B!H$2+B!H$3*(B!H$3/(-2*B!H$4))+B!H$3*B!H$3/(4*B!H$4))","v":190.50252169031825},{"$f":"B!I$2+B!I$3*EXP(B!I$4*B157)","v":192.57858695945197},{"$f":"IF((B!J$2+B!J$3*B157)<B!J$4,B!J$2+B!J$3*B157,B!J$4)","v":188.75000559732251},{"$f":"IF(B157<B!K$4,B!K$2+B!K$3*(3*B157/(2*B!K$4)-0.5*(B157/B!K$4)^3),B!K$3+B!K$2)","v":189.83341386770974},{"$f":"(C157*B$45+D!D157*C$45+D!E157*D$45+D!F157*E$45+D!G157*F$45)/SUM(B$45:F$45)","v":190.28144227780732}]
[220,220,{"$f":"B!G$2+B!G$3*B158+B!G$4*B158^2","v":191.42406165701018},{"$f":"IF(B158<(B!H$3/(-2*B!H$4)),B!H$2+B!H$3*B158+B!H$4*B158^2,B!H$2+B!H$3*(B!H$3/(-2*B!H$4))+B!H$3*B!H$3/(4*B!H$4))","v":190.50252169031825},{"$f":"B!I$2+B!I$3*EXP(B!I$4*B158)","v":192.80821205590485},{"$f":"IF((B!J$2+B!J$3*B158)<B!J$4,B!J$2+B!J$3*B158,B!J$4)","v":188.75000559732251},{"$f":"IF(B158<B!K$4,B!K$2+B!K$3*(3*B158/(2*B!K$4)-0.5*(B158/B!K$4)^3),B!K$3+B!K$2)","v":189.83341386770974},{"$f":"(C158*B$45+D!D158*C$45+D!E158*D$45+D!F158*E$45+D!G158*F$45)/SUM(B$45:F$45)","v":190.23073374866962}]
[222,222,{"$f":"B!G$2+B!G$3*B159+B!G$4*B159^2","v":191.20621648963615},{"$f":"IF(B159<(B!H$3/(-2*B!H$4)),B!H$2+B!H$3*B159+B!H$4*B159^2,B!H$2+B!H$3*(B!H$3/(-2*B!H$4))+B!H$3*B!H$3/(4*B!H$4))","v":190.50252169031825},{"$f":"B!I$2+B!I$3*EXP(B!I$4*B159)","v":193.03243740347679},{"$f":"IF((B!J$2+B!J$3*B159)<B!J$4,B!J$2+B!J$3*B159,B!J$4)","v":188.75000559732251},{"$f":"IF(B159<B!K$4,B!K$2+B!K$3*(3*B159/(2*B!K$4)-0.5*(B159/B!K$4)^3),B!K$3+B!K$2)","v":189.83341386770974},{"$f":"(C159*B$45+D!D159*C$45+D!E159*D$45+D!F159*E$45+D!G159*F$45)/SUM(B$45:F$45)","v":190.17388255194228}]
[224,224,{"$f":"B!G$2+B!G$3*B160+B!G$4*B160^2","v":190.96521578313664},{"$f":"IF(B160<(B!H$3/(-2*B!H$4)),B!H$2+B!H$3*B160+B!H$4*B160^2,B!H$2+B!H$3*(B!H$3/(-2*B!H$4))+B!H$3*B!H$3/(4*B!H$4))","v":190.50252169031825},{"$f":"B!I$2+B!I$3*EXP(B!I$4*B160)","v":193.25138997996086},{"$f":"IF((B!J$2+B!J$3*B160)<B!J$4,B!J$2+B!J$3*B160,B!J$4)","v":188.75000559732251},{"$f":"IF(B160<B!K$4,B!K$2+B!K$3*(3*B160/(2*B!K$4)-0.5*(B160/B!K$4)^3),B!K$3+B!K$2)","v":189.83341386770974},{"$f":"(C160*B$45+D!D160*C$45+D!E160*D$45+D!F160*E$45+D!G160*F$45)/SUM(B$45:F$45)","v":190.11088912090278}]
[226,226,{"$f":"B!G$2+B!G$3*B161+B!G$4*B161^2","v":190.70105953751172},{"$f":"IF(B161<(B!H$3/(-2*B!H$4)),B!H$2+B!H$3*B161+B!H$4*B161^2,B!H$2+B!H$3*(B!H$3/(-2*B!H$4))+B!H$3*B!H$3/(4*B!H$4))","v":190.50252169031825},{"$f":"B!I$2+B!I$3*EXP(B!I$4*B161)","v":193.46519377720384},{"$f":"IF((B!J$2+B!J$3*B161)<B!J$4,B!J$2+B!J$3*B161,B!J$4)","v":188.75000559732251},{"$f":"IF(B161<B!K$4,B!K$2+B!K$3*(3*B161/(2*B!K$4)-0.5*(B161/B!K$4)^3),B!K$3+B!K$2)","v":189.83341386770974},{"$f":"(C161*B$45+D!D161*C$45+D!E161*D$45+D!F161*E$45+D!G161*F$45)/SUM(B$45:F$45)","v":190.04175387863987}]
[228,228,{"$f":"B!G$2+B!G$3*B162+B!G$4*B162^2","v":190.41374775276134},{"$f":"IF(B162<(B!H$3/(-2*B!H$4)),B!H$2+B!H$3*B162+B!H$4*B162^2,B!H$2+B!H$3*(B!H$3/(-2*B!H$4))+B!H$3*B!H$3/(4*B!H$4))","v":190.50252169031825},{"$f":"B!I$2+B!I$3*EXP(B!I$4*B162)","v":193.67396987132233},{"$f":"IF((B!J$2+B!J$3*B162)<B!J$4,B!J$2+B!J$3*B162,B!J$4)","v":188.75000559732251},{"$f":"IF(B162<B!K$4,B!K$2+B!K$3*(3*B162/(2*B!K$4)-0.5*(B162/B!K$4)^3),B!K$3+B!K$2)","v":189.83341386770974},{"$f":"(C162*B$45+D!D162*C$45+D!E162*D$45+D!F162*E$45+D!G162*F$45)/SUM(B$45:F$45)","v":189.96647723829318}]
[230,230,{"$f":"B!G$2+B!G$3*B163+B!G$4*B163^2","v":190.10328042888557},{"$f":"IF(B163<(B!H$3/(-2*B!H$4)),B!H$2+B!H$3*B163+B!H$4*B163^2,B!H$2+B!H$3*(B!H$3/(-2*B!H$4))+B!H$3*B!H$3/(4*B!H$4))","v":190.50252169031825},{"$f":"B!I$2+B!I$3*EXP(B!I$4*B163)","v":193.87783649126752},{"$f":"IF((B!J$2+B!J$3*B163)<B!J$4,B!J$2+B!J$3*B163,B!J$4)","v":188.75000559732251},{"$f":"IF(B163<B!K$4,B!K$2+B!K$3*(3*B163/(2*B!K$4)-0.5*(B163/B!K$4)^3),B!K$3+B!K$2)","v":189.83341386770974},{"$f":"(C163*B$45+D!D163*C$45+D!E163*D$45+D!F163*E$45+D!G163*F$45)/SUM(B$45:F$45)","v":189.88505960328709}]
[232,232,{"$f":"B!G$2+B!G$3*B164+B!G$4*B164^2","v":189.7696575658843},{"$f":"IF(B164<(B!H$3/(-2*B!H$4)),B!H$2+B!H$3*B164+B!H$4*B164^2,B!H$2+B!H$3*(B!H$3/(-2*B!H$4))+B!H$3*B!H$3/(4*B!H$4))","v":190.50252169031825},{"$f":"B!I$2+B!I$3*EXP(B!I$4*B164)","v":194.07690908577769},{"$f":"IF((B!J$2+B!J$3*B164)<B!J$4,B!J$2+B!J$3*B164,B!J$4)","v":188.75000559732251},{"$f":"IF(B164<B!K$4,B!K$2+B!K$3*(3*B164/(2*B!K$4)-0.5*(B164/B!K$4)^3),B!K$3+B!K$2)","v":189.83341386770974},{"$f":"(C164*B$45+D!D164*C$45+D!E164*D$45+D!F164*E$45+D!G164*F$45)/SUM(B$45:F$45)","v":189.79750136755931}]
[234,234,{"$f":"B!G$2+B!G$3*B165+B!G$4*B165^2","v":189.41287916375759},{"$f":"IF(B165<(B!H$3/(-2*B!H$4)),B!H$2+B!H$3*B165+B!H$4*B165^2,B!H$2+B!H$3*(B!H$3/(-2*B!H$4))+B!H$3*B!H$3/(4*B!H$4))","v":190.50252169031825},{"$f":"B!I$2+B!I$3*EXP(B!I$4*B165)","v":194.27130038875643},{"$f":"IF((B!J$2+B!J$3*B165)<B!J$4,B!J$2+B!J$3*B165,B!J$4)","v":188.75000559732251},{"$f":"IF(B165<B!K$4,B!K$2+B!K$3*(3*B165/(2*B!K$4)-0.5*(B165/B!K$4)^3),B!K$3+B!K$2)","v":189.83341386770974},{"$f":"(C165*B$45+D!D165*C$45+D!E165*D$45+D!F165*E$45+D!G165*F$45)/SUM(B$45:F$45)","v":189.70380291578385}]
[236,236,{"$f":"B!G$2+B!G$3*B166+B!G$4*B166^2","v":189.03294522250545},{"$f":"IF(B166<(B!H$3/(-2*B!H$4)),B!H$2+B!H$3*B166+B!H$4*B166^2,B!H$2+B!H$3*(B!H$3/(-2*B!H$4))+B!H$3*B!H$3/(4*B!H$4))","v":190.50252169031825},{"$f":"B!I$2+B!I$3*EXP(B!I$4*B166)","v":194.46112048311323},{"$f":"IF((B!J$2+B!J$3*B166)<B!J$4,B!J$2+B!J$3*B166,B!J$4)","v":188.75000559732251},{"$f":"IF(B166<B!K$4,B!K$2+B!K$3*(3*B166/(2*B!K$4)-0.5*(B166/B!K$4)^3),B!K$3+B!K$2)","v":189.83341386770974},{"$f":"(C166*B$45+D!D166*C$45+D!E166*D$45+D!F166*E$45+D!G166*F$45)/SUM(B$45:F$45)","v":189.60396462358909}]
[238,238,{"$f":"B!G$2+B!G$3*B167+B!G$4*B167^2","v":188.62985574212783},{"$f":"IF(B167<(B!H$3/(-2*B!H$4)),B!H$2+B!H$3*B167+B!H$4*B167^2,B!H$2+B!H$3*(B!H$3/(-2*B!H$4))+B!H$3*B!H$3/(4*B!H$4))","v":190.50252169031825},{"$f":"B!I$2+B!I$3*EXP(B!I$4*B167)","v":194.64647686310295},{"$f":"IF((B!J$2+B!J$3*B167)<B!J$4,B!J$2+B!J$3*B167,B!J$4)","v":188.75000559732251},{"$f":"IF(B167<B!K$4,B!K$2+B!K$3*(3*B167/(2*B!K$4)-0.5*(B167/B!K$4)^3),B!K$3+B!K$2)","v":189.83341386770974},{"$f":"(C167*B$45+D!D167*C$45+D!E167*D$45+D!F167*E$45+D!G167*F$45)/SUM(B$45:F$45)","v":189.49798685777006}]
[240,240,{"$f":"B!G$2+B!G$3*B168+B!G$4*B168^2","v":188.20361072262477},{"$f":"IF(B168<(B!H$3/(-2*B!H$4)),B!H$2+B!H$3*B168+B!H$4*B168^2,B!H$2+B!H$3*(B!H$3/(-2*B!H$4))+B!H$3*B!H$3/(4*B!H$4))","v":190.50252169031825},{"$f":"B!I$2+B!I$3*EXP(B!I$4*B168)","v":194.82747449519928},{"$f":"IF((B!J$2+B!J$3*B168)<B!J$4,B!J$2+B!J$3*B168,B!J$4)","v":188.75000559732251},{"$f":"IF(B168<B!K$4,B!K$2+B!K$3*(3*B168/(2*B!K$4)-0.5*(B168/B!K$4)^3),B!K$3+B!K$2)","v":189.83341386770974},{"$f":"(C168*B$45+D!D168*C$45+D!E168*D$45+D!F168*E$45+D!G168*F$45)/SUM(B$45:F$45)","v":189.38586997649665}]
[242,240,{"$f":"B!G$2+B!G$3*B169+B!G$4*B169^2","v":188.20361072262477},{"$f":"IF(B169<(B!H$3/(-2*B!H$4)),B!H$2+B!H$3*B169+B!H$4*B169^2,B!H$2+B!H$3*(B!H$3/(-2*B!H$4))+B!H$3*B!H$3/(4*B!H$4))","v":190.50252169031825},{"$f":"B!I$2+B!I$3*EXP(B!I$4*B169)","v":194.82747449519928},{"$f":"IF((B!J$2+B!J$3*B169)<B!J$4,B!J$2+B!J$3*B169,B!J$4)","v":188.75000559732251},{"$f":"IF(B169<B!K$4,B!K$2+B!K$3*(3*B169/(2*B!K$4)-0.5*(B169/B!K$4)^3),B!K$3+B!K$2)","v":189.83341386770974},{"$f":"(C169*B$45+D!D169*C$45+D!E169*D$45+D!F169*E$45+D!G169*F$45)/SUM(B$45:F$45)","v":189.38586997649665}]
[244,240,{"$f":"B!G$2+B!G$3*B170+B!G$4*B170^2","v":188.20361072262477},{"$f":"IF(B170<(B!H$3/(-2*B!H$4)),B!H$2+B!H$3*B170+B!H$4*B170^2,B!H$2+B!H$3*(B!H$3/(-2*B!H$4))+B!H$3*B!H$3/(4*B!H$4))","v":190.50252169031825},{"$f":"B!I$2+B!I$3*EXP(B!I$4*B170)","v":194.82747449519928},{"$f":"IF((B!J$2+B!J$3*B170)<B!J$4,B!J$2+B!J$3*B170,B!J$4)","v":188.75000559732251},{"$f":"IF(B170<B!K$4,B!K$2+B!K$3*(3*B170/(2*B!K$4)-0.5*(B170/B!K$4)^3),B!K$3+B!K$2)","v":189.83341386770974},{"$f":"(C170*B$45+D!D170*C$45+D!E170*D$45+D!F170*E$45+D!G170*F$45)/SUM(B$45:F$45)","v":189.38586997649665}]
[246,240,{"$f":"B!G$2+B!G$3*B171+B!G$4*B171^2","v":188.20361072262477},{"$f":"IF(B171<(B!H$3/(-2*B!H$4)),B!H$2+B!H$3*B171+B!H$4*B171^2,B!H$2+B!H$3*(B!H$3/(-2*B!H$4))+B!H$3*B!H$3/(4*B!H$4))","v":190.50252169031825},{"$f":"B!I$2+B!I$3*EXP(B!I$4*B171)","v":194.82747449519928},{"$f":"IF((B!J$2+B!J$3*B171)<B!J$4,B!J$2+B!J$3*B171,B!J$4)","v":188.75000559732251},{"$f":"IF(B171<B!K$4,B!K$2+B!K$3*(3*B171/(2*B!K$4)-0.5*(B171/B!K$4)^3),B!K$3+B!K$2)","v":189.83341386770974},{"$f":"(C171*B$45+D!D171*C$45+D!E171*D$45+D!F171*E$45+D!G171*F$45)/SUM(B$45:F$45)","v":189.38586997649665}]
[248,240,{"$f":"B!G$2+B!G$3*B172+B!G$4*B172^2","v":188.20361072262477},{"$f":"IF(B172<(B!H$3/(-2*B!H$4)),B!H$2+B!H$3*B172+B!H$4*B172^2,B!H$2+B!H$3*(B!H$3/(-2*B!H$4))+B!H$3*B!H$3/(4*B!H$4))","v":190.50252169031825},{"$f":"B!I$2+B!I$3*EXP(B!I$4*B172)","v":194.82747449519928},{"$f":"IF((B!J$2+B!J$3*B172)<B!J$4,B!J$2+B!J$3*B172,B!J$4)","v":188.75000559732251},{"$f":"IF(B172<B!K$4,B!K$2+B!K$3*(3*B172/(2*B!K$4)-0.5*(B172/B!K$4)^3),B!K$3+B!K$2)","v":189.83341386770974},{"$f":"(C172*B$45+D!D172*C$45+D!E172*D$45+D!F172*E$45+D!G172*F$45)/SUM(B$45:F$45)","v":189.38586997649665}]
[250,240,{"$f":"B!G$2+B!G$3*B173+B!G$4*B173^2","v":188.20361072262477},{"$f":"IF(B173<(B!H$3/(-2*B!H$4)),B!H$2+B!H$3*B173+B!H$4*B173^2,B!H$2+B!H$3*(B!H$3/(-2*B!H$4))+B!H$3*B!H$3/(4*B!H$4))","v":190.50252169031825},{"$f":"B!I$2+B!I$3*EXP(B!I$4*B173)","v":194.82747449519928},{"$f":"IF((B!J$2+B!J$3*B173)<B!J$4,B!J$2+B!J$3*B173,B!J$4)","v":188.75000559732251},{"$f":"IF(B173<B!K$4,B!K$2+B!K$3*(3*B173/(2*B!K$4)-0.5*(B173/B!K$4)^3),B!K$3+B!K$2)","v":189.83341386770974},{"$f":"(C173*B$45+D!D173*C$45+D!E173*D$45+D!F173*E$45+D!G173*F$45)/SUM(B$45:F$45)","v":189.38586997649665}]
[252,240,{"$f":"B!G$2+B!G$3*B174+B!G$4*B174^2","v":188.20361072262477},{"$f":"IF(B174<(B!H$3/(-2*B!H$4)),B!H$2+B!H$3*B174+B!H$4*B174^2,B!H$2+B!H$3*(B!H$3/(-2*B!H$4))+B!H$3*B!H$3/(4*B!H$4))","v":190.50252169031825},{"$f":"B!I$2+B!I$3*EXP(B!I$4*B174)","v":194.82747449519928},{"$f":"IF((B!J$2+B!J$3*B174)<B!J$4,B!J$2+B!J$3*B174,B!J$4)","v":188.75000559732251},{"$f":"IF(B174<B!K$4,B!K$2+B!K$3*(3*B174/(2*B!K$4)-0.5*(B174/B!K$4)^3),B!K$3+B!K$2)","v":189.83341386770974},{"$f":"(C174*B$45+D!D174*C$45+D!E174*D$45+D!F174*E$45+D!G174*F$45)/SUM(B$45:F$45)","v":189.38586997649665}]
[254,240,{"$f":"B!G$2+B!G$3*B175+B!G$4*B175^2","v":188.20361072262477},{"$f":"IF(B175<(B!H$3/(-2*B!H$4)),B!H$2+B!H$3*B175+B!H$4*B175^2,B!H$2+B!H$3*(B!H$3/(-2*B!H$4))+B!H$3*B!H$3/(4*B!H$4))","v":190.50252169031825},{"$f":"B!I$2+B!I$3*EXP(B!I$4*B175)","v":194.82747449519928},{"$f":"IF((B!J$2+B!J$3*B175)<B!J$4,B!J$2+B!J$3*B175,B!J$4)","v":188.75000559732251},{"$f":"IF(B175<B!K$4,B!K$2+B!K$3*(3*B175/(2*B!K$4)-0.5*(B175/B!K$4)^3),B!K$3+B!K$2)","v":189.83341386770974},{"$f":"(C175*B$45+D!D175*C$45+D!E175*D$45+D!F175*E$45+D!G175*F$45)/SUM(B$45:F$45)","v":189.38586997649665}]
[256,240,{"$f":"B!G$2+B!G$3*B176+B!G$4*B176^2","v":188.20361072262477},{"$f":"IF(B176<(B!H$3/(-2*B!H$4)),B!H$2+B!H$3*B176+B!H$4*B176^2,B!H$2+B!H$3*(B!H$3/(-2*B!H$4))+B!H$3*B!H$3/(4*B!H$4))","v":190.50252169031825},{"$f":"B!I$2+B!I$3*EXP(B!I$4*B176)","v":194.82747449519928},{"$f":"IF((B!J$2+B!J$3*B176)<B!J$4,B!J$2+B!J$3*B176,B!J$4)","v":188.75000559732251},{"$f":"IF(B176<B!K$4,B!K$2+B!K$3*(3*B176/(2*B!K$4)-0.5*(B176/B!K$4)^3),B!K$3+B!K$2)","v":189.83341386770974},{"$f":"(C176*B$45+D!D176*C$45+D!E176*D$45+D!F176*E$45+D!G176*F$45)/SUM(B$45:F$45)","v":189.38586997649665}]
[258,{"$f":"IF(A177<MAX($M$48),A177,MAX($M$48))","v":240},{"$f":"B!G$2+B!G$3*B177+B!G$4*B177^2","v":188.20361072262477},{"$f":"IF(B177<(B!H$3/(-2*B!H$4)),B!H$2+B!H$3*B177+B!H$4*B177^2,B!H$2+B!H$3*(B!H$3/(-2*B!H$4))+B!H$3*B!H$3/(4*B!H$4))","v":190.50252169031825},{"$f":"B!I$2+B!I$3*EXP(B!I$4*B177)","v":194.82747449519928},{"$f":"IF((B!J$2+B!J$3*B177)<B!J$4,B!J$2+B!J$3*B177,B!J$4)","v":188.75000559732251},{"$f":"IF(B177<B!K$4,B!K$2+B!K$3*(3*B177/(2*B!K$4)-0.5*(B177/B!K$4)^3),B!K$3+B!K$2)","v":189.83341386770974},{"$f":"(C177*B$45+D!D177*C$45+D!E177*D$45+D!F177*E$45+D!G177*F$45)/SUM(B$45:F$45)","v":189.38586997649665}]
[260,240,{"$f":"B!G$2+B!G$3*B178+B!G$4*B178^2","v":188.20361072262477},{"$f":"IF(B178<(B!H$3/(-2*B!H$4)),B!H$2+B!H$3*B178+B!H$4*B178^2,B!H$2+B!H$3*(B!H$3/(-2*B!H$4))+B!H$3*B!H$3/(4*B!H$4))","v":190.50252169031825},{"$f":"B!I$2+B!I$3*EXP(B!I$4*B178)","v":194.82747449519928},{"$f":"IF((B!J$2+B!J$3*B178)<B!J$4,B!J$2+B!J$3*B178,B!J$4)","v":188.75000559732251},{"$f":"IF(B178<B!K$4,B!K$2+B!K$3*(3*B178/(2*B!K$4)-0.5*(B178/B!K$4)^3),B!K$3+B!K$2)","v":189.83341386770974},{"$f":"(C178*B$45+D!D178*C$45+D!E178*D$45+D!F178*E$45+D!G178*F$45)/SUM(B$45:F$45)","v":189.38586997649665}]
[262,240,{"$f":"B!G$2+B!G$3*B179+B!G$4*B179^2","v":188.20361072262477},{"$f":"IF(B179<(B!H$3/(-2*B!H$4)),B!H$2+B!H$3*B179+B!H$4*B179^2,B!H$2+B!H$3*(B!H$3/(-2*B!H$4))+B!H$3*B!H$3/(4*B!H$4))","v":190.50252169031825},{"$f":"B!I$2+B!I$3*EXP(B!I$4*B179)","v":194.82747449519928},{"$f":"IF((B!J$2+B!J$3*B179)<B!J$4,B!J$2+B!J$3*B179,B!J$4)","v":188.75000559732251},{"$f":"IF(B179<B!K$4,B!K$2+B!K$3*(3*B179/(2*B!K$4)-0.5*(B179/B!K$4)^3),B!K$3+B!K$2)","v":189.83341386770974},{"$f":"(C179*B$45+D!D179*C$45+D!E179*D$45+D!F179*E$45+D!G179*F$45)/SUM(B$45:F$45)","v":189.38586997649665}]
[264,240,{"$f":"B!G$2+B!G$3*B180+B!G$4*B180^2","v":188.20361072262477},{"$f":"IF(B180<(B!H$3/(-2*B!H$4)),B!H$2+B!H$3*B180+B!H$4*B180^2,B!H$2+B!H$3*(B!H$3/(-2*B!H$4))+B!H$3*B!H$3/(4*B!H$4))","v":190.50252169031825},{"$f":"B!I$2+B!I$3*EXP(B!I$4*B180)","v":194.82747449519928},{"$f":"IF((B!J$2+B!J$3*B180)<B!J$4,B!J$2+B!J$3*B180,B!J$4)","v":188.75000559732251},{"$f":"IF(B180<B!K$4,B!K$2+B!K$3*(3*B180/(2*B!K$4)-0.5*(B180/B!K$4)^3),B!K$3+B!K$2)","v":189.83341386770974},{"$f":"(C180*B$45+D!D180*C$45+D!E180*D$45+D!F180*E$45+D!G180*F$45)/SUM(B$45:F$45)","v":189.38586997649665}]
[266,240,{"$f":"B!G$2+B!G$3*B181+B!G$4*B181^2","v":188.20361072262477},{"$f":"IF(B181<(B!H$3/(-2*B!H$4)),B!H$2+B!H$3*B181+B!H$4*B181^2,B!H$2+B!H$3*(B!H$3/(-2*B!H$4))+B!H$3*B!H$3/(4*B!H$4))","v":190.50252169031825},{"$f":"B!I$2+B!I$3*EXP(B!I$4*B181)","v":194.82747449519928},{"$f":"IF((B!J$2+B!J$3*B181)<B!J$4,B!J$2+B!J$3*B181,B!J$4)","v":188.75000559732251},{"$f":"IF(B181<B!K$4,B!K$2+B!K$3*(3*B181/(2*B!K$4)-0.5*(B181/B!K$4)^3),B!K$3+B!K$2)","v":189.83341386770974},{"$f":"(C181*B$45+D!D181*C$45+D!E181*D$45+D!F181*E$45+D!G181*F$45)/SUM(B$45:F$45)","v":189.38586997649665}]
[268,240,{"$f":"B!G$2+B!G$3*B182+B!G$4*B182^2","v":188.20361072262477},{"$f":"IF(B182<(B!H$3/(-2*B!H$4)),B!H$2+B!H$3*B182+B!H$4*B182^2,B!H$2+B!H$3*(B!H$3/(-2*B!H$4))+B!H$3*B!H$3/(4*B!H$4))","v":190.50252169031825},{"$f":"B!I$2+B!I$3*EXP(B!I$4*B182)","v":194.82747449519928},{"$f":"IF((B!J$2+B!J$3*B182)<B!J$4,B!J$2+B!J$3*B182,B!J$4)","v":188.75000559732251},{"$f":"IF(B182<B!K$4,B!K$2+B!K$3*(3*B182/(2*B!K$4)-0.5*(B182/B!K$4)^3),B!K$3+B!K$2)","v":189.83341386770974},{"$f":"(C182*B$45+D!D182*C$45+D!E182*D$45+D!F182*E$45+D!G182*F$45)/SUM(B$45:F$45)","v":189.38586997649665}]
[270,240,{"$f":"B!G$2+B!G$3*B183+B!G$4*B183^2","v":188.20361072262477},{"$f":"IF(B183<(B!H$3/(-2*B!H$4)),B!H$2+B!H$3*B183+B!H$4*B183^2,B!H$2+B!H$3*(B!H$3/(-2*B!H$4))+B!H$3*B!H$3/(4*B!H$4))","v":190.50252169031825},{"$f":"B!I$2+B!I$3*EXP(B!I$4*B183)","v":194.82747449519928},{"$f":"IF((B!J$2+B!J$3*B183)<B!J$4,B!J$2+B!J$3*B183,B!J$4)","v":188.75000559732251},{"$f":"IF(B183<B!K$4,B!K$2+B!K$3*(3*B183/(2*B!K$4)-0.5*(B183/B!K$4)^3),B!K$3+B!K$2)","v":189.83341386770974},{"$f":"(C183*B$45+D!D183*C$45+D!E183*D$45+D!F183*E$45+D!G183*F$45)/SUM(B$45:F$45)","v":189.38586997649665}]
[272,240,{"$f":"B!G$2+B!G$3*B184+B!G$4*B184^2","v":188.20361072262477},{"$f":"IF(B184<(B!H$3/(-2*B!H$4)),B!H$2+B!H$3*B184+B!H$4*B184^2,B!H$2+B!H$3*(B!H$3/(-2*B!H$4))+B!H$3*B!H$3/(4*B!H$4))","v":190.50252169031825},{"$f":"B!I$2+B!I$3*EXP(B!I$4*B184)","v":194.82747449519928},{"$f":"IF((B!J$2+B!J$3*B184)<B!J$4,B!J$2+B!J$3*B184,B!J$4)","v":188.75000559732251},{"$f":"IF(B184<B!K$4,B!K$2+B!K$3*(3*B184/(2*B!K$4)-0.5*(B184/B!K$4)^3),B!K$3+B!K$2)","v":189.83341386770974},{"$f":"(C184*B$45+D!D184*C$45+D!E184*D$45+D!F184*E$45+D!G184*F$45)/SUM(B$45:F$45)","v":189.38586997649665}]
[274,240,{"$f":"B!G$2+B!G$3*B185+B!G$4*B185^2","v":188.20361072262477},{"$f":"IF(B185<(B!H$3/(-2*B!H$4)),B!H$2+B!H$3*B185+B!H$4*B185^2,B!H$2+B!H$3*(B!H$3/(-2*B!H$4))+B!H$3*B!H$3/(4*B!H$4))","v":190.50252169031825},{"$f":"B!I$2+B!I$3*EXP(B!I$4*B185)","v":194.82747449519928},{"$f":"IF((B!J$2+B!J$3*B185)<B!J$4,B!J$2+B!J$3*B185,B!J$4)","v":188.75000559732251},{"$f":"IF(B185<B!K$4,B!K$2+B!K$3*(3*B185/(2*B!K$4)-0.5*(B185/B!K$4)^3),B!K$3+B!K$2)","v":189.83341386770974},{"$f":"(C185*B$45+D!D185*C$45+D!E185*D$45+D!F185*E$45+D!G185*F$45)/SUM(B$45:F$45)","v":189.38586997649665}]
[276,240,{"$f":"B!G$2+B!G$3*B186+B!G$4*B186^2","v":188.20361072262477},{"$f":"IF(B186<(B!H$3/(-2*B!H$4)),B!H$2+B!H$3*B186+B!H$4*B186^2,B!H$2+B!H$3*(B!H$3/(-2*B!H$4))+B!H$3*B!H$3/(4*B!H$4))","v":190.50252169031825},{"$f":"B!I$2+B!I$3*EXP(B!I$4*B186)","v":194.82747449519928},{"$f":"IF((B!J$2+B!J$3*B186)<B!J$4,B!J$2+B!J$3*B186,B!J$4)","v":188.75000559732251},{"$f":"IF(B186<B!K$4,B!K$2+B!K$3*(3*B186/(2*B!K$4)-0.5*(B186/B!K$4)^3),B!K$3+B!K$2)","v":189.83341386770974},{"$f":"(C186*B$45+D!D186*C$45+D!E186*D$45+D!F186*E$45+D!G186*F$45)/SUM(B$45:F$45)","v":189.38586997649665}]
[278,240,{"$f":"B!G$2+B!G$3*B187+B!G$4*B187^2","v":188.20361072262477},{"$f":"IF(B187<(B!H$3/(-2*B!H$4)),B!H$2+B!H$3*B187+B!H$4*B187^2,B!H$2+B!H$3*(B!H$3/(-2*B!H$4))+B!H$3*B!H$3/(4*B!H$4))","v":190.50252169031825},{"$f":"B!I$2+B!I$3*EXP(B!I$4*B187)","v":194.82747449519928},{"$f":"IF((B!J$2+B!J$3*B187)<B!J$4,B!J$2+B!J$3*B187,B!J$4)","v":188.75000559732251},{"$f":"IF(B187<B!K$4,B!K$2+B!K$3*(3*B187/(2*B!K$4)-0.5*(B187/B!K$4)^3),B!K$3+B!K$2)","v":189.83341386770974},{"$f":"(C187*B$45+D!D187*C$45+D!E187*D$45+D!F187*E$45+D!G187*F$45)/SUM(B$45:F$45)","v":189.38586997649665}]
[280,240,{"$f":"B!G$2+B!G$3*B188+B!G$4*B188^2","v":188.20361072262477},{"$f":"IF(B188<(B!H$3/(-2*B!H$4)),B!H$2+B!H$3*B188+B!H$4*B188^2,B!H$2+B!H$3*(B!H$3/(-2*B!H$4))+B!H$3*B!H$3/(4*B!H$4))","v":190.50252169031825},{"$f":"B!I$2+B!I$3*EXP(B!I$4*B188)","v":194.82747449519928},{"$f":"IF((B!J$2+B!J$3*B188)<B!J$4,B!J$2+B!J$3*B188,B!J$4)","v":188.75000559732251},{"$f":"IF(B188<B!K$4,B!K$2+B!K$3*(3*B188/(2*B!K$4)-0.5*(B188/B!K$4)^3),B!K$3+B!K$2)","v":189.83341386770974},{"$f":"(C188*B$45+D!D188*C$45+D!E188*D$45+D!F188*E$45+D!G188*F$45)/SUM(B$45:F$45)","v":189.38586997649665}]
[282,240,{"$f":"B!G$2+B!G$3*B189+B!G$4*B189^2","v":188.20361072262477},{"$f":"IF(B189<(B!H$3/(-2*B!H$4)),B!H$2+B!H$3*B189+B!H$4*B189^2,B!H$2+B!H$3*(B!H$3/(-2*B!H$4))+B!H$3*B!H$3/(4*B!H$4))","v":190.50252169031825},{"$f":"B!I$2+B!I$3*EXP(B!I$4*B189)","v":194.82747449519928},{"$f":"IF((B!J$2+B!J$3*B189)<B!J$4,B!J$2+B!J$3*B189,B!J$4)","v":188.75000559732251},{"$f":"IF(B189<B!K$4,B!K$2+B!K$3*(3*B189/(2*B!K$4)-0.5*(B189/B!K$4)^3),B!K$3+B!K$2)","v":189.83341386770974},{"$f":"(C189*B$45+D!D189*C$45+D!E189*D$45+D!F189*E$45+D!G189*F$45)/SUM(B$45:F$45)","v":189.38586997649665}]
[284,240,{"$f":"B!G$2+B!G$3*B190+B!G$4*B190^2","v":188.20361072262477},{"$f":"IF(B190<(B!H$3/(-2*B!H$4)),B!H$2+B!H$3*B190+B!H$4*B190^2,B!H$2+B!H$3*(B!H$3/(-2*B!H$4))+B!H$3*B!H$3/(4*B!H$4))","v":190.50252169031825},{"$f":"B!I$2+B!I$3*EXP(B!I$4*B190)","v":194.82747449519928},{"$f":"IF((B!J$2+B!J$3*B190)<B!J$4,B!J$2+B!J$3*B190,B!J$4)","v":188.75000559732251},{"$f":"IF(B190<B!K$4,B!K$2+B!K$3*(3*B190/(2*B!K$4)-0.5*(B190/B!K$4)^3),B!K$3+B!K$2)","v":189.83341386770974},{"$f":"(C190*B$45+D!D190*C$45+D!E190*D$45+D!F190*E$45+D!G190*F$45)/SUM(B$45:F$45)","v":189.38586997649665}]
[286,240,{"$f":"B!G$2+B!G$3*B191+B!G$4*B191^2","v":188.20361072262477},{"$f":"IF(B191<(B!H$3/(-2*B!H$4)),B!H$2+B!H$3*B191+B!H$4*B191^2,B!H$2+B!H$3*(B!H$3/(-2*B!H$4))+B!H$3*B!H$3/(4*B!H$4))","v":190.50252169031825},{"$f":"B!I$2+B!I$3*EXP(B!I$4*B191)","v":194.82747449519928},{"$f":"IF((B!J$2+B!J$3*B191)<B!J$4,B!J$2+B!J$3*B191,B!J$4)","v":188.75000559732251},{"$f":"IF(B191<B!K$4,B!K$2+B!K$3*(3*B191/(2*B!K$4)-0.5*(B191/B!K$4)^3),B!K$3+B!K$2)","v":189.83341386770974},{"$f":"(C191*B$45+D!D191*C$45+D!E191*D$45+D!F191*E$45+D!G191*F$45)/SUM(B$45:F$45)","v":189.38586997649665}]
[288,240,{"$f":"B!G$2+B!G$3*B192+B!G$4*B192^2","v":188.20361072262477},{"$f":"IF(B192<(B!H$3/(-2*B!H$4)),B!H$2+B!H$3*B192+B!H$4*B192^2,B!H$2+B!H$3*(B!H$3/(-2*B!H$4))+B!H$3*B!H$3/(4*B!H$4))","v":190.50252169031825},{"$f":"B!I$2+B!I$3*EXP(B!I$4*B192)","v":194.82747449519928},{"$f":"IF((B!J$2+B!J$3*B192)<B!J$4,B!J$2+B!J$3*B192,B!J$4)","v":188.75000559732251},{"$f":"IF(B192<B!K$4,B!K$2+B!K$3*(3*B192/(2*B!K$4)-0.5*(B192/B!K$4)^3),B!K$3+B!K$2)","v":189.83341386770974},{"$f":"(C192*B$45+D!D192*C$45+D!E192*D$45+D!F192*E$45+D!G192*F$45)/SUM(B$45:F$45)","v":189.38586997649665}]
[290,240,{"$f":"B!G$2+B!G$3*B193+B!G$4*B193^2","v":188.20361072262477},{"$f":"IF(B193<(B!H$3/(-2*B!H$4)),B!H$2+B!H$3*B193+B!H$4*B193^2,B!H$2+B!H$3*(B!H$3/(-2*B!H$4))+B!H$3*B!H$3/(4*B!H$4))","v":190.50252169031825},{"$f":"B!I$2+B!I$3*EXP(B!I$4*B193)","v":194.82747449519928},{"$f":"IF((B!J$2+B!J$3*B193)<B!J$4,B!J$2+B!J$3*B193,B!J$4)","v":188.75000559732251},{"$f":"IF(B193<B!K$4,B!K$2+B!K$3*(3*B193/(2*B!K$4)-0.5*(B193/B!K$4)^3),B!K$3+B!K$2)","v":189.83341386770974},{"$f":"(C193*B$45+D!D193*C$45+D!E193*D$45+D!F193*E$45+D!G193*F$45)/SUM(B$45:F$45)","v":189.38586997649665}]
[292,240,{"$f":"B!G$2+B!G$3*B194+B!G$4*B194^2","v":188.20361072262477},{"$f":"IF(B194<(B!H$3/(-2*B!H$4)),B!H$2+B!H$3*B194+B!H$4*B194^2,B!H$2+B!H$3*(B!H$3/(-2*B!H$4))+B!H$3*B!H$3/(4*B!H$4))","v":190.50252169031825},{"$f":"B!I$2+B!I$3*EXP(B!I$4*B194)","v":194.82747449519928},{"$f":"IF((B!J$2+B!J$3*B194)<B!J$4,B!J$2+B!J$3*B194,B!J$4)","v":188.75000559732251},{"$f":"IF(B194<B!K$4,B!K$2+B!K$3*(3*B194/(2*B!K$4)-0.5*(B194/B!K$4)^3),B!K$3+B!K$2)","v":189.83341386770974},{"$f":"(C194*B$45+D!D194*C$45+D!E194*D$45+D!F194*E$45+D!G194*F$45)/SUM(B$45:F$45)","v":189.38586997649665}]
[294,240,{"$f":"B!G$2+B!G$3*B195+B!G$4*B195^2","v":188.20361072262477},{"$f":"IF(B195<(B!H$3/(-2*B!H$4)),B!H$2+B!H$3*B195+B!H$4*B195^2,B!H$2+B!H$3*(B!H$3/(-2*B!H$4))+B!H$3*B!H$3/(4*B!H$4))","v":190.50252169031825},{"$f":"B!I$2+B!I$3*EXP(B!I$4*B195)","v":194.82747449519928},{"$f":"IF((B!J$2+B!J$3*B195)<B!J$4,B!J$2+B!J$3*B195,B!J$4)","v":188.75000559732251},{"$f":"IF(B195<B!K$4,B!K$2+B!K$3*(3*B195/(2*B!K$4)-0.5*(B195/B!K$4)^3),B!K$3+B!K$2)","v":189.83341386770974},{"$f":"(C195*B$45+D!D195*C$45+D!E195*D$45+D!F195*E$45+D!G195*F$45)/SUM(B$45:F$45)","v":189.38586997649665}]
[296,240,{"$f":"B!G$2+B!G$3*B196+B!G$4*B196^2","v":188.20361072262477},{"$f":"IF(B196<(B!H$3/(-2*B!H$4)),B!H$2+B!H$3*B196+B!H$4*B196^2,B!H$2+B!H$3*(B!H$3/(-2*B!H$4))+B!H$3*B!H$3/(4*B!H$4))","v":190.50252169031825},{"$f":"B!I$2+B!I$3*EXP(B!I$4*B196)","v":194.82747449519928},{"$f":"IF((B!J$2+B!J$3*B196)<B!J$4,B!J$2+B!J$3*B196,B!J$4)","v":188.75000559732251},{"$f":"IF(B196<B!K$4,B!K$2+B!K$3*(3*B196/(2*B!K$4)-0.5*(B196/B!K$4)^3),B!K$3+B!K$2)","v":189.83341386770974},{"$f":"(C196*B$45+D!D196*C$45+D!E196*D$45+D!F196*E$45+D!G196*F$45)/SUM(B$45:F$45)","v":189.38586997649665}]
[298,240,{"$f":"B!G$2+B!G$3*B197+B!G$4*B197^2","v":188.20361072262477},{"$f":"IF(B197<(B!H$3/(-2*B!H$4)),B!H$2+B!H$3*B197+B!H$4*B197^2,B!H$2+B!H$3*(B!H$3/(-2*B!H$4))+B!H$3*B!H$3/(4*B!H$4))","v":190.50252169031825},{"$f":"B!I$2+B!I$3*EXP(B!I$4*B197)","v":194.82747449519928},{"$f":"IF((B!J$2+B!J$3*B197)<B!J$4,B!J$2+B!J$3*B197,B!J$4)","v":188.75000559732251},{"$f":"IF(B197<B!K$4,B!K$2+B!K$3*(3*B197/(2*B!K$4)-0.5*(B197/B!K$4)^3),B!K$3+B!K$2)","v":189.83341386770974},{"$f":"(C197*B$45+D!D197*C$45+D!E197*D$45+D!F197*E$45+D!G197*F$45)/SUM(B$45:F$45)","v":189.38586997649665}]
[300,240,{"$f":"B!G$2+B!G$3*B198+B!G$4*B198^2","v":188.20361072262477},{"$f":"IF(B198<(B!H$3/(-2*B!H$4)),B!H$2+B!H$3*B198+B!H$4*B198^2,B!H$2+B!H$3*(B!H$3/(-2*B!H$4))+B!H$3*B!H$3/(4*B!H$4))","v":190.50252169031825},{"$f":"B!I$2+B!I$3*EXP(B!I$4*B198)","v":194.82747449519928},{"$f":"IF((B!J$2+B!J$3*B198)<B!J$4,B!J$2+B!J$3*B198,B!J$4)","v":188.75000559732251},{"$f":"IF(B198<B!K$4,B!K$2+B!K$3*(3*B198/(2*B!K$4)-0.5*(B198/B!K$4)^3),B!K$3+B!K$2)","v":189.83341386770974},{"$f":"(C198*B$45+D!D198*C$45+D!E198*D$45+D!F198*E$45+D!G198*F$45)/SUM(B$45:F$45)","v":189.38586997649665}]
[302,240,{"$f":"B!G$2+B!G$3*B199+B!G$4*B199^2","v":188.20361072262477},{"$f":"IF(B199<(B!H$3/(-2*B!H$4)),B!H$2+B!H$3*B199+B!H$4*B199^2,B!H$2+B!H$3*(B!H$3/(-2*B!H$4))+B!H$3*B!H$3/(4*B!H$4))","v":190.50252169031825},{"$f":"B!I$2+B!I$3*EXP(B!I$4*B199)","v":194.82747449519928},{"$f":"IF((B!J$2+B!J$3*B199)<B!J$4,B!J$2+B!J$3*B199,B!J$4)","v":188.75000559732251},{"$f":"IF(B199<B!K$4,B!K$2+B!K$3*(3*B199/(2*B!K$4)-0.5*(B199/B!K$4)^3),B!K$3+B!K$2)","v":189.83341386770974},{"$f":"(C199*B$45+D!D199*C$45+D!E199*D$45+D!F199*E$45+D!G199*F$45)/SUM(B$45:F$45)","v":189.38586997649665}]
[304,240,{"$f":"B!G$2+B!G$3*B200+B!G$4*B200^2","v":188.20361072262477},{"$f":"IF(B200<(B!H$3/(-2*B!H$4)),B!H$2+B!H$3*B200+B!H$4*B200^2,B!H$2+B!H$3*(B!H$3/(-2*B!H$4))+B!H$3*B!H$3/(4*B!H$4))","v":190.50252169031825},{"$f":"B!I$2+B!I$3*EXP(B!I$4*B200)","v":194.82747449519928},{"$f":"IF((B!J$2+B!J$3*B200)<B!J$4,B!J$2+B!J$3*B200,B!J$4)","v":188.75000559732251},{"$f":"IF(B200<B!K$4,B!K$2+B!K$3*(3*B200/(2*B!K$4)-0.5*(B200/B!K$4)^3),B!K$3+B!K$2)","v":189.83341386770974},{"$f":"(C200*B$45+D!D200*C$45+D!E200*D$45+D!F200*E$45+D!G200*F$45)/SUM(B$45:F$45)","v":189.38586997649665}]
[306,240,{"$f":"B!G$2+B!G$3*B201+B!G$4*B201^2","v":188.20361072262477},{"$f":"IF(B201<(B!H$3/(-2*B!H$4)),B!H$2+B!H$3*B201+B!H$4*B201^2,B!H$2+B!H$3*(B!H$3/(-2*B!H$4))+B!H$3*B!H$3/(4*B!H$4))","v":190.50252169031825},{"$f":"B!I$2+B!I$3*EXP(B!I$4*B201)","v":194.82747449519928},{"$f":"IF((B!J$2+B!J$3*B201)<B!J$4,B!J$2+B!J$3*B201,B!J$4)","v":188.75000559732251},{"$f":"IF(B201<B!K$4,B!K$2+B!K$3*(3*B201/(2*B!K$4)-0.5*(B201/B!K$4)^3),B!K$3+B!K$2)","v":189.83341386770974},{"$f":"(C201*B$45+D!D201*C$45+D!E201*D$45+D!F201*E$45+D!G201*F$45)/SUM(B$45:F$45)","v":189.38586997649665}]
[308,240,{"$f":"B!G$2+B!G$3*B202+B!G$4*B202^2","v":188.20361072262477},{"$f":"IF(B202<(B!H$3/(-2*B!H$4)),B!H$2+B!H$3*B202+B!H$4*B202^2,B!H$2+B!H$3*(B!H$3/(-2*B!H$4))+B!H$3*B!H$3/(4*B!H$4))","v":190.50252169031825},{"$f":"B!I$2+B!I$3*EXP(B!I$4*B202)","v":194.82747449519928},{"$f":"IF((B!J$2+B!J$3*B202)<B!J$4,B!J$2+B!J$3*B202,B!J$4)","v":188.75000559732251},{"$f":"IF(B202<B!K$4,B!K$2+B!K$3*(3*B202/(2*B!K$4)-0.5*(B202/B!K$4)^3),B!K$3+B!K$2)","v":189.83341386770974},{"$f":"(C202*B$45+D!D202*C$45+D!E202*D$45+D!F202*E$45+D!G202*F$45)/SUM(B$45:F$45)","v":189.38586997649665}]
[310,240,{"$f":"B!G$2+B!G$3*B203+B!G$4*B203^2","v":188.20361072262477},{"$f":"IF(B203<(B!H$3/(-2*B!H$4)),B!H$2+B!H$3*B203+B!H$4*B203^2,B!H$2+B!H$3*(B!H$3/(-2*B!H$4))+B!H$3*B!H$3/(4*B!H$4))","v":190.50252169031825},{"$f":"B!I$2+B!I$3*EXP(B!I$4*B203)","v":194.82747449519928},{"$f":"IF((B!J$2+B!J$3*B203)<B!J$4,B!J$2+B!J$3*B203,B!J$4)","v":188.75000559732251},{"$f":"IF(B203<B!K$4,B!K$2+B!K$3*(3*B203/(2*B!K$4)-0.5*(B203/B!K$4)^3),B!K$3+B!K$2)","v":189.83341386770974},{"$f":"(C203*B$45+D!D203*C$45+D!E203*D$45+D!F203*E$45+D!G203*F$45)/SUM(B$45:F$45)","v":189.38586997649665}]
[312,240,{"$f":"B!G$2+B!G$3*B204+B!G$4*B204^2","v":188.20361072262477},{"$f":"IF(B204<(B!H$3/(-2*B!H$4)),B!H$2+B!H$3*B204+B!H$4*B204^2,B!H$2+B!H$3*(B!H$3/(-2*B!H$4))+B!H$3*B!H$3/(4*B!H$4))","v":190.50252169031825},{"$f":"B!I$2+B!I$3*EXP(B!I$4*B204)","v":194.82747449519928},{"$f":"IF((B!J$2+B!J$3*B204)<B!J$4,B!J$2+B!J$3*B204,B!J$4)","v":188.75000559732251},{"$f":"IF(B204<B!K$4,B!K$2+B!K$3*(3*B204/(2*B!K$4)-0.5*(B204/B!K$4)^3),B!K$3+B!K$2)","v":189.83341386770974},{"$f":"(C204*B$45+D!D204*C$45+D!E204*D$45+D!F204*E$45+D!G204*F$45)/SUM(B$45:F$45)","v":189.38586997649665}]
[314,240,{"$f":"B!G$2+B!G$3*B205+B!G$4*B205^2","v":188.20361072262477},{"$f":"IF(B205<(B!H$3/(-2*B!H$4)),B!H$2+B!H$3*B205+B!H$4*B205^2,B!H$2+B!H$3*(B!H$3/(-2*B!H$4))+B!H$3*B!H$3/(4*B!H$4))","v":190.50252169031825},{"$f":"B!I$2+B!I$3*EXP(B!I$4*B205)","v":194.82747449519928},{"$f":"IF((B!J$2+B!J$3*B205)<B!J$4,B!J$2+B!J$3*B205,B!J$4)","v":188.75000559732251},{"$f":"IF(B205<B!K$4,B!K$2+B!K$3*(3*B205/(2*B!K$4)-0.5*(B205/B!K$4)^3),B!K$3+B!K$2)","v":189.83341386770974},{"$f":"(C205*B$45+D!D205*C$45+D!E205*D$45+D!F205*E$45+D!G205*F$45)/SUM(B$45:F$45)","v":189.38586997649665}]
[316,240,{"$f":"B!G$2+B!G$3*B206+B!G$4*B206^2","v":188.20361072262477},{"$f":"IF(B206<(B!H$3/(-2*B!H$4)),B!H$2+B!H$3*B206+B!H$4*B206^2,B!H$2+B!H$3*(B!H$3/(-2*B!H$4))+B!H$3*B!H$3/(4*B!H$4))","v":190.50252169031825},{"$f":"B!I$2+B!I$3*EXP(B!I$4*B206)","v":194.82747449519928},{"$f":"IF((B!J$2+B!J$3*B206)<B!J$4,B!J$2+B!J$3*B206,B!J$4)","v":188.75000559732251},{"$f":"IF(B206<B!K$4,B!K$2+B!K$3*(3*B206/(2*B!K$4)-0.5*(B206/B!K$4)^3),B!K$3+B!K$2)","v":189.83341386770974},{"$f":"(C206*B$45+D!D206*C$45+D!E206*D$45+D!F206*E$45+D!G206*F$45)/SUM(B$45:F$45)","v":189.38586997649665}]
[318,240,{"$f":"B!G$2+B!G$3*B207+B!G$4*B207^2","v":188.20361072262477},{"$f":"IF(B207<(B!H$3/(-2*B!H$4)),B!H$2+B!H$3*B207+B!H$4*B207^2,B!H$2+B!H$3*(B!H$3/(-2*B!H$4))+B!H$3*B!H$3/(4*B!H$4))","v":190.50252169031825},{"$f":"B!I$2+B!I$3*EXP(B!I$4*B207)","v":194.82747449519928},{"$f":"IF((B!J$2+B!J$3*B207)<B!J$4,B!J$2+B!J$3*B207,B!J$4)","v":188.75000559732251},{"$f":"IF(B207<B!K$4,B!K$2+B!K$3*(3*B207/(2*B!K$4)-0.5*(B207/B!K$4)^3),B!K$3+B!K$2)","v":189.83341386770974},{"$f":"(C207*B$45+D!D207*C$45+D!E207*D$45+D!F207*E$45+D!G207*F$45)/SUM(B$45:F$45)","v":189.38586997649665}]
[320,240,{"$f":"B!G$2+B!G$3*B208+B!G$4*B208^2","v":188.20361072262477},{"$f":"IF(B208<(B!H$3/(-2*B!H$4)),B!H$2+B!H$3*B208+B!H$4*B208^2,B!H$2+B!H$3*(B!H$3/(-2*B!H$4))+B!H$3*B!H$3/(4*B!H$4))","v":190.50252169031825},{"$f":"B!I$2+B!I$3*EXP(B!I$4*B208)","v":194.82747449519928},{"$f":"IF((B!J$2+B!J$3*B208)<B!J$4,B!J$2+B!J$3*B208,B!J$4)","v":188.75000559732251},{"$f":"IF(B208<B!K$4,B!K$2+B!K$3*(3*B208/(2*B!K$4)-0.5*(B208/B!K$4)^3),B!K$3+B!K$2)","v":189.83341386770974},{"$f":"(C208*B$45+D!D208*C$45+D!E208*D$45+D!F208*E$45+D!G208*F$45)/SUM(B$45:F$45)","v":189.38586997649665}]
[322,240,{"$f":"B!G$2+B!G$3*B209+B!G$4*B209^2","v":188.20361072262477},{"$f":"IF(B209<(B!H$3/(-2*B!H$4)),B!H$2+B!H$3*B209+B!H$4*B209^2,B!H$2+B!H$3*(B!H$3/(-2*B!H$4))+B!H$3*B!H$3/(4*B!H$4))","v":190.50252169031825},{"$f":"B!I$2+B!I$3*EXP(B!I$4*B209)","v":194.82747449519928},{"$f":"IF((B!J$2+B!J$3*B209)<B!J$4,B!J$2+B!J$3*B209,B!J$4)","v":188.75000559732251},{"$f":"IF(B209<B!K$4,B!K$2+B!K$3*(3*B209/(2*B!K$4)-0.5*(B209/B!K$4)^3),B!K$3+B!K$2)","v":189.83341386770974},{"$f":"(C209*B$45+D!D209*C$45+D!E209*D$45+D!F209*E$45+D!G209*F$45)/SUM(B$45:F$45)","v":189.38586997649665}]
[324,240,{"$f":"B!G$2+B!G$3*B210+B!G$4*B210^2","v":188.20361072262477},{"$f":"IF(B210<(B!H$3/(-2*B!H$4)),B!H$2+B!H$3*B210+B!H$4*B210^2,B!H$2+B!H$3*(B!H$3/(-2*B!H$4))+B!H$3*B!H$3/(4*B!H$4))","v":190.50252169031825},{"$f":"B!I$2+B!I$3*EXP(B!I$4*B210)","v":194.82747449519928},{"$f":"IF((B!J$2+B!J$3*B210)<B!J$4,B!J$2+B!J$3*B210,B!J$4)","v":188.75000559732251},{"$f":"IF(B210<B!K$4,B!K$2+B!K$3*(3*B210/(2*B!K$4)-0.5*(B210/B!K$4)^3),B!K$3+B!K$2)","v":189.83341386770974},{"$f":"(C210*B$45+D!D210*C$45+D!E210*D$45+D!F210*E$45+D!G210*F$45)/SUM(B$45:F$45)","v":189.38586997649665}]
[326,240,{"$f":"B!G$2+B!G$3*B211+B!G$4*B211^2","v":188.20361072262477},{"$f":"IF(B211<(B!H$3/(-2*B!H$4)),B!H$2+B!H$3*B211+B!H$4*B211^2,B!H$2+B!H$3*(B!H$3/(-2*B!H$4))+B!H$3*B!H$3/(4*B!H$4))","v":190.50252169031825},{"$f":"B!I$2+B!I$3*EXP(B!I$4*B211)","v":194.82747449519928},{"$f":"IF((B!J$2+B!J$3*B211)<B!J$4,B!J$2+B!J$3*B211,B!J$4)","v":188.75000559732251},{"$f":"IF(B211<B!K$4,B!K$2+B!K$3*(3*B211/(2*B!K$4)-0.5*(B211/B!K$4)^3),B!K$3+B!K$2)","v":189.83341386770974},{"$f":"(C211*B$45+D!D211*C$45+D!E211*D$45+D!F211*E$45+D!G211*F$45)/SUM(B$45:F$45)","v":189.38586997649665}]
[328,240,{"$f":"B!G$2+B!G$3*B212+B!G$4*B212^2","v":188.20361072262477},{"$f":"IF(B212<(B!H$3/(-2*B!H$4)),B!H$2+B!H$3*B212+B!H$4*B212^2,B!H$2+B!H$3*(B!H$3/(-2*B!H$4))+B!H$3*B!H$3/(4*B!H$4))","v":190.50252169031825},{"$f":"B!I$2+B!I$3*EXP(B!I$4*B212)","v":194.82747449519928},{"$f":"IF((B!J$2+B!J$3*B212)<B!J$4,B!J$2+B!J$3*B212,B!J$4)","v":188.75000559732251},{"$f":"IF(B212<B!K$4,B!K$2+B!K$3*(3*B212/(2*B!K$4)-0.5*(B212/B!K$4)^3),B!K$3+B!K$2)","v":189.83341386770974},{"$f":"(C212*B$45+D!D212*C$45+D!E212*D$45+D!F212*E$45+D!G212*F$45)/SUM(B$45:F$45)","v":189.38586997649665}]
[330,240,{"$f":"B!G$2+B!G$3*B213+B!G$4*B213^2","v":188.20361072262477},{"$f":"IF(B213<(B!H$3/(-2*B!H$4)),B!H$2+B!H$3*B213+B!H$4*B213^2,B!H$2+B!H$3*(B!H$3/(-2*B!H$4))+B!H$3*B!H$3/(4*B!H$4))","v":190.50252169031825},{"$f":"B!I$2+B!I$3*EXP(B!I$4*B213)","v":194.82747449519928},{"$f":"IF((B!J$2+B!J$3*B213)<B!J$4,B!J$2+B!J$3*B213,B!J$4)","v":188.75000559732251},{"$f":"IF(B213<B!K$4,B!K$2+B!K$3*(3*B213/(2*B!K$4)-0.5*(B213/B!K$4)^3),B!K$3+B!K$2)","v":189.83341386770974},{"$f":"(C213*B$45+D!D213*C$45+D!E213*D$45+D!F213*E$45+D!G213*F$45)/SUM(B$45:F$45)","v":189.38586997649665}]
[332,240,{"$f":"B!G$2+B!G$3*B214+B!G$4*B214^2","v":188.20361072262477},{"$f":"IF(B214<(B!H$3/(-2*B!H$4)),B!H$2+B!H$3*B214+B!H$4*B214^2,B!H$2+B!H$3*(B!H$3/(-2*B!H$4))+B!H$3*B!H$3/(4*B!H$4))","v":190.50252169031825},{"$f":"B!I$2+B!I$3*EXP(B!I$4*B214)","v":194.82747449519928},{"$f":"IF((B!J$2+B!J$3*B214)<B!J$4,B!J$2+B!J$3*B214,B!J$4)","v":188.75000559732251},{"$f":"IF(B214<B!K$4,B!K$2+B!K$3*(3*B214/(2*B!K$4)-0.5*(B214/B!K$4)^3),B!K$3+B!K$2)","v":189.83341386770974},{"$f":"(C214*B$45+D!D214*C$45+D!E214*D$45+D!F214*E$45+D!G214*F$45)/SUM(B$45:F$45)","v":189.38586997649665}]
[334,240,{"$f":"B!G$2+B!G$3*B215+B!G$4*B215^2","v":188.20361072262477},{"$f":"IF(B215<(B!H$3/(-2*B!H$4)),B!H$2+B!H$3*B215+B!H$4*B215^2,B!H$2+B!H$3*(B!H$3/(-2*B!H$4))+B!H$3*B!H$3/(4*B!H$4))","v":190.50252169031825},{"$f":"B!I$2+B!I$3*EXP(B!I$4*B215)","v":194.82747449519928},{"$f":"IF((B!J$2+B!J$3*B215)<B!J$4,B!J$2+B!J$3*B215,B!J$4)","v":188.75000559732251},{"$f":"IF(B215<B!K$4,B!K$2+B!K$3*(3*B215/(2*B!K$4)-0.5*(B215/B!K$4)^3),B!K$3+B!K$2)","v":189.83341386770974},{"$f":"(C215*B$45+D!D215*C$45+D!E215*D$45+D!F215*E$45+D!G215*F$45)/SUM(B$45:F$45)","v":189.38586997649665}]
[336,240,{"$f":"B!G$2+B!G$3*B216+B!G$4*B216^2","v":188.20361072262477},{"$f":"IF(B216<(B!H$3/(-2*B!H$4)),B!H$2+B!H$3*B216+B!H$4*B216^2,B!H$2+B!H$3*(B!H$3/(-2*B!H$4))+B!H$3*B!H$3/(4*B!H$4))","v":190.50252169031825},{"$f":"B!I$2+B!I$3*EXP(B!I$4*B216)","v":194.82747449519928},{"$f":"IF((B!J$2+B!J$3*B216)<B!J$4,B!J$2+B!J$3*B216,B!J$4)","v":188.75000559732251},{"$f":"IF(B216<B!K$4,B!K$2+B!K$3*(3*B216/(2*B!K$4)-0.5*(B216/B!K$4)^3),B!K$3+B!K$2)","v":189.83341386770974},{"$f":"(C216*B$45+D!D216*C$45+D!E216*D$45+D!F216*E$45+D!G216*F$45)/SUM(B$45:F$45)","v":189.38586997649665}]
[338,240,{"$f":"B!G$2+B!G$3*B217+B!G$4*B217^2","v":188.20361072262477},{"$f":"IF(B217<(B!H$3/(-2*B!H$4)),B!H$2+B!H$3*B217+B!H$4*B217^2,B!H$2+B!H$3*(B!H$3/(-2*B!H$4))+B!H$3*B!H$3/(4*B!H$4))","v":190.50252169031825},{"$f":"B!I$2+B!I$3*EXP(B!I$4*B217)","v":194.82747449519928},{"$f":"IF((B!J$2+B!J$3*B217)<B!J$4,B!J$2+B!J$3*B217,B!J$4)","v":188.75000559732251},{"$f":"IF(B217<B!K$4,B!K$2+B!K$3*(3*B217/(2*B!K$4)-0.5*(B217/B!K$4)^3),B!K$3+B!K$2)","v":189.83341386770974},{"$f":"(C217*B$45+D!D217*C$45+D!E217*D$45+D!F217*E$45+D!G217*F$45)/SUM(B$45:F$45)","v":189.38586997649665}]
[340,240,{"$f":"B!G$2+B!G$3*B218+B!G$4*B218^2","v":188.20361072262477},{"$f":"IF(B218<(B!H$3/(-2*B!H$4)),B!H$2+B!H$3*B218+B!H$4*B218^2,B!H$2+B!H$3*(B!H$3/(-2*B!H$4))+B!H$3*B!H$3/(4*B!H$4))","v":190.50252169031825},{"$f":"B!I$2+B!I$3*EXP(B!I$4*B218)","v":194.82747449519928},{"$f":"IF((B!J$2+B!J$3*B218)<B!J$4,B!J$2+B!J$3*B218,B!J$4)","v":188.75000559732251},{"$f":"IF(B218<B!K$4,B!K$2+B!K$3*(3*B218/(2*B!K$4)-0.5*(B218/B!K$4)^3),B!K$3+B!K$2)","v":189.83341386770974},{"$f":"(C218*B$45+D!D218*C$45+D!E218*D$45+D!F218*E$45+D!G218*F$45)/SUM(B$45:F$45)","v":189.38586997649665}]
[342,240,{"$f":"B!G$2+B!G$3*B219+B!G$4*B219^2","v":188.20361072262477},{"$f":"IF(B219<(B!H$3/(-2*B!H$4)),B!H$2+B!H$3*B219+B!H$4*B219^2,B!H$2+B!H$3*(B!H$3/(-2*B!H$4))+B!H$3*B!H$3/(4*B!H$4))","v":190.50252169031825},{"$f":"B!I$2+B!I$3*EXP(B!I$4*B219)","v":194.82747449519928},{"$f":"IF((B!J$2+B!J$3*B219)<B!J$4,B!J$2+B!J$3*B219,B!J$4)","v":188.75000559732251},{"$f":"IF(B219<B!K$4,B!K$2+B!K$3*(3*B219/(2*B!K$4)-0.5*(B219/B!K$4)^3),B!K$3+B!K$2)","v":189.83341386770974},{"$f":"(C219*B$45+D!D219*C$45+D!E219*D$45+D!F219*E$45+D!G219*F$45)/SUM(B$45:F$45)","v":189.38586997649665}]
[344,240,{"$f":"B!G$2+B!G$3*B220+B!G$4*B220^2","v":188.20361072262477},{"$f":"IF(B220<(B!H$3/(-2*B!H$4)),B!H$2+B!H$3*B220+B!H$4*B220^2,B!H$2+B!H$3*(B!H$3/(-2*B!H$4))+B!H$3*B!H$3/(4*B!H$4))","v":190.50252169031825},{"$f":"B!I$2+B!I$3*EXP(B!I$4*B220)","v":194.82747449519928},{"$f":"IF((B!J$2+B!J$3*B220)<B!J$4,B!J$2+B!J$3*B220,B!J$4)","v":188.75000559732251},{"$f":"IF(B220<B!K$4,B!K$2+B!K$3*(3*B220/(2*B!K$4)-0.5*(B220/B!K$4)^3),B!K$3+B!K$2)","v":189.83341386770974},{"$f":"(C220*B$45+D!D220*C$45+D!E220*D$45+D!F220*E$45+D!G220*F$45)/SUM(B$45:F$45)","v":189.38586997649665}]
[346,240,{"$f":"B!G$2+B!G$3*B221+B!G$4*B221^2","v":188.20361072262477},{"$f":"IF(B221<(B!H$3/(-2*B!H$4)),B!H$2+B!H$3*B221+B!H$4*B221^2,B!H$2+B!H$3*(B!H$3/(-2*B!H$4))+B!H$3*B!H$3/(4*B!H$4))","v":190.50252169031825},{"$f":"B!I$2+B!I$3*EXP(B!I$4*B221)","v":194.82747449519928},{"$f":"IF((B!J$2+B!J$3*B221)<B!J$4,B!J$2+B!J$3*B221,B!J$4)","v":188.75000559732251},{"$f":"IF(B221<B!K$4,B!K$2+B!K$3*(3*B221/(2*B!K$4)-0.5*(B221/B!K$4)^3),B!K$3+B!K$2)","v":189.83341386770974},{"$f":"(C221*B$45+D!D221*C$45+D!E221*D$45+D!F221*E$45+D!G221*F$45)/SUM(B$45:F$45)","v":189.38586997649665}]
[348,240,{"$f":"B!G$2+B!G$3*B222+B!G$4*B222^2","v":188.20361072262477},{"$f":"IF(B222<(B!H$3/(-2*B!H$4)),B!H$2+B!H$3*B222+B!H$4*B222^2,B!H$2+B!H$3*(B!H$3/(-2*B!H$4))+B!H$3*B!H$3/(4*B!H$4))","v":190.50252169031825},{"$f":"B!I$2+B!I$3*EXP(B!I$4*B222)","v":194.82747449519928},{"$f":"IF((B!J$2+B!J$3*B222)<B!J$4,B!J$2+B!J$3*B222,B!J$4)","v":188.75000559732251},{"$f":"IF(B222<B!K$4,B!K$2+B!K$3*(3*B222/(2*B!K$4)-0.5*(B222/B!K$4)^3),B!K$3+B!K$2)","v":189.83341386770974},{"$f":"(C222*B$45+D!D222*C$45+D!E222*D$45+D!F222*E$45+D!G222*F$45)/SUM(B$45:F$45)","v":189.38586997649665}]
[350,240,{"$f":"B!G$2+B!G$3*B223+B!G$4*B223^2","v":188.20361072262477},{"$f":"IF(B223<(B!H$3/(-2*B!H$4)),B!H$2+B!H$3*B223+B!H$4*B223^2,B!H$2+B!H$3*(B!H$3/(-2*B!H$4))+B!H$3*B!H$3/(4*B!H$4))","v":190.50252169031825},{"$f":"B!I$2+B!I$3*EXP(B!I$4*B223)","v":194.82747449519928},{"$f":"IF((B!J$2+B!J$3*B223)<B!J$4,B!J$2+B!J$3*B223,B!J$4)","v":188.75000559732251},{"$f":"IF(B223<B!K$4,B!K$2+B!K$3*(3*B223/(2*B!K$4)-0.5*(B223/B!K$4)^3),B!K$3+B!K$2)","v":189.83341386770974},{"$f":"(C223*B$45+D!D223*C$45+D!E223*D$45+D!F223*E$45+D!G223*F$45)/SUM(B$45:F$45)","v":189.38586997649665}]
[352,240,{"$f":"B!G$2+B!G$3*B224+B!G$4*B224^2","v":188.20361072262477},{"$f":"IF(B224<(B!H$3/(-2*B!H$4)),B!H$2+B!H$3*B224+B!H$4*B224^2,B!H$2+B!H$3*(B!H$3/(-2*B!H$4))+B!H$3*B!H$3/(4*B!H$4))","v":190.50252169031825},{"$f":"B!I$2+B!I$3*EXP(B!I$4*B224)","v":194.82747449519928},{"$f":"IF((B!J$2+B!J$3*B224)<B!J$4,B!J$2+B!J$3*B224,B!J$4)","v":188.75000559732251},{"$f":"IF(B224<B!K$4,B!K$2+B!K$3*(3*B224/(2*B!K$4)-0.5*(B224/B!K$4)^3),B!K$3+B!K$2)","v":189.83341386770974},{"$f":"(C224*B$45+D!D224*C$45+D!E224*D$45+D!F224*E$45+D!G224*F$45)/SUM(B$45:F$45)","v":189.38586997649665}]
[354,240,{"$f":"B!G$2+B!G$3*B225+B!G$4*B225^2","v":188.20361072262477},{"$f":"IF(B225<(B!H$3/(-2*B!H$4)),B!H$2+B!H$3*B225+B!H$4*B225^2,B!H$2+B!H$3*(B!H$3/(-2*B!H$4))+B!H$3*B!H$3/(4*B!H$4))","v":190.50252169031825},{"$f":"B!I$2+B!I$3*EXP(B!I$4*B225)","v":194.82747449519928},{"$f":"IF((B!J$2+B!J$3*B225)<B!J$4,B!J$2+B!J$3*B225,B!J$4)","v":188.75000559732251},{"$f":"IF(B225<B!K$4,B!K$2+B!K$3*(3*B225/(2*B!K$4)-0.5*(B225/B!K$4)^3),B!K$3+B!K$2)","v":189.83341386770974},{"$f":"(C225*B$45+D!D225*C$45+D!E225*D$45+D!F225*E$45+D!G225*F$45)/SUM(B$45:F$45)","v":189.38586997649665}]
[356,240,{"$f":"B!G$2+B!G$3*B226+B!G$4*B226^2","v":188.20361072262477},{"$f":"IF(B226<(B!H$3/(-2*B!H$4)),B!H$2+B!H$3*B226+B!H$4*B226^2,B!H$2+B!H$3*(B!H$3/(-2*B!H$4))+B!H$3*B!H$3/(4*B!H$4))","v":190.50252169031825},{"$f":"B!I$2+B!I$3*EXP(B!I$4*B226)","v":194.82747449519928},{"$f":"IF((B!J$2+B!J$3*B226)<B!J$4,B!J$2+B!J$3*B226,B!J$4)","v":188.75000559732251},{"$f":"IF(B226<B!K$4,B!K$2+B!K$3*(3*B226/(2*B!K$4)-0.5*(B226/B!K$4)^3),B!K$3+B!K$2)","v":189.83341386770974},{"$f":"(C226*B$45+D!D226*C$45+D!E226*D$45+D!F226*E$45+D!G226*F$45)/SUM(B$45:F$45)","v":189.38586997649665}]
[358,240,{"$f":"B!G$2+B!G$3*B227+B!G$4*B227^2","v":188.20361072262477},{"$f":"IF(B227<(B!H$3/(-2*B!H$4)),B!H$2+B!H$3*B227+B!H$4*B227^2,B!H$2+B!H$3*(B!H$3/(-2*B!H$4))+B!H$3*B!H$3/(4*B!H$4))","v":190.50252169031825},{"$f":"B!I$2+B!I$3*EXP(B!I$4*B227)","v":194.82747449519928},{"$f":"IF((B!J$2+B!J$3*B227)<B!J$4,B!J$2+B!J$3*B227,B!J$4)","v":188.75000559732251},{"$f":"IF(B227<B!K$4,B!K$2+B!K$3*(3*B227/(2*B!K$4)-0.5*(B227/B!K$4)^3),B!K$3+B!K$2)","v":189.83341386770974},{"$f":"(C227*B$45+D!D227*C$45+D!E227*D$45+D!F227*E$45+D!G227*F$45)/SUM(B$45:F$45)","v":189.38586997649665}]
[360,240,{"$f":"B!G$2+B!G$3*B228+B!G$4*B228^2","v":188.20361072262477},{"$f":"IF(B228<(B!H$3/(-2*B!H$4)),B!H$2+B!H$3*B228+B!H$4*B228^2,B!H$2+B!H$3*(B!H$3/(-2*B!H$4))+B!H$3*B!H$3/(4*B!H$4))","v":190.50252169031825},{"$f":"B!I$2+B!I$3*EXP(B!I$4*B228)","v":194.82747449519928},{"$f":"IF((B!J$2+B!J$3*B228)<B!J$4,B!J$2+B!J$3*B228,B!J$4)","v":188.75000559732251},{"$f":"IF(B228<B!K$4,B!K$2+B!K$3*(3*B228/(2*B!K$4)-0.5*(B228/B!K$4)^3),B!K$3+B!K$2)","v":189.83341386770974},{"$f":"(C228*B$45+D!D228*C$45+D!E228*D$45+D!F228*E$45+D!G228*F$45)/SUM(B$45:F$45)","v":189.38586997649665}]
[362,240,{"$f":"B!G$2+B!G$3*B229+B!G$4*B229^2","v":188.20361072262477},{"$f":"IF(B229<(B!H$3/(-2*B!H$4)),B!H$2+B!H$3*B229+B!H$4*B229^2,B!H$2+B!H$3*(B!H$3/(-2*B!H$4))+B!H$3*B!H$3/(4*B!H$4))","v":190.50252169031825},{"$f":"B!I$2+B!I$3*EXP(B!I$4*B229)","v":194.82747449519928},{"$f":"IF((B!J$2+B!J$3*B229)<B!J$4,B!J$2+B!J$3*B229,B!J$4)","v":188.75000559732251},{"$f":"IF(B229<B!K$4,B!K$2+B!K$3*(3*B229/(2*B!K$4)-0.5*(B229/B!K$4)^3),B!K$3+B!K$2)","v":189.83341386770974},{"$f":"(C229*B$45+D!D229*C$45+D!E229*D$45+D!F229*E$45+D!G229*F$45)/SUM(B$45:F$45)","v":189.38586997649665}]
[364,240,{"$f":"B!G$2+B!G$3*B230+B!G$4*B230^2","v":188.20361072262477},{"$f":"IF(B230<(B!H$3/(-2*B!H$4)),B!H$2+B!H$3*B230+B!H$4*B230^2,B!H$2+B!H$3*(B!H$3/(-2*B!H$4))+B!H$3*B!H$3/(4*B!H$4))","v":190.50252169031825},{"$f":"B!I$2+B!I$3*EXP(B!I$4*B230)","v":194.82747449519928},{"$f":"IF((B!J$2+B!J$3*B230)<B!J$4,B!J$2+B!J$3*B230,B!J$4)","v":188.75000559732251},{"$f":"IF(B230<B!K$4,B!K$2+B!K$3*(3*B230/(2*B!K$4)-0.5*(B230/B!K$4)^3),B!K$3+B!K$2)","v":189.83341386770974},{"$f":"(C230*B$45+D!D230*C$45+D!E230*D$45+D!F230*E$45+D!G230*F$45)/SUM(B$45:F$45)","v":189.38586997649665}]
[366,240,{"$f":"B!G$2+B!G$3*B231+B!G$4*B231^2","v":188.20361072262477},{"$f":"IF(B231<(B!H$3/(-2*B!H$4)),B!H$2+B!H$3*B231+B!H$4*B231^2,B!H$2+B!H$3*(B!H$3/(-2*B!H$4))+B!H$3*B!H$3/(4*B!H$4))","v":190.50252169031825},{"$f":"B!I$2+B!I$3*EXP(B!I$4*B231)","v":194.82747449519928},{"$f":"IF((B!J$2+B!J$3*B231)<B!J$4,B!J$2+B!J$3*B231,B!J$4)","v":188.75000559732251},{"$f":"IF(B231<B!K$4,B!K$2+B!K$3*(3*B231/(2*B!K$4)-0.5*(B231/B!K$4)^3),B!K$3+B!K$2)","v":189.83341386770974},{"$f":"(C231*B$45+D!D231*C$45+D!E231*D$45+D!F231*E$45+D!G231*F$45)/SUM(B$45:F$45)","v":189.38586997649665}]
[368,240,{"$f":"B!G$2+B!G$3*B232+B!G$4*B232^2","v":188.20361072262477},{"$f":"IF(B232<(B!H$3/(-2*B!H$4)),B!H$2+B!H$3*B232+B!H$4*B232^2,B!H$2+B!H$3*(B!H$3/(-2*B!H$4))+B!H$3*B!H$3/(4*B!H$4))","v":190.50252169031825},{"$f":"B!I$2+B!I$3*EXP(B!I$4*B232)","v":194.82747449519928},{"$f":"IF((B!J$2+B!J$3*B232)<B!J$4,B!J$2+B!J$3*B232,B!J$4)","v":188.75000559732251},{"$f":"IF(B232<B!K$4,B!K$2+B!K$3*(3*B232/(2*B!K$4)-0.5*(B232/B!K$4)^3),B!K$3+B!K$2)","v":189.83341386770974},{"$f":"(C232*B$45+D!D232*C$45+D!E232*D$45+D!F232*E$45+D!G232*F$45)/SUM(B$45:F$45)","v":189.38586997649665}]
[370,240,{"$f":"B!G$2+B!G$3*B233+B!G$4*B233^2","v":188.20361072262477},{"$f":"IF(B233<(B!H$3/(-2*B!H$4)),B!H$2+B!H$3*B233+B!H$4*B233^2,B!H$2+B!H$3*(B!H$3/(-2*B!H$4))+B!H$3*B!H$3/(4*B!H$4))","v":190.50252169031825},{"$f":"B!I$2+B!I$3*EXP(B!I$4*B233)","v":194.82747449519928},{"$f":"IF((B!J$2+B!J$3*B233)<B!J$4,B!J$2+B!J$3*B233,B!J$4)","v":188.75000559732251},{"$f":"IF(B233<B!K$4,B!K$2+B!K$3*(3*B233/(2*B!K$4)-0.5*(B233/B!K$4)^3),B!K$3+B!K$2)","v":189.83341386770974},{"$f":"(C233*B$45+D!D233*C$45+D!E233*D$45+D!F233*E$45+D!G233*F$45)/SUM(B$45:F$45)","v":189.38586997649665}]
[372,240,{"$f":"B!G$2+B!G$3*B234+B!G$4*B234^2","v":188.20361072262477},{"$f":"IF(B234<(B!H$3/(-2*B!H$4)),B!H$2+B!H$3*B234+B!H$4*B234^2,B!H$2+B!H$3*(B!H$3/(-2*B!H$4))+B!H$3*B!H$3/(4*B!H$4))","v":190.50252169031825},{"$f":"B!I$2+B!I$3*EXP(B!I$4*B234)","v":194.82747449519928},{"$f":"IF((B!J$2+B!J$3*B234)<B!J$4,B!J$2+B!J$3*B234,B!J$4)","v":188.75000559732251},{"$f":"IF(B234<B!K$4,B!K$2+B!K$3*(3*B234/(2*B!K$4)-0.5*(B234/B!K$4)^3),B!K$3+B!K$2)","v":189.83341386770974},{"$f":"(C234*B$45+D!D234*C$45+D!E234*D$45+D!F234*E$45+D!G234*F$45)/SUM(B$45:F$45)","v":189.38586997649665}]
[374,240,{"$f":"B!G$2+B!G$3*B235+B!G$4*B235^2","v":188.20361072262477},{"$f":"IF(B235<(B!H$3/(-2*B!H$4)),B!H$2+B!H$3*B235+B!H$4*B235^2,B!H$2+B!H$3*(B!H$3/(-2*B!H$4))+B!H$3*B!H$3/(4*B!H$4))","v":190.50252169031825},{"$f":"B!I$2+B!I$3*EXP(B!I$4*B235)","v":194.82747449519928},{"$f":"IF((B!J$2+B!J$3*B235)<B!J$4,B!J$2+B!J$3*B235,B!J$4)","v":188.75000559732251},{"$f":"IF(B235<B!K$4,B!K$2+B!K$3*(3*B235/(2*B!K$4)-0.5*(B235/B!K$4)^3),B!K$3+B!K$2)","v":189.83341386770974},{"$f":"(C235*B$45+D!D235*C$45+D!E235*D$45+D!F235*E$45+D!G235*F$45)/SUM(B$45:F$45)","v":189.38586997649665}]
[376,240,{"$f":"B!G$2+B!G$3*B236+B!G$4*B236^2","v":188.20361072262477},{"$f":"IF(B236<(B!H$3/(-2*B!H$4)),B!H$2+B!H$3*B236+B!H$4*B236^2,B!H$2+B!H$3*(B!H$3/(-2*B!H$4))+B!H$3*B!H$3/(4*B!H$4))","v":190.50252169031825},{"$f":"B!I$2+B!I$3*EXP(B!I$4*B236)","v":194.82747449519928},{"$f":"IF((B!J$2+B!J$3*B236)<B!J$4,B!J$2+B!J$3*B236,B!J$4)","v":188.75000559732251},{"$f":"IF(B236<B!K$4,B!K$2+B!K$3*(3*B236/(2*B!K$4)-0.5*(B236/B!K$4)^3),B!K$3+B!K$2)","v":189.83341386770974},{"$f":"(C236*B$45+D!D236*C$45+D!E236*D$45+D!F236*E$45+D!G236*F$45)/SUM(B$45:F$45)","v":189.38586997649665}]
[378,240,{"$f":"B!G$2+B!G$3*B237+B!G$4*B237^2","v":188.20361072262477},{"$f":"IF(B237<(B!H$3/(-2*B!H$4)),B!H$2+B!H$3*B237+B!H$4*B237^2,B!H$2+B!H$3*(B!H$3/(-2*B!H$4))+B!H$3*B!H$3/(4*B!H$4))","v":190.50252169031825},{"$f":"B!I$2+B!I$3*EXP(B!I$4*B237)","v":194.82747449519928},{"$f":"IF((B!J$2+B!J$3*B237)<B!J$4,B!J$2+B!J$3*B237,B!J$4)","v":188.75000559732251},{"$f":"IF(B237<B!K$4,B!K$2+B!K$3*(3*B237/(2*B!K$4)-0.5*(B237/B!K$4)^3),B!K$3+B!K$2)","v":189.83341386770974},{"$f":"(C237*B$45+D!D237*C$45+D!E237*D$45+D!F237*E$45+D!G237*F$45)/SUM(B$45:F$45)","v":189.38586997649665}]
[380,240,{"$f":"B!G$2+B!G$3*B238+B!G$4*B238^2","v":188.20361072262477},{"$f":"IF(B238<(B!H$3/(-2*B!H$4)),B!H$2+B!H$3*B238+B!H$4*B238^2,B!H$2+B!H$3*(B!H$3/(-2*B!H$4))+B!H$3*B!H$3/(4*B!H$4))","v":190.50252169031825},{"$f":"B!I$2+B!I$3*EXP(B!I$4*B238)","v":194.82747449519928},{"$f":"IF((B!J$2+B!J$3*B238)<B!J$4,B!J$2+B!J$3*B238,B!J$4)","v":188.75000559732251},{"$f":"IF(B238<B!K$4,B!K$2+B!K$3*(3*B238/(2*B!K$4)-0.5*(B238/B!K$4)^3),B!K$3+B!K$2)","v":189.83341386770974},{"$f":"(C238*B$45+D!D238*C$45+D!E238*D$45+D!F238*E$45+D!G238*F$45)/SUM(B$45:F$45)","v":189.38586997649665}]
[382,240,{"$f":"B!G$2+B!G$3*B239+B!G$4*B239^2","v":188.20361072262477},{"$f":"IF(B239<(B!H$3/(-2*B!H$4)),B!H$2+B!H$3*B239+B!H$4*B239^2,B!H$2+B!H$3*(B!H$3/(-2*B!H$4))+B!H$3*B!H$3/(4*B!H$4))","v":190.50252169031825},{"$f":"B!I$2+B!I$3*EXP(B!I$4*B239)","v":194.82747449519928},{"$f":"IF((B!J$2+B!J$3*B239)<B!J$4,B!J$2+B!J$3*B239,B!J$4)","v":188.75000559732251},{"$f":"IF(B239<B!K$4,B!K$2+B!K$3*(3*B239/(2*B!K$4)-0.5*(B239/B!K$4)^3),B!K$3+B!K$2)","v":189.83341386770974},{"$f":"(C239*B$45+D!D239*C$45+D!E239*D$45+D!F239*E$45+D!G239*F$45)/SUM(B$45:F$45)","v":189.38586997649665}]
[384,240,{"$f":"B!G$2+B!G$3*B240+B!G$4*B240^2","v":188.20361072262477},{"$f":"IF(B240<(B!H$3/(-2*B!H$4)),B!H$2+B!H$3*B240+B!H$4*B240^2,B!H$2+B!H$3*(B!H$3/(-2*B!H$4))+B!H$3*B!H$3/(4*B!H$4))","v":190.50252169031825},{"$f":"B!I$2+B!I$3*EXP(B!I$4*B240)","v":194.82747449519928},{"$f":"IF((B!J$2+B!J$3*B240)<B!J$4,B!J$2+B!J$3*B240,B!J$4)","v":188.75000559732251},{"$f":"IF(B240<B!K$4,B!K$2+B!K$3*(3*B240/(2*B!K$4)-0.5*(B240/B!K$4)^3),B!K$3+B!K$2)","v":189.83341386770974},{"$f":"(C240*B$45+D!D240*C$45+D!E240*D$45+D!F240*E$45+D!G240*F$45)/SUM(B$45:F$45)","v":189.38586997649665}]
[386,{"$f":"IF(A241<MAX($M$48),A241,MAX($M$48))","v":240},{"$f":"B!G$2+B!G$3*B241+B!G$4*B241^2","v":188.20361072262477},{"$f":"IF(B241<(B!H$3/(-2*B!H$4)),B!H$2+B!H$3*B241+B!H$4*B241^2,B!H$2+B!H$3*(B!H$3/(-2*B!H$4))+B!H$3*B!H$3/(4*B!H$4))","v":190.50252169031825},{"$f":"B!I$2+B!I$3*EXP(B!I$4*B241)","v":194.82747449519928},{"$f":"IF((B!J$2+B!J$3*B241)<B!J$4,B!J$2+B!J$3*B241,B!J$4)","v":188.75000559732251},{"$f":"IF(B241<B!K$4,B!K$2+B!K$3*(3*B241/(2*B!K$4)-0.5*(B241/B!K$4)^3),B!K$3+B!K$2)","v":189.83341386770974},{"$f":"(C241*B$45+D!D241*C$45+D!E241*D$45+D!F241*E$45+D!G241*F$45)/SUM(B$45:F$45)","v":189.38586997649665}]
[388,240,{"$f":"B!G$2+B!G$3*B242+B!G$4*B242^2","v":188.20361072262477},{"$f":"IF(B242<(B!H$3/(-2*B!H$4)),B!H$2+B!H$3*B242+B!H$4*B242^2,B!H$2+B!H$3*(B!H$3/(-2*B!H$4))+B!H$3*B!H$3/(4*B!H$4))","v":190.50252169031825},{"$f":"B!I$2+B!I$3*EXP(B!I$4*B242)","v":194.82747449519928},{"$f":"IF((B!J$2+B!J$3*B242)<B!J$4,B!J$2+B!J$3*B242,B!J$4)","v":188.75000559732251},{"$f":"IF(B242<B!K$4,B!K$2+B!K$3*(3*B242/(2*B!K$4)-0.5*(B242/B!K$4)^3),B!K$3+B!K$2)","v":189.83341386770974},{"$f":"(C242*B$45+D!D242*C$45+D!E242*D$45+D!F242*E$45+D!G242*F$45)/SUM(B$45:F$45)","v":189.38586997649665}]
[390,240,{"$f":"B!G$2+B!G$3*B243+B!G$4*B243^2","v":188.20361072262477},{"$f":"IF(B243<(B!H$3/(-2*B!H$4)),B!H$2+B!H$3*B243+B!H$4*B243^2,B!H$2+B!H$3*(B!H$3/(-2*B!H$4))+B!H$3*B!H$3/(4*B!H$4))","v":190.50252169031825},{"$f":"B!I$2+B!I$3*EXP(B!I$4*B243)","v":194.82747449519928},{"$f":"IF((B!J$2+B!J$3*B243)<B!J$4,B!J$2+B!J$3*B243,B!J$4)","v":188.75000559732251},{"$f":"IF(B243<B!K$4,B!K$2+B!K$3*(3*B243/(2*B!K$4)-0.5*(B243/B!K$4)^3),B!K$3+B!K$2)","v":189.83341386770974},{"$f":"(C243*B$45+D!D243*C$45+D!E243*D$45+D!F243*E$45+D!G243*F$45)/SUM(B$45:F$45)","v":189.38586997649665}]
[392,240,{"$f":"B!G$2+B!G$3*B244+B!G$4*B244^2","v":188.20361072262477},{"$f":"IF(B244<(B!H$3/(-2*B!H$4)),B!H$2+B!H$3*B244+B!H$4*B244^2,B!H$2+B!H$3*(B!H$3/(-2*B!H$4))+B!H$3*B!H$3/(4*B!H$4))","v":190.50252169031825},{"$f":"B!I$2+B!I$3*EXP(B!I$4*B244)","v":194.82747449519928},{"$f":"IF((B!J$2+B!J$3*B244)<B!J$4,B!J$2+B!J$3*B244,B!J$4)","v":188.75000559732251},{"$f":"IF(B244<B!K$4,B!K$2+B!K$3*(3*B244/(2*B!K$4)-0.5*(B244/B!K$4)^3),B!K$3+B!K$2)","v":189.83341386770974},{"$f":"(C244*B$45+D!D244*C$45+D!E244*D$45+D!F244*E$45+D!G244*F$45)/SUM(B$45:F$45)","v":189.38586997649665}]
[394,240,{"$f":"B!G$2+B!G$3*B245+B!G$4*B245^2","v":188.20361072262477},{"$f":"IF(B245<(B!H$3/(-2*B!H$4)),B!H$2+B!H$3*B245+B!H$4*B245^2,B!H$2+B!H$3*(B!H$3/(-2*B!H$4))+B!H$3*B!H$3/(4*B!H$4))","v":190.50252169031825},{"$f":"B!I$2+B!I$3*EXP(B!I$4*B245)","v":194.82747449519928},{"$f":"IF((B!J$2+B!J$3*B245)<B!J$4,B!J$2+B!J$3*B245,B!J$4)","v":188.75000559732251},{"$f":"IF(B245<B!K$4,B!K$2+B!K$3*(3*B245/(2*B!K$4)-0.5*(B245/B!K$4)^3),B!K$3+B!K$2)","v":189.83341386770974},{"$f":"(C245*B$45+D!D245*C$45+D!E245*D$45+D!F245*E$45+D!G245*F$45)/SUM(B$45:F$45)","v":189.38586997649665}]
[396,240,{"$f":"B!G$2+B!G$3*B246+B!G$4*B246^2","v":188.20361072262477},{"$f":"IF(B246<(B!H$3/(-2*B!H$4)),B!H$2+B!H$3*B246+B!H$4*B246^2,B!H$2+B!H$3*(B!H$3/(-2*B!H$4))+B!H$3*B!H$3/(4*B!H$4))","v":190.50252169031825},{"$f":"B!I$2+B!I$3*EXP(B!I$4*B246)","v":194.82747449519928},{"$f":"IF((B!J$2+B!J$3*B246)<B!J$4,B!J$2+B!J$3*B246,B!J$4)","v":188.75000559732251},{"$f":"IF(B246<B!K$4,B!K$2+B!K$3*(3*B246/(2*B!K$4)-0.5*(B246/B!K$4)^3),B!K$3+B!K$2)","v":189.83341386770974},{"$f":"(C246*B$45+D!D246*C$45+D!E246*D$45+D!F246*E$45+D!G246*F$45)/SUM(B$45:F$45)","v":189.38586997649665}]
[398,240,{"$f":"B!G$2+B!G$3*B247+B!G$4*B247^2","v":188.20361072262477},{"$f":"IF(B247<(B!H$3/(-2*B!H$4)),B!H$2+B!H$3*B247+B!H$4*B247^2,B!H$2+B!H$3*(B!H$3/(-2*B!H$4))+B!H$3*B!H$3/(4*B!H$4))","v":190.50252169031825},{"$f":"B!I$2+B!I$3*EXP(B!I$4*B247)","v":194.82747449519928},{"$f":"IF((B!J$2+B!J$3*B247)<B!J$4,B!J$2+B!J$3*B247,B!J$4)","v":188.75000559732251},{"$f":"IF(B247<B!K$4,B!K$2+B!K$3*(3*B247/(2*B!K$4)-0.5*(B247/B!K$4)^3),B!K$3+B!K$2)","v":189.83341386770974},{"$f":"(C247*B$45+D!D247*C$45+D!E247*D$45+D!F247*E$45+D!G247*F$45)/SUM(B$45:F$45)","v":189.38586997649665}]
[400,240,{"$f":"B!G$2+B!G$3*B248+B!G$4*B248^2","v":188.20361072262477},{"$f":"IF(B248<(B!H$3/(-2*B!H$4)),B!H$2+B!H$3*B248+B!H$4*B248^2,B!H$2+B!H$3*(B!H$3/(-2*B!H$4))+B!H$3*B!H$3/(4*B!H$4))","v":190.50252169031825},{"$f":"B!I$2+B!I$3*EXP(B!I$4*B248)","v":194.82747449519928},{"$f":"IF((B!J$2+B!J$3*B248)<B!J$4,B!J$2+B!J$3*B248,B!J$4)","v":188.75000559732251},{"$f":"IF(B248<B!K$4,B!K$2+B!K$3*(3*B248/(2*B!K$4)-0.5*(B248/B!K$4)^3),B!K$3+B!K$2)","v":189.83341386770974},{"$f":"(C248*B$45+D!D248*C$45+D!E248*D$45+D!F248*E$45+D!G248*F$45)/SUM(B$45:F$45)","v":189.38586997649665}]
[402,240,{"$f":"B!G$2+B!G$3*B249+B!G$4*B249^2","v":188.20361072262477},{"$f":"IF(B249<(B!H$3/(-2*B!H$4)),B!H$2+B!H$3*B249+B!H$4*B249^2,B!H$2+B!H$3*(B!H$3/(-2*B!H$4))+B!H$3*B!H$3/(4*B!H$4))","v":190.50252169031825},{"$f":"B!I$2+B!I$3*EXP(B!I$4*B249)","v":194.82747449519928},{"$f":"IF((B!J$2+B!J$3*B249)<B!J$4,B!J$2+B!J$3*B249,B!J$4)","v":188.75000559732251},{"$f":"IF(B249<B!K$4,B!K$2+B!K$3*(3*B249/(2*B!K$4)-0.5*(B249/B!K$4)^3),B!K$3+B!K$2)","v":189.83341386770974},{"$f":"(C249*B$45+D!D249*C$45+D!E249*D$45+D!F249*E$45+D!G249*F$45)/SUM(B$45:F$45)","v":189.38586997649665}]
[404,240,{"$f":"B!G$2+B!G$3*B250+B!G$4*B250^2","v":188.20361072262477},{"$f":"IF(B250<(B!H$3/(-2*B!H$4)),B!H$2+B!H$3*B250+B!H$4*B250^2,B!H$2+B!H$3*(B!H$3/(-2*B!H$4))+B!H$3*B!H$3/(4*B!H$4))","v":190.50252169031825},{"$f":"B!I$2+B!I$3*EXP(B!I$4*B250)","v":194.82747449519928},{"$f":"IF((B!J$2+B!J$3*B250)<B!J$4,B!J$2+B!J$3*B250,B!J$4)","v":188.75000559732251},{"$f":"IF(B250<B!K$4,B!K$2+B!K$3*(3*B250/(2*B!K$4)-0.5*(B250/B!K$4)^3),B!K$3+B!K$2)","v":189.83341386770974},{"$f":"(C250*B$45+D!D250*C$45+D!E250*D$45+D!F250*E$45+D!G250*F$45)/SUM(B$45:F$45)","v":189.38586997649665}]
[406,240,{"$f":"B!G$2+B!G$3*B251+B!G$4*B251^2","v":188.20361072262477},{"$f":"IF(B251<(B!H$3/(-2*B!H$4)),B!H$2+B!H$3*B251+B!H$4*B251^2,B!H$2+B!H$3*(B!H$3/(-2*B!H$4))+B!H$3*B!H$3/(4*B!H$4))","v":190.50252169031825},{"$f":"B!I$2+B!I$3*EXP(B!I$4*B251)","v":194.82747449519928},{"$f":"IF((B!J$2+B!J$3*B251)<B!J$4,B!J$2+B!J$3*B251,B!J$4)","v":188.75000559732251},{"$f":"IF(B251<B!K$4,B!K$2+B!K$3*(3*B251/(2*B!K$4)-0.5*(B251/B!K$4)^3),B!K$3+B!K$2)","v":189.83341386770974},{"$f":"(C251*B$45+D!D251*C$45+D!E251*D$45+D!F251*E$45+D!G251*F$45)/SUM(B$45:F$45)","v":189.38586997649665}]
[408,240,{"$f":"B!G$2+B!G$3*B252+B!G$4*B252^2","v":188.20361072262477},{"$f":"IF(B252<(B!H$3/(-2*B!H$4)),B!H$2+B!H$3*B252+B!H$4*B252^2,B!H$2+B!H$3*(B!H$3/(-2*B!H$4))+B!H$3*B!H$3/(4*B!H$4))","v":190.50252169031825},{"$f":"B!I$2+B!I$3*EXP(B!I$4*B252)","v":194.82747449519928},{"$f":"IF((B!J$2+B!J$3*B252)<B!J$4,B!J$2+B!J$3*B252,B!J$4)","v":188.75000559732251},{"$f":"IF(B252<B!K$4,B!K$2+B!K$3*(3*B252/(2*B!K$4)-0.5*(B252/B!K$4)^3),B!K$3+B!K$2)","v":189.83341386770974},{"$f":"(C252*B$45+D!D252*C$45+D!E252*D$45+D!F252*E$45+D!G252*F$45)/SUM(B$45:F$45)","v":189.38586997649665}]
[410,240,{"$f":"B!G$2+B!G$3*B253+B!G$4*B253^2","v":188.20361072262477},{"$f":"IF(B253<(B!H$3/(-2*B!H$4)),B!H$2+B!H$3*B253+B!H$4*B253^2,B!H$2+B!H$3*(B!H$3/(-2*B!H$4))+B!H$3*B!H$3/(4*B!H$4))","v":190.50252169031825},{"$f":"B!I$2+B!I$3*EXP(B!I$4*B253)","v":194.82747449519928},{"$f":"IF((B!J$2+B!J$3*B253)<B!J$4,B!J$2+B!J$3*B253,B!J$4)","v":188.75000559732251},{"$f":"IF(B253<B!K$4,B!K$2+B!K$3*(3*B253/(2*B!K$4)-0.5*(B253/B!K$4)^3),B!K$3+B!K$2)","v":189.83341386770974},{"$f":"(C253*B$45+D!D253*C$45+D!E253*D$45+D!F253*E$45+D!G253*F$45)/SUM(B$45:F$45)","v":189.38586997649665}]
[412,240,{"$f":"B!G$2+B!G$3*B254+B!G$4*B254^2","v":188.20361072262477},{"$f":"IF(B254<(B!H$3/(-2*B!H$4)),B!H$2+B!H$3*B254+B!H$4*B254^2,B!H$2+B!H$3*(B!H$3/(-2*B!H$4))+B!H$3*B!H$3/(4*B!H$4))","v":190.50252169031825},{"$f":"B!I$2+B!I$3*EXP(B!I$4*B254)","v":194.82747449519928},{"$f":"IF((B!J$2+B!J$3*B254)<B!J$4,B!J$2+B!J$3*B254,B!J$4)","v":188.75000559732251},{"$f":"IF(B254<B!K$4,B!K$2+B!K$3*(3*B254/(2*B!K$4)-0.5*(B254/B!K$4)^3),B!K$3+B!K$2)","v":189.83341386770974},{"$f":"(C254*B$45+D!D254*C$45+D!E254*D$45+D!F254*E$45+D!G254*F$45)/SUM(B$45:F$45)","v":189.38586997649665}]
[414,240,{"$f":"B!G$2+B!G$3*B255+B!G$4*B255^2","v":188.20361072262477},{"$f":"IF(B255<(B!H$3/(-2*B!H$4)),B!H$2+B!H$3*B255+B!H$4*B255^2,B!H$2+B!H$3*(B!H$3/(-2*B!H$4))+B!H$3*B!H$3/(4*B!H$4))","v":190.50252169031825},{"$f":"B!I$2+B!I$3*EXP(B!I$4*B255)","v":194.82747449519928},{"$f":"IF((B!J$2+B!J$3*B255)<B!J$4,B!J$2+B!J$3*B255,B!J$4)","v":188.75000559732251},{"$f":"IF(B255<B!K$4,B!K$2+B!K$3*(3*B255/(2*B!K$4)-0.5*(B255/B!K$4)^3),B!K$3+B!K$2)","v":189.83341386770974},{"$f":"(C255*B$45+D!D255*C$45+D!E255*D$45+D!F255*E$45+D!G255*F$45)/SUM(B$45:F$45)","v":189.38586997649665}]
[416,240,{"$f":"B!G$2+B!G$3*B256+B!G$4*B256^2","v":188.20361072262477},{"$f":"IF(B256<(B!H$3/(-2*B!H$4)),B!H$2+B!H$3*B256+B!H$4*B256^2,B!H$2+B!H$3*(B!H$3/(-2*B!H$4))+B!H$3*B!H$3/(4*B!H$4))","v":190.50252169031825},{"$f":"B!I$2+B!I$3*EXP(B!I$4*B256)","v":194.82747449519928},{"$f":"IF((B!J$2+B!J$3*B256)<B!J$4,B!J$2+B!J$3*B256,B!J$4)","v":188.75000559732251},{"$f":"IF(B256<B!K$4,B!K$2+B!K$3*(3*B256/(2*B!K$4)-0.5*(B256/B!K$4)^3),B!K$3+B!K$2)","v":189.83341386770974},{"$f":"(C256*B$45+D!D256*C$45+D!E256*D$45+D!F256*E$45+D!G256*F$45)/SUM(B$45:F$45)","v":189.38586997649665}]
[418,240,{"$f":"B!G$2+B!G$3*B257+B!G$4*B257^2","v":188.20361072262477},{"$f":"IF(B257<(B!H$3/(-2*B!H$4)),B!H$2+B!H$3*B257+B!H$4*B257^2,B!H$2+B!H$3*(B!H$3/(-2*B!H$4))+B!H$3*B!H$3/(4*B!H$4))","v":190.50252169031825},{"$f":"B!I$2+B!I$3*EXP(B!I$4*B257)","v":194.82747449519928},{"$f":"IF((B!J$2+B!J$3*B257)<B!J$4,B!J$2+B!J$3*B257,B!J$4)","v":188.75000559732251},{"$f":"IF(B257<B!K$4,B!K$2+B!K$3*(3*B257/(2*B!K$4)-0.5*(B257/B!K$4)^3),B!K$3+B!K$2)","v":189.83341386770974},{"$f":"(C257*B$45+D!D257*C$45+D!E257*D$45+D!F257*E$45+D!G257*F$45)/SUM(B$45:F$45)","v":189.38586997649665}]
[420,240,{"$f":"B!G$2+B!G$3*B258+B!G$4*B258^2","v":188.20361072262477},{"$f":"IF(B258<(B!H$3/(-2*B!H$4)),B!H$2+B!H$3*B258+B!H$4*B258^2,B!H$2+B!H$3*(B!H$3/(-2*B!H$4))+B!H$3*B!H$3/(4*B!H$4))","v":190.50252169031825},{"$f":"B!I$2+B!I$3*EXP(B!I$4*B258)","v":194.82747449519928},{"$f":"IF((B!J$2+B!J$3*B258)<B!J$4,B!J$2+B!J$3*B258,B!J$4)","v":188.75000559732251},{"$f":"IF(B258<B!K$4,B!K$2+B!K$3*(3*B258/(2*B!K$4)-0.5*(B258/B!K$4)^3),B!K$3+B!K$2)","v":189.83341386770974},{"$f":"(C258*B$45+D!D258*C$45+D!E258*D$45+D!F258*E$45+D!G258*F$45)/SUM(B$45:F$45)","v":189.38586997649665}]
[422,240,{"$f":"B!G$2+B!G$3*B259+B!G$4*B259^2","v":188.20361072262477},{"$f":"IF(B259<(B!H$3/(-2*B!H$4)),B!H$2+B!H$3*B259+B!H$4*B259^2,B!H$2+B!H$3*(B!H$3/(-2*B!H$4))+B!H$3*B!H$3/(4*B!H$4))","v":190.50252169031825},{"$f":"B!I$2+B!I$3*EXP(B!I$4*B259)","v":194.82747449519928},{"$f":"IF((B!J$2+B!J$3*B259)<B!J$4,B!J$2+B!J$3*B259,B!J$4)","v":188.75000559732251},{"$f":"IF(B259<B!K$4,B!K$2+B!K$3*(3*B259/(2*B!K$4)-0.5*(B259/B!K$4)^3),B!K$3+B!K$2)","v":189.83341386770974},{"$f":"(C259*B$45+D!D259*C$45+D!E259*D$45+D!F259*E$45+D!G259*F$45)/SUM(B$45:F$45)","v":189.38586997649665}]
[424,240,{"$f":"B!G$2+B!G$3*B260+B!G$4*B260^2","v":188.20361072262477},{"$f":"IF(B260<(B!H$3/(-2*B!H$4)),B!H$2+B!H$3*B260+B!H$4*B260^2,B!H$2+B!H$3*(B!H$3/(-2*B!H$4))+B!H$3*B!H$3/(4*B!H$4))","v":190.50252169031825},{"$f":"B!I$2+B!I$3*EXP(B!I$4*B260)","v":194.82747449519928},{"$f":"IF((B!J$2+B!J$3*B260)<B!J$4,B!J$2+B!J$3*B260,B!J$4)","v":188.75000559732251},{"$f":"IF(B260<B!K$4,B!K$2+B!K$3*(3*B260/(2*B!K$4)-0.5*(B260/B!K$4)^3),B!K$3+B!K$2)","v":189.83341386770974},{"$f":"(C260*B$45+D!D260*C$45+D!E260*D$45+D!F260*E$45+D!G260*F$45)/SUM(B$45:F$45)","v":189.38586997649665}]
[426,240,{"$f":"B!G$2+B!G$3*B261+B!G$4*B261^2","v":188.20361072262477},{"$f":"IF(B261<(B!H$3/(-2*B!H$4)),B!H$2+B!H$3*B261+B!H$4*B261^2,B!H$2+B!H$3*(B!H$3/(-2*B!H$4))+B!H$3*B!H$3/(4*B!H$4))","v":190.50252169031825},{"$f":"B!I$2+B!I$3*EXP(B!I$4*B261)","v":194.82747449519928},{"$f":"IF((B!J$2+B!J$3*B261)<B!J$4,B!J$2+B!J$3*B261,B!J$4)","v":188.75000559732251},{"$f":"IF(B261<B!K$4,B!K$2+B!K$3*(3*B261/(2*B!K$4)-0.5*(B261/B!K$4)^3),B!K$3+B!K$2)","v":189.83341386770974},{"$f":"(C261*B$45+D!D261*C$45+D!E261*D$45+D!F261*E$45+D!G261*F$45)/SUM(B$45:F$45)","v":189.38586997649665}]
[428,240,{"$f":"B!G$2+B!G$3*B262+B!G$4*B262^2","v":188.20361072262477},{"$f":"IF(B262<(B!H$3/(-2*B!H$4)),B!H$2+B!H$3*B262+B!H$4*B262^2,B!H$2+B!H$3*(B!H$3/(-2*B!H$4))+B!H$3*B!H$3/(4*B!H$4))","v":190.50252169031825},{"$f":"B!I$2+B!I$3*EXP(B!I$4*B262)","v":194.82747449519928},{"$f":"IF((B!J$2+B!J$3*B262)<B!J$4,B!J$2+B!J$3*B262,B!J$4)","v":188.75000559732251},{"$f":"IF(B262<B!K$4,B!K$2+B!K$3*(3*B262/(2*B!K$4)-0.5*(B262/B!K$4)^3),B!K$3+B!K$2)","v":189.83341386770974},{"$f":"(C262*B$45+D!D262*C$45+D!E262*D$45+D!F262*E$45+D!G262*F$45)/SUM(B$45:F$45)","v":189.38586997649665}]
[430,240,{"$f":"B!G$2+B!G$3*B263+B!G$4*B263^2","v":188.20361072262477},{"$f":"IF(B263<(B!H$3/(-2*B!H$4)),B!H$2+B!H$3*B263+B!H$4*B263^2,B!H$2+B!H$3*(B!H$3/(-2*B!H$4))+B!H$3*B!H$3/(4*B!H$4))","v":190.50252169031825},{"$f":"B!I$2+B!I$3*EXP(B!I$4*B263)","v":194.82747449519928},{"$f":"IF((B!J$2+B!J$3*B263)<B!J$4,B!J$2+B!J$3*B263,B!J$4)","v":188.75000559732251},{"$f":"IF(B263<B!K$4,B!K$2+B!K$3*(3*B263/(2*B!K$4)-0.5*(B263/B!K$4)^3),B!K$3+B!K$2)","v":189.83341386770974},{"$f":"(C263*B$45+D!D263*C$45+D!E263*D$45+D!F263*E$45+D!G263*F$45)/SUM(B$45:F$45)","v":189.38586997649665}]
[432,240,{"$f":"B!G$2+B!G$3*B264+B!G$4*B264^2","v":188.20361072262477},{"$f":"IF(B264<(B!H$3/(-2*B!H$4)),B!H$2+B!H$3*B264+B!H$4*B264^2,B!H$2+B!H$3*(B!H$3/(-2*B!H$4))+B!H$3*B!H$3/(4*B!H$4))","v":190.50252169031825},{"$f":"B!I$2+B!I$3*EXP(B!I$4*B264)","v":194.82747449519928},{"$f":"IF((B!J$2+B!J$3*B264)<B!J$4,B!J$2+B!J$3*B264,B!J$4)","v":188.75000559732251},{"$f":"IF(B264<B!K$4,B!K$2+B!K$3*(3*B264/(2*B!K$4)-0.5*(B264/B!K$4)^3),B!K$3+B!K$2)","v":189.83341386770974},{"$f":"(C264*B$45+D!D264*C$45+D!E264*D$45+D!F264*E$45+D!G264*F$45)/SUM(B$45:F$45)","v":189.38586997649665}]
[434,240,{"$f":"B!G$2+B!G$3*B265+B!G$4*B265^2","v":188.20361072262477},{"$f":"IF(B265<(B!H$3/(-2*B!H$4)),B!H$2+B!H$3*B265+B!H$4*B265^2,B!H$2+B!H$3*(B!H$3/(-2*B!H$4))+B!H$3*B!H$3/(4*B!H$4))","v":190.50252169031825},{"$f":"B!I$2+B!I$3*EXP(B!I$4*B265)","v":194.82747449519928},{"$f":"IF((B!J$2+B!J$3*B265)<B!J$4,B!J$2+B!J$3*B265,B!J$4)","v":188.75000559732251},{"$f":"IF(B265<B!K$4,B!K$2+B!K$3*(3*B265/(2*B!K$4)-0.5*(B265/B!K$4)^3),B!K$3+B!K$2)","v":189.83341386770974},{"$f":"(C265*B$45+D!D265*C$45+D!E265*D$45+D!F265*E$45+D!G265*F$45)/SUM(B$45:F$45)","v":189.38586997649665}]
[436,240,{"$f":"B!G$2+B!G$3*B266+B!G$4*B266^2","v":188.20361072262477},{"$f":"IF(B266<(B!H$3/(-2*B!H$4)),B!H$2+B!H$3*B266+B!H$4*B266^2,B!H$2+B!H$3*(B!H$3/(-2*B!H$4))+B!H$3*B!H$3/(4*B!H$4))","v":190.50252169031825},{"$f":"B!I$2+B!I$3*EXP(B!I$4*B266)","v":194.82747449519928},{"$f":"IF((B!J$2+B!J$3*B266)<B!J$4,B!J$2+B!J$3*B266,B!J$4)","v":188.75000559732251},{"$f":"IF(B266<B!K$4,B!K$2+B!K$3*(3*B266/(2*B!K$4)-0.5*(B266/B!K$4)^3),B!K$3+B!K$2)","v":189.83341386770974},{"$f":"(C266*B$45+D!D266*C$45+D!E266*D$45+D!F266*E$45+D!G266*F$45)/SUM(B$45:F$45)","v":189.38586997649665}]
[438,240,{"$f":"B!G$2+B!G$3*B267+B!G$4*B267^2","v":188.20361072262477},{"$f":"IF(B267<(B!H$3/(-2*B!H$4)),B!H$2+B!H$3*B267+B!H$4*B267^2,B!H$2+B!H$3*(B!H$3/(-2*B!H$4))+B!H$3*B!H$3/(4*B!H$4))","v":190.50252169031825},{"$f":"B!I$2+B!I$3*EXP(B!I$4*B267)","v":194.82747449519928},{"$f":"IF((B!J$2+B!J$3*B267)<B!J$4,B!J$2+B!J$3*B267,B!J$4)","v":188.75000559732251},{"$f":"IF(B267<B!K$4,B!K$2+B!K$3*(3*B267/(2*B!K$4)-0.5*(B267/B!K$4)^3),B!K$3+B!K$2)","v":189.83341386770974},{"$f":"(C267*B$45+D!D267*C$45+D!E267*D$45+D!F267*E$45+D!G267*F$45)/SUM(B$45:F$45)","v":189.38586997649665}]
[440,240,{"$f":"B!G$2+B!G$3*B268+B!G$4*B268^2","v":188.20361072262477},{"$f":"IF(B268<(B!H$3/(-2*B!H$4)),B!H$2+B!H$3*B268+B!H$4*B268^2,B!H$2+B!H$3*(B!H$3/(-2*B!H$4))+B!H$3*B!H$3/(4*B!H$4))","v":190.50252169031825},{"$f":"B!I$2+B!I$3*EXP(B!I$4*B268)","v":194.82747449519928},{"$f":"IF((B!J$2+B!J$3*B268)<B!J$4,B!J$2+B!J$3*B268,B!J$4)","v":188.75000559732251},{"$f":"IF(B268<B!K$4,B!K$2+B!K$3*(3*B268/(2*B!K$4)-0.5*(B268/B!K$4)^3),B!K$3+B!K$2)","v":189.83341386770974},{"$f":"(C268*B$45+D!D268*C$45+D!E268*D$45+D!F268*E$45+D!G268*F$45)/SUM(B$45:F$45)","v":189.38586997649665}]
[442,240,{"$f":"B!G$2+B!G$3*B269+B!G$4*B269^2","v":188.20361072262477},{"$f":"IF(B269<(B!H$3/(-2*B!H$4)),B!H$2+B!H$3*B269+B!H$4*B269^2,B!H$2+B!H$3*(B!H$3/(-2*B!H$4))+B!H$3*B!H$3/(4*B!H$4))","v":190.50252169031825},{"$f":"B!I$2+B!I$3*EXP(B!I$4*B269)","v":194.82747449519928},{"$f":"IF((B!J$2+B!J$3*B269)<B!J$4,B!J$2+B!J$3*B269,B!J$4)","v":188.75000559732251},{"$f":"IF(B269<B!K$4,B!K$2+B!K$3*(3*B269/(2*B!K$4)-0.5*(B269/B!K$4)^3),B!K$3+B!K$2)","v":189.83341386770974},{"$f":"(C269*B$45+D!D269*C$45+D!E269*D$45+D!F269*E$45+D!G269*F$45)/SUM(B$45:F$45)","v":189.38586997649665}]
[444,240,{"$f":"B!G$2+B!G$3*B270+B!G$4*B270^2","v":188.20361072262477},{"$f":"IF(B270<(B!H$3/(-2*B!H$4)),B!H$2+B!H$3*B270+B!H$4*B270^2,B!H$2+B!H$3*(B!H$3/(-2*B!H$4))+B!H$3*B!H$3/(4*B!H$4))","v":190.50252169031825},{"$f":"B!I$2+B!I$3*EXP(B!I$4*B270)","v":194.82747449519928},{"$f":"IF((B!J$2+B!J$3*B270)<B!J$4,B!J$2+B!J$3*B270,B!J$4)","v":188.75000559732251},{"$f":"IF(B270<B!K$4,B!K$2+B!K$3*(3*B270/(2*B!K$4)-0.5*(B270/B!K$4)^3),B!K$3+B!K$2)","v":189.83341386770974},{"$f":"(C270*B$45+D!D270*C$45+D!E270*D$45+D!F270*E$45+D!G270*F$45)/SUM(B$45:F$45)","v":189.38586997649665}]
[446,240,{"$f":"B!G$2+B!G$3*B271+B!G$4*B271^2","v":188.20361072262477},{"$f":"IF(B271<(B!H$3/(-2*B!H$4)),B!H$2+B!H$3*B271+B!H$4*B271^2,B!H$2+B!H$3*(B!H$3/(-2*B!H$4))+B!H$3*B!H$3/(4*B!H$4))","v":190.50252169031825},{"$f":"B!I$2+B!I$3*EXP(B!I$4*B271)","v":194.82747449519928},{"$f":"IF((B!J$2+B!J$3*B271)<B!J$4,B!J$2+B!J$3*B271,B!J$4)","v":188.75000559732251},{"$f":"IF(B271<B!K$4,B!K$2+B!K$3*(3*B271/(2*B!K$4)-0.5*(B271/B!K$4)^3),B!K$3+B!K$2)","v":189.83341386770974},{"$f":"(C271*B$45+D!D271*C$45+D!E271*D$45+D!F271*E$45+D!G271*F$45)/SUM(B$45:F$45)","v":189.38586997649665}]
[448,240,{"$f":"B!G$2+B!G$3*B272+B!G$4*B272^2","v":188.20361072262477},{"$f":"IF(B272<(B!H$3/(-2*B!H$4)),B!H$2+B!H$3*B272+B!H$4*B272^2,B!H$2+B!H$3*(B!H$3/(-2*B!H$4))+B!H$3*B!H$3/(4*B!H$4))","v":190.50252169031825},{"$f":"B!I$2+B!I$3*EXP(B!I$4*B272)","v":194.82747449519928},{"$f":"IF((B!J$2+B!J$3*B272)<B!J$4,B!J$2+B!J$3*B272,B!J$4)","v":188.75000559732251},{"$f":"IF(B272<B!K$4,B!K$2+B!K$3*(3*B272/(2*B!K$4)-0.5*(B272/B!K$4)^3),B!K$3+B!K$2)","v":189.83341386770974},{"$f":"(C272*B$45+D!D272*C$45+D!E272*D$45+D!F272*E$45+D!G272*F$45)/SUM(B$45:F$45)","v":189.38586997649665}]
[450,240,{"$f":"B!G$2+B!G$3*B273+B!G$4*B273^2","v":188.20361072262477},{"$f":"IF(B273<(B!H$3/(-2*B!H$4)),B!H$2+B!H$3*B273+B!H$4*B273^2,B!H$2+B!H$3*(B!H$3/(-2*B!H$4))+B!H$3*B!H$3/(4*B!H$4))","v":190.50252169031825},{"$f":"B!I$2+B!I$3*EXP(B!I$4*B273)","v":194.82747449519928},{"$f":"IF((B!J$2+B!J$3*B273)<B!J$4,B!J$2+B!J$3*B273,B!J$4)","v":188.75000559732251},{"$f":"IF(B273<B!K$4,B!K$2+B!K$3*(3*B273/(2*B!K$4)-0.5*(B273/B!K$4)^3),B!K$3+B!K$2)","v":189.83341386770974},{"$f":"(C273*B$45+D!D273*C$45+D!E273*D$45+D!F273*E$45+D!G273*F$45)/SUM(B$45:F$45)","v":189.38586997649665}]
[452,240,{"$f":"B!G$2+B!G$3*B274+B!G$4*B274^2","v":188.20361072262477},{"$f":"IF(B274<(B!H$3/(-2*B!H$4)),B!H$2+B!H$3*B274+B!H$4*B274^2,B!H$2+B!H$3*(B!H$3/(-2*B!H$4))+B!H$3*B!H$3/(4*B!H$4))","v":190.50252169031825},{"$f":"B!I$2+B!I$3*EXP(B!I$4*B274)","v":194.82747449519928},{"$f":"IF((B!J$2+B!J$3*B274)<B!J$4,B!J$2+B!J$3*B274,B!J$4)","v":188.75000559732251},{"$f":"IF(B274<B!K$4,B!K$2+B!K$3*(3*B274/(2*B!K$4)-0.5*(B274/B!K$4)^3),B!K$3+B!K$2)","v":189.83341386770974},{"$f":"(C274*B$45+D!D274*C$45+D!E274*D$45+D!F274*E$45+D!G274*F$45)/SUM(B$45:F$45)","v":189.38586997649665}]
[454,240,{"$f":"B!G$2+B!G$3*B275+B!G$4*B275^2","v":188.20361072262477},{"$f":"IF(B275<(B!H$3/(-2*B!H$4)),B!H$2+B!H$3*B275+B!H$4*B275^2,B!H$2+B!H$3*(B!H$3/(-2*B!H$4))+B!H$3*B!H$3/(4*B!H$4))","v":190.50252169031825},{"$f":"B!I$2+B!I$3*EXP(B!I$4*B275)","v":194.82747449519928},{"$f":"IF((B!J$2+B!J$3*B275)<B!J$4,B!J$2+B!J$3*B275,B!J$4)","v":188.75000559732251},{"$f":"IF(B275<B!K$4,B!K$2+B!K$3*(3*B275/(2*B!K$4)-0.5*(B275/B!K$4)^3),B!K$3+B!K$2)","v":189.83341386770974},{"$f":"(C275*B$45+D!D275*C$45+D!E275*D$45+D!F275*E$45+D!G275*F$45)/SUM(B$45:F$45)","v":189.38586997649665}]
[456,240,{"$f":"B!G$2+B!G$3*B276+B!G$4*B276^2","v":188.20361072262477},{"$f":"IF(B276<(B!H$3/(-2*B!H$4)),B!H$2+B!H$3*B276+B!H$4*B276^2,B!H$2+B!H$3*(B!H$3/(-2*B!H$4))+B!H$3*B!H$3/(4*B!H$4))","v":190.50252169031825},{"$f":"B!I$2+B!I$3*EXP(B!I$4*B276)","v":194.82747449519928},{"$f":"IF((B!J$2+B!J$3*B276)<B!J$4,B!J$2+B!J$3*B276,B!J$4)","v":188.75000559732251},{"$f":"IF(B276<B!K$4,B!K$2+B!K$3*(3*B276/(2*B!K$4)-0.5*(B276/B!K$4)^3),B!K$3+B!K$2)","v":189.83341386770974},{"$f":"(C276*B$45+D!D276*C$45+D!E276*D$45+D!F276*E$45+D!G276*F$45)/SUM(B$45:F$45)","v":189.38586997649665}]
[458,240,{"$f":"B!G$2+B!G$3*B277+B!G$4*B277^2","v":188.20361072262477},{"$f":"IF(B277<(B!H$3/(-2*B!H$4)),B!H$2+B!H$3*B277+B!H$4*B277^2,B!H$2+B!H$3*(B!H$3/(-2*B!H$4))+B!H$3*B!H$3/(4*B!H$4))","v":190.50252169031825},{"$f":"B!I$2+B!I$3*EXP(B!I$4*B277)","v":194.82747449519928},{"$f":"IF((B!J$2+B!J$3*B277)<B!J$4,B!J$2+B!J$3*B277,B!J$4)","v":188.75000559732251},{"$f":"IF(B277<B!K$4,B!K$2+B!K$3*(3*B277/(2*B!K$4)-0.5*(B277/B!K$4)^3),B!K$3+B!K$2)","v":189.83341386770974},{"$f":"(C277*B$45+D!D277*C$45+D!E277*D$45+D!F277*E$45+D!G277*F$45)/SUM(B$45:F$45)","v":189.38586997649665}]
[460,240,{"$f":"B!G$2+B!G$3*B278+B!G$4*B278^2","v":188.20361072262477},{"$f":"IF(B278<(B!H$3/(-2*B!H$4)),B!H$2+B!H$3*B278+B!H$4*B278^2,B!H$2+B!H$3*(B!H$3/(-2*B!H$4))+B!H$3*B!H$3/(4*B!H$4))","v":190.50252169031825},{"$f":"B!I$2+B!I$3*EXP(B!I$4*B278)","v":194.82747449519928},{"$f":"IF((B!J$2+B!J$3*B278)<B!J$4,B!J$2+B!J$3*B278,B!J$4)","v":188.75000559732251},{"$f":"IF(B278<B!K$4,B!K$2+B!K$3*(3*B278/(2*B!K$4)-0.5*(B278/B!K$4)^3),B!K$3+B!K$2)","v":189.83341386770974},{"$f":"(C278*B$45+D!D278*C$45+D!E278*D$45+D!F278*E$45+D!G278*F$45)/SUM(B$45:F$45)","v":189.38586997649665}]
[462,240,{"$f":"B!G$2+B!G$3*B279+B!G$4*B279^2","v":188.20361072262477},{"$f":"IF(B279<(B!H$3/(-2*B!H$4)),B!H$2+B!H$3*B279+B!H$4*B279^2,B!H$2+B!H$3*(B!H$3/(-2*B!H$4))+B!H$3*B!H$3/(4*B!H$4))","v":190.50252169031825},{"$f":"B!I$2+B!I$3*EXP(B!I$4*B279)","v":194.82747449519928},{"$f":"IF((B!J$2+B!J$3*B279)<B!J$4,B!J$2+B!J$3*B279,B!J$4)","v":188.75000559732251},{"$f":"IF(B279<B!K$4,B!K$2+B!K$3*(3*B279/(2*B!K$4)-0.5*(B279/B!K$4)^3),B!K$3+B!K$2)","v":189.83341386770974},{"$f":"(C279*B$45+D!D279*C$45+D!E279*D$45+D!F279*E$45+D!G279*F$45)/SUM(B$45:F$45)","v":189.38586997649665}]
[464,240,{"$f":"B!G$2+B!G$3*B280+B!G$4*B280^2","v":188.20361072262477},{"$f":"IF(B280<(B!H$3/(-2*B!H$4)),B!H$2+B!H$3*B280+B!H$4*B280^2,B!H$2+B!H$3*(B!H$3/(-2*B!H$4))+B!H$3*B!H$3/(4*B!H$4))","v":190.50252169031825},{"$f":"B!I$2+B!I$3*EXP(B!I$4*B280)","v":194.82747449519928},{"$f":"IF((B!J$2+B!J$3*B280)<B!J$4,B!J$2+B!J$3*B280,B!J$4)","v":188.75000559732251},{"$f":"IF(B280<B!K$4,B!K$2+B!K$3*(3*B280/(2*B!K$4)-0.5*(B280/B!K$4)^3),B!K$3+B!K$2)","v":189.83341386770974},{"$f":"(C280*B$45+D!D280*C$45+D!E280*D$45+D!F280*E$45+D!G280*F$45)/SUM(B$45:F$45)","v":189.38586997649665}]
[466,240,{"$f":"B!G$2+B!G$3*B281+B!G$4*B281^2","v":188.20361072262477},{"$f":"IF(B281<(B!H$3/(-2*B!H$4)),B!H$2+B!H$3*B281+B!H$4*B281^2,B!H$2+B!H$3*(B!H$3/(-2*B!H$4))+B!H$3*B!H$3/(4*B!H$4))","v":190.50252169031825},{"$f":"B!I$2+B!I$3*EXP(B!I$4*B281)","v":194.82747449519928},{"$f":"IF((B!J$2+B!J$3*B281)<B!J$4,B!J$2+B!J$3*B281,B!J$4)","v":188.75000559732251},{"$f":"IF(B281<B!K$4,B!K$2+B!K$3*(3*B281/(2*B!K$4)-0.5*(B281/B!K$4)^3),B!K$3+B!K$2)","v":189.83341386770974},{"$f":"(C281*B$45+D!D281*C$45+D!E281*D$45+D!F281*E$45+D!G281*F$45)/SUM(B$45:F$45)","v":189.38586997649665}]
[468,240,{"$f":"B!G$2+B!G$3*B282+B!G$4*B282^2","v":188.20361072262477},{"$f":"IF(B282<(B!H$3/(-2*B!H$4)),B!H$2+B!H$3*B282+B!H$4*B282^2,B!H$2+B!H$3*(B!H$3/(-2*B!H$4))+B!H$3*B!H$3/(4*B!H$4))","v":190.50252169031825},{"$f":"B!I$2+B!I$3*EXP(B!I$4*B282)","v":194.82747449519928},{"$f":"IF((B!J$2+B!J$3*B282)<B!J$4,B!J$2+B!J$3*B282,B!J$4)","v":188.75000559732251},{"$f":"IF(B282<B!K$4,B!K$2+B!K$3*(3*B282/(2*B!K$4)-0.5*(B282/B!K$4)^3),B!K$3+B!K$2)","v":189.83341386770974},{"$f":"(C282*B$45+D!D282*C$45+D!E282*D$45+D!F282*E$45+D!G282*F$45)/SUM(B$45:F$45)","v":189.38586997649665}]
[470,240,{"$f":"B!G$2+B!G$3*B283+B!G$4*B283^2","v":188.20361072262477},{"$f":"IF(B283<(B!H$3/(-2*B!H$4)),B!H$2+B!H$3*B283+B!H$4*B283^2,B!H$2+B!H$3*(B!H$3/(-2*B!H$4))+B!H$3*B!H$3/(4*B!H$4))","v":190.50252169031825},{"$f":"B!I$2+B!I$3*EXP(B!I$4*B283)","v":194.82747449519928},{"$f":"IF((B!J$2+B!J$3*B283)<B!J$4,B!J$2+B!J$3*B283,B!J$4)","v":188.75000559732251},{"$f":"IF(B283<B!K$4,B!K$2+B!K$3*(3*B283/(2*B!K$4)-0.5*(B283/B!K$4)^3),B!K$3+B!K$2)","v":189.83341386770974},{"$f":"(C283*B$45+D!D283*C$45+D!E283*D$45+D!F283*E$45+D!G283*F$45)/SUM(B$45:F$45)","v":189.38586997649665}]
[472,240,{"$f":"B!G$2+B!G$3*B284+B!G$4*B284^2","v":188.20361072262477},{"$f":"IF(B284<(B!H$3/(-2*B!H$4)),B!H$2+B!H$3*B284+B!H$4*B284^2,B!H$2+B!H$3*(B!H$3/(-2*B!H$4))+B!H$3*B!H$3/(4*B!H$4))","v":190.50252169031825},{"$f":"B!I$2+B!I$3*EXP(B!I$4*B284)","v":194.82747449519928},{"$f":"IF((B!J$2+B!J$3*B284)<B!J$4,B!J$2+B!J$3*B284,B!J$4)","v":188.75000559732251},{"$f":"IF(B284<B!K$4,B!K$2+B!K$3*(3*B284/(2*B!K$4)-0.5*(B284/B!K$4)^3),B!K$3+B!K$2)","v":189.83341386770974},{"$f":"(C284*B$45+D!D284*C$45+D!E284*D$45+D!F284*E$45+D!G284*F$45)/SUM(B$45:F$45)","v":189.38586997649665}]
[474,240,{"$f":"B!G$2+B!G$3*B285+B!G$4*B285^2","v":188.20361072262477},{"$f":"IF(B285<(B!H$3/(-2*B!H$4)),B!H$2+B!H$3*B285+B!H$4*B285^2,B!H$2+B!H$3*(B!H$3/(-2*B!H$4))+B!H$3*B!H$3/(4*B!H$4))","v":190.50252169031825},{"$f":"B!I$2+B!I$3*EXP(B!I$4*B285)","v":194.82747449519928},{"$f":"IF((B!J$2+B!J$3*B285)<B!J$4,B!J$2+B!J$3*B285,B!J$4)","v":188.75000559732251},{"$f":"IF(B285<B!K$4,B!K$2+B!K$3*(3*B285/(2*B!K$4)-0.5*(B285/B!K$4)^3),B!K$3+B!K$2)","v":189.83341386770974},{"$f":"(C285*B$45+D!D285*C$45+D!E285*D$45+D!F285*E$45+D!G285*F$45)/SUM(B$45:F$45)","v":189.38586997649665}]
[476,240,{"$f":"B!G$2+B!G$3*B286+B!G$4*B286^2","v":188.20361072262477},{"$f":"IF(B286<(B!H$3/(-2*B!H$4)),B!H$2+B!H$3*B286+B!H$4*B286^2,B!H$2+B!H$3*(B!H$3/(-2*B!H$4))+B!H$3*B!H$3/(4*B!H$4))","v":190.50252169031825},{"$f":"B!I$2+B!I$3*EXP(B!I$4*B286)","v":194.82747449519928},{"$f":"IF((B!J$2+B!J$3*B286)<B!J$4,B!J$2+B!J$3*B286,B!J$4)","v":188.75000559732251},{"$f":"IF(B286<B!K$4,B!K$2+B!K$3*(3*B286/(2*B!K$4)-0.5*(B286/B!K$4)^3),B!K$3+B!K$2)","v":189.83341386770974},{"$f":"(C286*B$45+D!D286*C$45+D!E286*D$45+D!F286*E$45+D!G286*F$45)/SUM(B$45:F$45)","v":189.38586997649665}]
[478,240,{"$f":"B!G$2+B!G$3*B287+B!G$4*B287^2","v":188.20361072262477},{"$f":"IF(B287<(B!H$3/(-2*B!H$4)),B!H$2+B!H$3*B287+B!H$4*B287^2,B!H$2+B!H$3*(B!H$3/(-2*B!H$4))+B!H$3*B!H$3/(4*B!H$4))","v":190.50252169031825},{"$f":"B!I$2+B!I$3*EXP(B!I$4*B287)","v":194.82747449519928},{"$f":"IF((B!J$2+B!J$3*B287)<B!J$4,B!J$2+B!J$3*B287,B!J$4)","v":188.75000559732251},{"$f":"IF(B287<B!K$4,B!K$2+B!K$3*(3*B287/(2*B!K$4)-0.5*(B287/B!K$4)^3),B!K$3+B!K$2)","v":189.83341386770974},{"$f":"(C287*B$45+D!D287*C$45+D!E287*D$45+D!F287*E$45+D!G287*F$45)/SUM(B$45:F$45)","v":189.38586997649665}]
[480,240,{"$f":"B!G$2+B!G$3*B288+B!G$4*B288^2","v":188.20361072262477},{"$f":"IF(B288<(B!H$3/(-2*B!H$4)),B!H$2+B!H$3*B288+B!H$4*B288^2,B!H$2+B!H$3*(B!H$3/(-2*B!H$4))+B!H$3*B!H$3/(4*B!H$4))","v":190.50252169031825},{"$f":"B!I$2+B!I$3*EXP(B!I$4*B288)","v":194.82747449519928},{"$f":"IF((B!J$2+B!J$3*B288)<B!J$4,B!J$2+B!J$3*B288,B!J$4)","v":188.75000559732251},{"$f":"IF(B288<B!K$4,B!K$2+B!K$3*(3*B288/(2*B!K$4)-0.5*(B288/B!K$4)^3),B!K$3+B!K$2)","v":189.83341386770974},{"$f":"(C288*B$45+D!D288*C$45+D!E288*D$45+D!F288*E$45+D!G288*F$45)/SUM(B$45:F$45)","v":189.38586997649665}]
[482,240,{"$f":"B!G$2+B!G$3*B289+B!G$4*B289^2","v":188.20361072262477},{"$f":"IF(B289<(B!H$3/(-2*B!H$4)),B!H$2+B!H$3*B289+B!H$4*B289^2,B!H$2+B!H$3*(B!H$3/(-2*B!H$4))+B!H$3*B!H$3/(4*B!H$4))","v":190.50252169031825},{"$f":"B!I$2+B!I$3*EXP(B!I$4*B289)","v":194.82747449519928},{"$f":"IF((B!J$2+B!J$3*B289)<B!J$4,B!J$2+B!J$3*B289,B!J$4)","v":188.75000559732251},{"$f":"IF(B289<B!K$4,B!K$2+B!K$3*(3*B289/(2*B!K$4)-0.5*(B289/B!K$4)^3),B!K$3+B!K$2)","v":189.83341386770974},{"$f":"(C289*B$45+D!D289*C$45+D!E289*D$45+D!F289*E$45+D!G289*F$45)/SUM(B$45:F$45)","v":189.38586997649665}]
[484,240,{"$f":"B!G$2+B!G$3*B290+B!G$4*B290^2","v":188.20361072262477},{"$f":"IF(B290<(B!H$3/(-2*B!H$4)),B!H$2+B!H$3*B290+B!H$4*B290^2,B!H$2+B!H$3*(B!H$3/(-2*B!H$4))+B!H$3*B!H$3/(4*B!H$4))","v":190.50252169031825},{"$f":"B!I$2+B!I$3*EXP(B!I$4*B290)","v":194.82747449519928},{"$f":"IF((B!J$2+B!J$3*B290)<B!J$4,B!J$2+B!J$3*B290,B!J$4)","v":188.75000559732251},{"$f":"IF(B290<B!K$4,B!K$2+B!K$3*(3*B290/(2*B!K$4)-0.5*(B290/B!K$4)^3),B!K$3+B!K$2)","v":189.83341386770974},{"$f":"(C290*B$45+D!D290*C$45+D!E290*D$45+D!F290*E$45+D!G290*F$45)/SUM(B$45:F$45)","v":189.38586997649665}]
[486,240,{"$f":"B!G$2+B!G$3*B291+B!G$4*B291^2","v":188.20361072262477},{"$f":"IF(B291<(B!H$3/(-2*B!H$4)),B!H$2+B!H$3*B291+B!H$4*B291^2,B!H$2+B!H$3*(B!H$3/(-2*B!H$4))+B!H$3*B!H$3/(4*B!H$4))","v":190.50252169031825},{"$f":"B!I$2+B!I$3*EXP(B!I$4*B291)","v":194.82747449519928},{"$f":"IF((B!J$2+B!J$3*B291)<B!J$4,B!J$2+B!J$3*B291,B!J$4)","v":188.75000559732251},{"$f":"IF(B291<B!K$4,B!K$2+B!K$3*(3*B291/(2*B!K$4)-0.5*(B291/B!K$4)^3),B!K$3+B!K$2)","v":189.83341386770974},{"$f":"(C291*B$45+D!D291*C$45+D!E291*D$45+D!F291*E$45+D!G291*F$45)/SUM(B$45:F$45)","v":189.38586997649665}]
[488,240,{"$f":"B!G$2+B!G$3*B292+B!G$4*B292^2","v":188.20361072262477},{"$f":"IF(B292<(B!H$3/(-2*B!H$4)),B!H$2+B!H$3*B292+B!H$4*B292^2,B!H$2+B!H$3*(B!H$3/(-2*B!H$4))+B!H$3*B!H$3/(4*B!H$4))","v":190.50252169031825},{"$f":"B!I$2+B!I$3*EXP(B!I$4*B292)","v":194.82747449519928},{"$f":"IF((B!J$2+B!J$3*B292)<B!J$4,B!J$2+B!J$3*B292,B!J$4)","v":188.75000559732251},{"$f":"IF(B292<B!K$4,B!K$2+B!K$3*(3*B292/(2*B!K$4)-0.5*(B292/B!K$4)^3),B!K$3+B!K$2)","v":189.83341386770974},{"$f":"(C292*B$45+D!D292*C$45+D!E292*D$45+D!F292*E$45+D!G292*F$45)/SUM(B$45:F$45)","v":189.38586997649665}]
[490,240,{"$f":"B!G$2+B!G$3*B293+B!G$4*B293^2","v":188.20361072262477},{"$f":"IF(B293<(B!H$3/(-2*B!H$4)),B!H$2+B!H$3*B293+B!H$4*B293^2,B!H$2+B!H$3*(B!H$3/(-2*B!H$4))+B!H$3*B!H$3/(4*B!H$4))","v":190.50252169031825},{"$f":"B!I$2+B!I$3*EXP(B!I$4*B293)","v":194.82747449519928},{"$f":"IF((B!J$2+B!J$3*B293)<B!J$4,B!J$2+B!J$3*B293,B!J$4)","v":188.75000559732251},{"$f":"IF(B293<B!K$4,B!K$2+B!K$3*(3*B293/(2*B!K$4)-0.5*(B293/B!K$4)^3),B!K$3+B!K$2)","v":189.83341386770974},{"$f":"(C293*B$45+D!D293*C$45+D!E293*D$45+D!F293*E$45+D!G293*F$45)/SUM(B$45:F$45)","v":189.38586997649665}]
[492,240,{"$f":"B!G$2+B!G$3*B294+B!G$4*B294^2","v":188.20361072262477},{"$f":"IF(B294<(B!H$3/(-2*B!H$4)),B!H$2+B!H$3*B294+B!H$4*B294^2,B!H$2+B!H$3*(B!H$3/(-2*B!H$4))+B!H$3*B!H$3/(4*B!H$4))","v":190.50252169031825},{"$f":"B!I$2+B!I$3*EXP(B!I$4*B294)","v":194.82747449519928},{"$f":"IF((B!J$2+B!J$3*B294)<B!J$4,B!J$2+B!J$3*B294,B!J$4)","v":188.75000559732251},{"$f":"IF(B294<B!K$4,B!K$2+B!K$3*(3*B294/(2*B!K$4)-0.5*(B294/B!K$4)^3),B!K$3+B!K$2)","v":189.83341386770974},{"$f":"(C294*B$45+D!D294*C$45+D!E294*D$45+D!F294*E$45+D!G294*F$45)/SUM(B$45:F$45)","v":189.38586997649665}]
[494,240,{"$f":"B!G$2+B!G$3*B295+B!G$4*B295^2","v":188.20361072262477},{"$f":"IF(B295<(B!H$3/(-2*B!H$4)),B!H$2+B!H$3*B295+B!H$4*B295^2,B!H$2+B!H$3*(B!H$3/(-2*B!H$4))+B!H$3*B!H$3/(4*B!H$4))","v":190.50252169031825},{"$f":"B!I$2+B!I$3*EXP(B!I$4*B295)","v":194.82747449519928},{"$f":"IF((B!J$2+B!J$3*B295)<B!J$4,B!J$2+B!J$3*B295,B!J$4)","v":188.75000559732251},{"$f":"IF(B295<B!K$4,B!K$2+B!K$3*(3*B295/(2*B!K$4)-0.5*(B295/B!K$4)^3),B!K$3+B!K$2)","v":189.83341386770974},{"$f":"(C295*B$45+D!D295*C$45+D!E295*D$45+D!F295*E$45+D!G295*F$45)/SUM(B$45:F$45)","v":189.38586997649665}]
[496,240,{"$f":"B!G$2+B!G$3*B296+B!G$4*B296^2","v":188.20361072262477},{"$f":"IF(B296<(B!H$3/(-2*B!H$4)),B!H$2+B!H$3*B296+B!H$4*B296^2,B!H$2+B!H$3*(B!H$3/(-2*B!H$4))+B!H$3*B!H$3/(4*B!H$4))","v":190.50252169031825},{"$f":"B!I$2+B!I$3*EXP(B!I$4*B296)","v":194.82747449519928},{"$f":"IF((B!J$2+B!J$3*B296)<B!J$4,B!J$2+B!J$3*B296,B!J$4)","v":188.75000559732251},{"$f":"IF(B296<B!K$4,B!K$2+B!K$3*(3*B296/(2*B!K$4)-0.5*(B296/B!K$4)^3),B!K$3+B!K$2)","v":189.83341386770974},{"$f":"(C296*B$45+D!D296*C$45+D!E296*D$45+D!F296*E$45+D!G296*F$45)/SUM(B$45:F$45)","v":189.38586997649665}]
[498,240,{"$f":"B!G$2+B!G$3*B297+B!G$4*B297^2","v":188.20361072262477},{"$f":"IF(B297<(B!H$3/(-2*B!H$4)),B!H$2+B!H$3*B297+B!H$4*B297^2,B!H$2+B!H$3*(B!H$3/(-2*B!H$4))+B!H$3*B!H$3/(4*B!H$4))","v":190.50252169031825},{"$f":"B!I$2+B!I$3*EXP(B!I$4*B297)","v":194.82747449519928},{"$f":"IF((B!J$2+B!J$3*B297)<B!J$4,B!J$2+B!J$3*B297,B!J$4)","v":188.75000559732251},{"$f":"IF(B297<B!K$4,B!K$2+B!K$3*(3*B297/(2*B!K$4)-0.5*(B297/B!K$4)^3),B!K$3+B!K$2)","v":189.83341386770974},{"$f":"(C297*B$45+D!D297*C$45+D!E297*D$45+D!F297*E$45+D!G297*F$45)/SUM(B$45:F$45)","v":189.38586997649665}]
[500,240,{"$f":"B!G$2+B!G$3*B298+B!G$4*B298^2","v":188.20361072262477},{"$f":"IF(B298<(B!H$3/(-2*B!H$4)),B!H$2+B!H$3*B298+B!H$4*B298^2,B!H$2+B!H$3*(B!H$3/(-2*B!H$4))+B!H$3*B!H$3/(4*B!H$4))","v":190.50252169031825},{"$f":"B!I$2+B!I$3*EXP(B!I$4*B298)","v":194.82747449519928},{"$f":"IF((B!J$2+B!J$3*B298)<B!J$4,B!J$2+B!J$3*B298,B!J$4)","v":188.75000559732251},{"$f":"IF(B298<B!K$4,B!K$2+B!K$3*(3*B298/(2*B!K$4)-0.5*(B298/B!K$4)^3),B!K$3+B!K$2)","v":189.83341386770974},{"$f":"(C298*B$45+D!D298*C$45+D!E298*D$45+D!F298*E$45+D!G298*F$45)/SUM(B$45:F$45)","v":189.38586997649665}]

{"sheet":"Summary","index":6,"n_rows":5,"n_cols":62,"rows_kept":5,"cut":false,"hidden":false,"merged":[[0,0,0,2],[0,4,1,5],[0,6,0,8]]}
["Summary - Multi-site-year Database",null,null,{"$f":"COUNTA(A5:A966)","v":1},null,null,"Current site-year is shown on row 4 - do not delete"]
[]
[{"$f":"A!A7","v":"Site"},{"$f":"A!A8","v":"Year"},{"$f":"A!A9","v":"Town"},{"$f":"A!A10","v":"County"},{"$f":"A!A11","v":"State or province"},{"$f":"A!A12","v":"Latitude"},{"$f":"A!A13","v":"Longitude"},{"$f":"A!A14","v":"Altitude"},{"$f":"A!A15","v":"Soil texture class"},{"$f":"A!A16","v":"Preceding crop"},{"$f":"A!A17","v":"Expected Yield (bu/A)"},{"$f":"A!A18","v":"Tillage"},{"$f":"A!A19","v":"Nutrient Source"},{"$f":"A!A20","v":"Nutrient Timing"},{"$f":"A!A21","v":"Nutrient Placement"},{"$f":"A!A22","v":"Planting date"},{"$f":"A!A23","v":"PSNT (ppm)"},{"$f":"A!A24","v":"Manure N (lb/A)"},{"$f":"A!A25","v":"Harvest date "},{"$f":"A!A26","v":"ESSENTIAL INFORMATION"},{"$f":"A!A27","v":"Crop ($/bu)"},{"$f":"A!A28","v":"Fertilizer ($/lb)"},{"$f":"A!A29","v":"Price ratio (f/c)"},{"$f":"A!A30","v":"Crop nutrient content (lb/bu)"},{"$f":"A!A31","v":"Nutrient harvest index"},{"$f":"A!A32","v":0},{"$f":"A!A33","v":0},{"$f":"A!A34","v":0},{"$f":"A!A35","v":0},{"$f":"A!A36","v":0},{"$f":"A!A37","v":0},{"$f":"A!A38","v":0},{"$f":"A!A39","v":0},{"$f":"A!A40","v":0},{"$f":"A!E6","v":"MERN (lb/A):"},{"$f":"A!E7","v":"Yield @ MERN (bu/A)"},"PFP","AEN","PNB","REN",{"$f":"A!E12","v":"Delta Yield (bu/A)"},{"$f":"A!E13","v":"Relative Yield (%)"},"QA","QB","QC","QPA","QPB","QPC","MA","MB","MC","LPA","LPB","LPC","SA","SB","SC","QR2","QPR2","MR2","LPR2","SR2"]
[{"$f":"A!B7","v":0},{"$f":"A!B8","v":0},{"$f":"A!B9","v":0},{"$f":"A!B10","v":0},{"$f":"A!B11","v":0},{"$f":"A!B12","v":0},{"$f":"A!B13","v":0},{"$f":"A!B14","v":0},{"$f":"A!B15","v":0},{"$f":"A!B16","v":0},{"$f":"A!B17","v":0},{"$f":"A!B18","v":0},{"$f":"A!B19","v":0},{"$f":"A!B20","v":0},{"$f":"A!B21","v":0},{"$f":"A!B22","v":0},{"$f":"A!B23","v":0},{"$f":"A!B24","v":0},{"$f":"A!B25","v":0},{"$f":"A!B26","v":0},{"$f":"A!B27","v":4},{"$f":"A!B28","v":0.5},{"$f":"A!B29","v":0.125},{"$f":"A!B30","v":0.65},{"$f":"A!B31","v":0.66600000000000004},{"$f":"A!B32","v":0},{"$f":"A!B33","v":0},{"$f":"A!B34","v":0},{"$f":"A!B35","v":0},{"$f":"A!B36","v":0},{"$f":"A!B37","v":0},{"$f":"A!B38","v":0},{"$f":"A!B39","v":0},{"$f":"A!B40","v":0},{"$f":"A!F6","v":188.66010026437084},{"$f":"A!F7","v":168.88919588507363},{"$f":"A!F8","v":0.89520357324313893},{"$f":"A!F9","v":0.68302641889471705},{"$f":"A!F10","v":0.58188232260804029},{"$f":"A!F11","v":0.66661737579814717},{"$f":"A!F12","v":128.85983267189147},{"$f":"A!F13","v":0.23701553556108765},{"$f":"A!G2","v":37.963117579006209},{"$f":"A!G3","v":1.1840651338980446},{"$f":"A!G4","v":-2.6191386982355948E-3},{"$f":"A!H2","v":38.095868700180077},{"$f":"A!H3","v":1.1790377369235758},{"$f":"A!H4","v":-2.5990970731378429E-3},{"$f":"A!I2","v":188.89754385871265},{"$f":"A!I3","v":-151},{"$f":"A!I4","v":-9.6666071438448672E-3},{"$f":"A!J2","v":43.720956789283242},{"$f":"A!J3","v":0.79844829470802292},{"$f":"A!J4","v":169.99984713439568},{"$f":"A!K2","v":40.28930003735644},{"$f":"A!K3","v":130.46065898838071},{"$f":"A!K4","v":204.14134109102901},{"$f":"A!G5","v":0.99739005912836309},{"$f":"A!H5","v":0.99726803353471094},{"$f":"A!I5","v":0.98989550984780417},{"$f":"A!J5","v":0.99735726383531742},{"$f":"A!K5","v":0.99917681755683629}]
[0,0,0,0,0,0,0,0,0,0,0,0,0,0,0,0,0,0,0,0,6,0.6,9.9999999999999992E-2,0.65,0.66600000000000004,0,0,0,0,0,0,0,0,0,170.38539689284809,177.96315441232005,1.044474219373609,0.6011285987474615,0.67890824259284588,0.58668707084962457,102.42353488122785,0.42446774884690813,72.727521248358059,1.0889706653938125,-2.7732541634254656E-3,72.933545088498477,1.0825138933864182,-2.742536036542341E-3,198.32574001294248,-129.22705643053197,-1.0453138882461405E-2,79.999852821337754,0.750002094154396,177.33332586052416,78.260426805058913,101.14488988222689,183.21750346259904,0.98927250995258742,0.98924526921339573,0.98324128674383426,0.98603907210464348,0.9908111904627166]